Workbook

Sheet GST-Monthwise
A1: Inv Date | B1: Inv Month | C1: Advertiser | D1: GST Nos | E1: Invoice number | F1: Final Amount | G1: Invoice amt | H1: IGST 18% | I1: CGST 9% | J1: SGST 9% | K1: Less 2% | L1: Amt Receivable
F2: =SUM(F4:F192) -> 7525240 | G2: =SUM(G4:G192) -> 6377322 | H2: =SUM(H4:H192) -> 1116689.9 | I2: =SUM(I4:I192) -> 15614.01 | J2: =SUM(J4:J192) -> 15614.01 | K2: =SUM(K4:K192) -> 127546.44 | L2: =SUM(L4:L192) -> 7397693.5
A3: 45748
A4: 30th Apr 2025 | B4: APR-2025 | C4: Bizvin Media Pvt Ltd | D4: 07AAKCB6085B1ZQ | E4: Bizvin-Media-014-Apr-2025 | F4: =SUM(G4:J4) -> 146615 | G4: 124250 | H4: =G4*18% -> 22365 | I4: 0 | J4: 0 | K4: =G4*2% -> 2485 | L4: =F4-K4 -> 144130
A5: 30th Apr 2025 | B5: APR-2025 | C5: Bizvin Media Pvt Ltd | D5: 07AAKCB6085B1ZQ | E5: Bizvin-Media-015-Apr-2025 | F5: =SUM(G5:J5) -> 3540 | G5: 3000 | H5: =G5*18% -> 540 | I5: 0 | J5: 0 | K5: =G5*2% -> 60 | L5: =F5-K5 -> 3480
A6: 30th Apr 2025 | B6: APR-2025 | C6: Bizvin Media Pvt Ltd | D6: 07AAKCB6085B1ZQ | E6: Bizvin-Media-016-Apr-2025 | F6: =SUM(G6:J6) -> 4814.4 | G6: 4080 | H6: =G6*18% -> 734.4 | I6: 0 | J6: 0 | K6: =G6*2% -> 81.6 | L6: =F6-K6 -> 4732.8
A7: 30th Apr 2025 | B7: APR-2025 | C7: Brands-In-Motion | D7: 07AAZFB9630N1ZJ | E7: Brands-In-Motion-006-Apr-2025 | F7: =SUM(G7:J7) -> 5900 | G7: 5000 | H7: =G7*18% -> 900 | I7: 0 | J7: 0 | K7: =G7*2% -> 100 | L7: =F7-K7 -> 5800
F8: =SUM(G8:J8) -> 0 | H8: =G8*18% -> 0 | I8: =G8*9% -> 0 | J8: =G8*9% -> 0 | K8: =G8*2% -> 0 | L8: =F8-K8 -> 0
A9: 45778
A10: 31st May 2025 | B10: MAY-2025 | C10: Frodoh Media | D10: 07AACCF9651M1Z5 | E10: Frodo-100-May-2025 | F10: =SUM(G10:J10) -> 202286.22 | G10: 171429 | H10: =G10*18% -> 30857.22 | I10: 0 | J10: 0 | K10: =G10*2% -> 3428.58 | L10: =F10-K10 -> 198857.64
A11: 31st May 2025 | B11: MAY-2025 | C11: Frodoh Media | D11: 07AACCF9651M1Z5 | E11: Frodo-101-May-2025 | F11: =SUM(G11:J11) -> 41135.98 | G11: 34861 | H11: =G11*18% -> 6274.98 | I11: 0 | J11: 0 | K11: =G11*2% -> 697.22 | L11: =F11-K11 -> 40438.76
A12: 31st May 2025 | B12: MAY-2025 | C12: Bizvin Media Pvt Ltd | D12: 07AAKCB6085B1ZQ | E12: Bizvin-Media-017-May-2025 | F12: =SUM(G12:J12) -> 10072.48 | G12: 8536 | H12: =G12*18% -> 1536.48 | I12: 0 | J12: 0 | K12: =G12*2% -> 170.72 | L12: =F12-K12 -> 9901.76
A13: 31st May 2025 | B13: MAY-2025 | C13: Bizvin Media Pvt Ltd | D13: 07AAKCB6085B1ZQ | E13: Bizvin-Media-018-May-2025 | F13: =SUM(G13:J13) -> 590 | G13: 500 | H13: =G13*18% -> 90 | I13: 0 | J13: 0 | K13: =G13*2% -> 10 | L13: =F13-K13 -> 580
A14: 31st May 2025 | B14: MAY-2025 | C14: Bizvin Media Pvt Ltd | D14: 07AAKCB6085B1ZQ | E14: Bizvin-Media-019-May-2025 | F14: =SUM(G14:J14) -> 3186 | G14: 2700 | H14: =G14*18% -> 486 | I14: 0 | J14: 0 | K14: =G14*2% -> 54 | L14: =F14-K14 -> 3132
A15: 31st May 2025 | B15: MAY-2025 | C15: Bizvin | D15: 07AANFB0437D1ZT | E15: Bizwin-392-May-2025 | F15: =SUM(G15:J15) -> 62304 | G15: 52800 | H15: =G15*18% -> 9504 | I15: 0 | J15: 0 | K15: =G15*2% -> 1056 | L15: =F15-K15 -> 61248
F16: =SUM(G16:J16) -> 0 | H16: =G16*18% -> 0 | I16: =G16*9% -> 0 | J16: =G16*9% -> 0 | K16: =G16*2% -> 0 | L16: =F16-K16 -> 0
A17: 45809
A18: 30th Jun 2025 | B18: JUNE-2025 | C18: Frodoh Media | D18: 07AACCF9651M1Z5 | E18: Frodo-102-June-2025 | F18: =SUM(G18:J18) -> 223283.14 | G18: 189223 | H18: =G18*18% -> 34060.14 | I18: 0 | J18: 0 | K18: =G18*2% -> 3784.46 | L18: =F18-K18 -> 219498.68
A19: 30th Jun 2025 | B19: JUNE-2025 | C19: Frodoh Media | D19: 07AACCF9651M1Z5 | E19: Frodo-103-June-2025 | F19: =SUM(G19:J19) -> 85817.86 | G19: 72727 | H19: =G19*18% -> 13090.86 | I19: 0 | J19: 0 | K19: =G19*2% -> 1454.54 | L19: =F19-K19 -> 84363.32
A20: 30th Jun 2025 | B20: JUNE-2025 | C20: Frodoh Media | D20: 07AACCF9651M1Z5 | E20: Frodo-104-June-2025 | F20: =SUM(G20:J20) -> 28320 | G20: 24000 | H20: =G20*18% -> 4320 | I20: 0 | J20: 0 | K20: =G20*2% -> 480 | L20: =F20-K20 -> 27840
A21: 30th Jun 2025 | B21: JUNE-2025 | C21: Frodoh Media | D21: 07AACCF9651M1Z5 | E21: Frodo-105-June-2025 | F21: =SUM(G21:J21) -> 14160 | G21: 12000 | H21: =G21*18% -> 2160 | I21: 0 | J21: 0 | K21: =G21*2% -> 240 | L21: =F21-K21 -> 13920
A22: 30th Jun 2025 | B22: JUNE-2025 | C22: Bizvin Media Pvt Ltd | D22: 07AAKCB6085B1ZQ | E22: Bizvin-Media-020-June-2025 | F22: =SUM(G22:J22) -> 16520 | G22: 14000 | H22: =G22*18% -> 2520 | I22: 0 | J22: 0 | K22: =G22*2% -> 280 | L22: =F22-K22 -> 16240
A23: 30th Jun 2025 | B23: JUNE-2025 | C23: Bizvin Media Pvt Ltd | D23: 07AAKCB6085B1ZQ | E23: Bizvin-Media-021-June-2025 | F23: =SUM(G23:J23) -> 38350 | G23: 32500 | H23: =G23*18% -> 5850 | I23: 0 | J23: 0 | K23: =G23*2% -> 650 | L23: =F23-K23 -> 37700
A24: 30th Jun 2025 | B24: JUNE-2025 | C24: Bizvin | D24: 07AANFB0437D1ZT | E24: Bizwin-393-June-2025 | F24: =SUM(G24:J24) -> 140100.22 | G24: 118729 | H24: =G24*18% -> 21371.22 | I24: 0 | J24: 0 | K24: =G24*2% -> 2374.58 | L24: =F24-K24 -> 137725.64
F25: =SUM(G25:J25) -> 0 | H25: =G25*18% -> 0 | I25: =G25*9% -> 0 | J25: =G25*9% -> 0 | K25: =G25*2% -> 0 | L25: =F25-K25 -> 0
A26: 45839
A27: 31st-Jul-2025 | B27: May-2025 | C27: Appmonitize | D27: 07AASCA3493N1ZW | E27: Appmontize-040-May-2025 | F27: =SUM(G27:J27) -> 201780 | G27: 171000 | H27: =G27*18% -> 30780 | I27: 0 | J27: 0 | K27: =G27*2% -> 3420 | L27: =F27-K27 -> 198360
A28: 31st-Jul-2025 | B28: Jul-2025 | C28: Appmonitize | D28: 07AASCA3493N1ZW | E28: Appmontize-041-Jul-2025 | F28: =SUM(G28:J28) -> 173318.4 | G28: 146880 | H28: =G28*18% -> 26438.4 | I28: 0 | J28: 0 | K28: =G28*2% -> 2937.6 | L28: =F28-K28 -> 170380.8
A29: 31st-Jul-2025 | B29: Jul-2025 | C29: Appmonitize | D29: 07AASCA3493N1ZW | E29: Appmontize-042-Jul-2025 | F29: =SUM(G29:J29) -> 331816 | G29: 281200 | H29: =G29*18% -> 50616 | I29: 0 | J29: 0 | K29: =G29*2% -> 5624 | L29: =F29-K29 -> 326192
A30: 31st-Jul-2025 | B30: Jul-2025 | C30: Frodoh Media | D30: 07AACCF9651M1Z5 | E30: Frodo-106-July-2025 | F30: =SUM(G30:J30) -> 570504.04 | G30: 483478 | H30: =G30*18% -> 87026.04 | I30: 0 | J30: 0 | K30: =G30*2% -> 9669.56 | L30: =F30-K30 -> 560834.48
A31: 31st-Jul-2025 | B31: Jul-2025 | C31: Bizvin | D31: 07AANFB0437D1ZT | E31: Bizwin-394-July-2025 | F31: =SUM(G31:J31) -> 1416 | G31: 1200 | H31: =G31*18% -> 216 | I31: 0 | J31: 0 | K31: =G31*2% -> 24 | L31: =F31-K31 -> 1392
A32: 31st-Jul-2025 | B32: Jul-2025 | C32: Bizvin Media Pvt Ltd | D32: 07AAKCB6085B1ZQ | E32: Bizvin-Media-022-July-2025 | F32: =SUM(G32:J32) -> 885 | G32: 750 | H32: =G32*18% -> 135 | I32: 0 | J32: 0 | K32: =G32*2% -> 15 | L32: =F32-K32 -> 870
A33: 31st-Jul-2025 | B33: Jul-2025 | C33: Bizvin Media Pvt Ltd | D33: 07AAKCB6085B1ZQ | E33: Bizvin-Media-023-July-2025 | F33: =SUM(G33:J33) -> 3422 | G33: 2900 | H33: =G33*18% -> 522 | I33: 0 | J33: 0 | K33: =G33*2% -> 58 | L33: =F33-K33 -> 3364
A34: 31st-Jul-2025 | B34: Jul-2025 | C34: Bizvin Media Pvt Ltd | D34: 07AAKCB6085B1ZQ | E34: Bizvin-Media-024-July-2025 | F34: =SUM(G34:J34) -> 4041.5 | G34: 3425 | H34: =G34*18% -> 616.5 | I34: 0 | J34: 0 | K34: =G34*2% -> 68.5 | L34: =F34-K34 -> 3973
A35: 31st-Jul-2025 | B35: Jul-2025 | C35: Bizvin Media Pvt Ltd | D35: 07AAKCB6085B1ZQ | E35: Bizvin-Media-025-July-2025 | F35: =SUM(G35:J35) -> 40710 | G35: 34500 | H35: =G35*18% -> 6210 | I35: 0 | J35: 0 | K35: =G35*2% -> 690 | L35: =F35-K35 -> 40020
F36: =SUM(G36:J36) -> 0 | H36: =G36*18% -> 0 | I36: =G36*9% -> 0 | J36: =G36*9% -> 0 | K36: =G36*2% -> 0 | L36: =F36-K36 -> 0
A37: 45870
A38: 31st Aug 2025 | B38: Aug-2025 | C38: Frodoh Media | D38: 07AACCF9651M1Z5 | E38: Frodo-107-Aug-2025 | F38: =SUM(G38:J38) -> 7552 | G38: 6400 | H38: =G38*18% -> 1152 | I38: 0 | J38: 0 | K38: =G38*2% -> 128 | L38: =F38-K38 -> 7424
A39: 31st Aug 2025 | B39: Aug-2025 | C39: Frodoh Media | D39: 07AACCF9651M1Z5 | E39: Frodo-108-Aug-2025 | F39: =SUM(G39:J39) -> 353834.8 | G39: 299860 | H39: =G39*18% -> 53974.8 | I39: 0 | J39: 0 | K39: =G39*2% -> 5997.2 | L39: =F39-K39 -> 347837.6
A40: 31st Aug 2025 | B40: Aug-2025 | C40: Bizvin | D40: 07AANFB0437D1ZT | E40: Bizwin-395-Aug-2025 | F40: =SUM(G40:J40) -> 434277.76 | G40: 368032 | H40: =G40*18% -> 66245.76 | I40: 0 | J40: 0 | K40: =G40*2% -> 7360.64 | L40: =F40-K40 -> 426917.12
...

Sheet HOME
A1: ADVERTISERS | B1: Turnover | C1: Amt Receivable | D1: Amt Received | E1: Amt Pending
J2: GST + TURNOVER
A3: Brands-In-Motion | B3: ='Brands-In-Motion'!F1 -> 184146.08 | C3: ='Brands-In-Motion'!L1 -> 181024.96 | D3: ='Brands-In-Motion'!M1 -> 184146 | E3: =C3-D3 -> -3121.04 | G3: Total Turnover | H3: =SUM(B3:B71) -> 7525240 | J3: Total Turnover | L3: ='GST-Monthwise'!F2 -> 7525240 | O3: =H3-L3 -> 0
A4: Affle | B4: ='Affle International'!F2 -> 0 | C4: ='Affle International'!K2 -> 0 | D4: ='Affle International'!L2 -> 0 | E4: =C4-D4 -> 0
A5: Appmontize | B5: =Appmontize!F1 -> 1444222.1 | C5: =Appmontize!L1 -> 1419743.7 | D5: =Appmontize!M1 -> 368740 | E5: =C5-D5 -> 1051003.7 | G5: Amt Receivable | H5: =SUM(C3:C73) -> 7397693.5 | J5: Total I-GST | L5: ='GST-Monthwise'!H2 -> 1116689.9
A6: Be-Digitech | B6: ='Be-Digitech'!E24 -> 0 | C6: ='Be-Digitech'!K24 -> 0 | D6: ='Be-Digitech'!L24 -> 0 | E6: =C6-D6 -> 0
A7: Bizwin | B7: =Bizvin!F1 -> 914791.46 | C7: =Bizvin!L1 -> 899286.52 | D7: =Bizvin!M1 -> 637026 | E7: =C7-D7 -> 262260.52 | G7: Amt Received | H7: =SUM(D3:D73) -> 6087549 | J7: Total C-GST | L7: ='GST-Monthwise'!I2 -> 15614.01
A8: Bizvin Media | B8: ='Bizvin Media'!F1 -> 1248867.2 | C8: ='Bizvin Media'!L1 -> 1227699.9 | D8: ='Bizvin Media'!M1 -> 1227698 | E8: =C8-D8 -> 1.92
A9: BIM-DIGITAL | B9: ='BIM-DIGITAL'!F1 -> 266875.88 | C9: ='BIM-DIGITAL'!L1 -> 262352.56 | D9: ='BIM-DIGITAL'!M1 -> 262354 | E9: =C9-D9 -> -1.44 | G9: Amt Pending | H9: =SUM(E3:E73) -> 1310144.5 | J9: Total S-GST | L9: ='GST-Monthwise'!J2 -> 15614.01
A10: DialStar Digital | B10: ='Dial-Star'!F1 -> 204717.02 | C10: ='Dial-Star'!M1 -> 201247.24 | D10: ='Dial-Star'!N1 -> 201247 | E10: =C10-D10 -> 0.24
A11: FRODO Media | B11: ='FRODO Media'!F1 -> 3261620.3 | C11: ='FRODO Media'!L1 -> 3206338.6 | D11: ='FRODO Media'!M1 -> 3206338 | E11: =C11-D11 -> 0.6 | J11: Amt Receivable | L11: ='GST-Monthwise'!L2 -> 7397693.5
A12: Quanta-Fi | B12: ='Quanta-Fi'!E18 -> 0 | C12: ='Quanta-Fi'!K18 -> 0 | D12: ='Quanta-Fi'!L18 -> 0 | E12: =C12-D12 -> 0
A13: Silver-Push | B13: ='Silver-Push'!F77 -> 0 | C13: ='Silver-Push'!L77 -> 0 | D13: ='Silver-Push'!M77 -> 0 | E13: =C13-D13 -> 0
A14: SVG+DGM | B14: ='SVG+DGM'!F28 -> 0 | C14: ='SVG+DGM'!L28 -> 0 | D14: ='SVG+DGM'!M28 -> 0 | E14: =C14-D14 -> 0 | J14: GST-MONTHWISE
A15: THOUGHTPIXELS | B15: =THOUGHTPIXELS!F1 -> 0 | C15: =THOUGHTPIXELS!M1 -> 0 | D15: =THOUGHTPIXELS!N1 -> 0 | E15: =C15-D15 -> 0
A16: SVG-INDIA | B16: ='SVG-INDIA'!E18 -> 0 | C16: ='SVG-INDIA'!K18 -> 0 | D16: ='SVG-INDIA'!L18 -> 0 | E16: =C16-D16 -> 0 | G16: UPDATED - 3rd Sep 2026
A17: XAPADS | B17: =XAPADS!F1 -> 0 | C17: =XAPADS!L1 -> 0 | D17: =XAPADS!M1 -> 0 | E17: =C17-D17 -> 0
G18: Click on the Advertiser Name

Sheet Dial-Star
A1: HOME | C1: GST - Monthwise | F1: =SUM(F2:F120) -> 204717.02 | G1: =SUM(G2:G120) -> 173489 | H1: =SUM(H2:H71) -> 15614.01 | L1: =SUM(L2:L120) -> 3469.78 | M1: =SUM(M2:M120) -> 201247.24 | N1: =SUM(N4:N126) -> 201247
A3: Inv Date | B3: RO No | C3: Campaigns | D3: Adunit | E3: Invoice number | F3: Final Amount | G3: Invoice amt | H3: CGST 9% | I3: SGST 9% | J3: Cam End date | K3: Due date | L3: Less 2% | M3: Amt Receivable | N3: Amount Received | O3: Amt Received Date | P3: Status | Q3: Cheque No
A4: 2nd Mar 2026 | C4: HDFC-Life | D4: CPV | E4: Dialstar-073-Feb-2026 | F4: =SUM(G4:I4) -> 204717.02 | G4: 173489 | H4: =G4*9% -> 15614.01 | I4: =G4*9% -> 15614.01 | L4: =G4*2% -> 3469.78 | M4: =F4-L4 -> 201247.24 | N4: 201247 | O4: 20th May 2026 | P4: CLEAR | Q4: NEFT-PNB
F5: =SUM(G5:I5) -> 0 | H5: =G5*9% -> 0 | I5: =G5*9% -> 0 | L5: =G5*2% -> 0 | M5: =F5-L5 -> 0
F6: =SUM(G6:I6) -> 0 | H6: =G6*9% -> 0 | I6: =G6*9% -> 0 | L6: =G6*2% -> 0 | M6: =F6-L6 -> 0
F7: =SUM(G7:I7) -> 0 | H7: =G7*9% -> 0 | I7: =G7*9% -> 0 | L7: =G7*2% -> 0 | M7: =F7-L7 -> 0
F8: =SUM(G8:I8) -> 0 | H8: =G8*9% -> 0 | I8: =G8*9% -> 0 | L8: =G8*2% -> 0 | M8: =F8-L8 -> 0
F9: =SUM(G9:I9) -> 0 | H9: =G9*9% -> 0 | I9: =G9*9% -> 0 | L9: =G9*2% -> 0 | M9: =F9-L9 -> 0
F10: =SUM(G10:I10) -> 0 | H10: =G10*9% -> 0 | I10: =G10*9% -> 0 | L10: =G10*2% -> 0 | M10: =F10-L10 -> 0
F11: =SUM(G11:I11) -> 0 | H11: =G11*9% -> 0 | I11: =G11*9% -> 0 | L11: =G11*2% -> 0 | M11: =F11-L11 -> 0
F12: =SUM(G12:I12) -> 0 | H12: =G12*9% -> 0 | I12: =G12*9% -> 0 | L12: =G12*2% -> 0 | M12: =F12-L12 -> 0
F13: =SUM(G13:I13) -> 0 | H13: =G13*9% -> 0 | I13: =G13*9% -> 0 | L13: =G13*2% -> 0 | M13: =F13-L13 -> 0
F14: =SUM(G14:I14) -> 0 | H14: =G14*9% -> 0 | I14: =G14*9% -> 0 | L14: =G14*2% -> 0 | M14: =F14-L14 -> 0
F15: =SUM(G15:I15) -> 0 | H15: =G15*9% -> 0 | I15: =G15*9% -> 0 | L15: =G15*2% -> 0 | M15: =F15-L15 -> 0
F16: =SUM(G16:I16) -> 0 | H16: =G16*9% -> 0 | I16: =G16*9% -> 0 | L16: =G16*2% -> 0 | M16: =F16-L16 -> 0
... F76: =SUM(G76:I76) -> 0 | H76: =G76*9% -> 0 | I76: =G76*9% -> 0 | L76: =G76*2% -> 0 | M76: =F76-L76 -> 0

Sheet Bizvin
A1: HOME | C1: GST - Monthwise | F1: =SUM(F2:F75) -> 914791.46 | G1: =SUM(G2:G75) -> 775247 | H1: =SUM(H2:H75) -> 139544.46 | K1: =SUM(K2:K75) -> 15504.94 | L1: =SUM(L2:L75) -> 899286.52 | M1: =SUM(M2:M75) -> 637026
A2: Inv Date | B2: RO No | C2: Campaigns | D2: Adunit | E2: Invoice number | F2: Final Amount | G2: Invoice amt | H2: IGST 18% | I2: Cam End date | J2: Due date | K2: Less 2% | L2: Amt Receivable | M2: Amount Received | N2: Amt Received Date | O2: Status | P2: Cheque No
A3: 31st May 2025 | C3: Exxon-Mobil-Plastasia | D3: CPM | E3: Bizwin-392-May-2025 | F3: =SUM(G3:H3) -> 62304 | G3: 52800 | H3: =G3*18% -> 9504 | K3: =G3*2% -> 1056 | L3: =F3-K3 -> 61248 | M3: 61248 | N3: 1st Oct 2025 | O3: CLEAR | P3: NEFT-KOTAK
A4: 30th June 2025 | C4: Exxon-Machine-XT | D4: CPM | E4: Bizwin-393-June-2025 | F4: =SUM(G4:H4) -> 140100.22 | G4: 118729 | H4: =G4*18% -> 21371.22 | K4: =G4*2% -> 2374.58 | L4: =F4-K4 -> 137725.64 | M4: 137725 | N4: 1st Oct 2025 | O4: CLEAR | P4: NEFT-KOTAK
A5: 31st-Jul-2025 | C5: HP-Printer | D5: CPV | E5: Bizwin-394-July-2025 | F5: =SUM(G5:H5) -> 1416 | G5: 1200 | H5: =G5*18% -> 216 | K5: =G5*2% -> 24 | L5: =F5-K5 -> 1392 | M5: 1392 | N5: 17th Dec 2025 | O5: CLEAR | P5: NEFT-KOTAK
A6: 31st Aug 2025 | C6: Exxon-Machine-Shop | D6: CPM | E6: Bizwin-395-Aug-2025 | F6: =SUM(G6:H6) -> 434277.76 | G6: 368032 | H6: =G6*18% -> 66245.76 | K6: =G6*2% -> 7360.64 | L6: =F6-K6 -> 426917.12 | M6: 426917 | N6: 17th Dec 2025 | O6: CLEAR | P6: NEFT-KOTAK
A7: 31st Aug 2025 | C7: Exxon-Machine-Shop-Tender247 | D7: CPV | E7: Bizwin-396-Aug-2025 | F7: =SUM(G7:H7) -> 5900 | G7: 5000 | H7: =G7*18% -> 900 | K7: =G7*2% -> 100 | L7: =F7-K7 -> 5800 | M7: 5800 | N7: 17th Dec 2025 | O7: CLEAR | P7: NEFT-KOTAK
A8: 30th Sep 2025 | C8: Amex | D8: CPV | E8: Bizwin-397-Sep-2025 | F8: =SUM(G8:H8) -> 1062 | G8: 900 | H8: =G8*18% -> 162 | K8: =G8*2% -> 18 | L8: =F8-K8 -> 1044 | M8: 1044 | N8: 17th Dec 2025 | O8: CLEAR | P8: NEFT-KOTAK
A9: 31st Oct 2025 | C9: HP | D9: CPV | E9: Bizwin-398-Oct-2025 | F9: =SUM(G9:H9) -> 2950 | G9: 2500 | H9: =G9*18% -> 450 | K9: =G9*2% -> 50 | L9: =F9-K9 -> 2900 | M9: 2900 | N9: 17th Dec 2025 | O9: CLEAR | P9: NEFT-KOTAK
A10: 30th Nov 2025 | C10: Exxon-Mobil-Services | D10: CPM | E10: Bizwin-399-Nov-2025 | F10: =SUM(G10:H10) -> 253512.38 | G10: 214841 | H10: =G10*18% -> 38671.38 | K10: =G10*2% -> 4296.82 | L10: =F10-K10 -> 249215.56
A11: 30th Nov 2025 | C11: Kotak-Solitaire | D11: CPV | E11: Bizwin-400-Nov-2025 | F11: =SUM(G11:H11) -> 9670.1 | G11: 8195 | H11: =G11*18% -> 1475.1 | K11: =G11*2% -> 163.9 | L11: =F11-K11 -> 9506.2
A12: 30th Nov 2025 | C12: HP | D12: CPV | E12: Bizwin-401-Nov-2025 | F12: =SUM(G12:H12) -> 2950 | G12: 2500 | H12: =G12*18% -> 450 | K12: =G12*2% -> 50 | L12: =F12-K12 -> 2900
A13: 31st Mar 2026 | C13: HP-Printer | D13: CPV | E13: Bizwin-402-Mar-2025 | F13: =SUM(G13:H13) -> 649 | G13: 550 | H13: =G13*18% -> 99 | K13: =G13*2% -> 11 | L13: =F13-K13 -> 638
F14: =SUM(G14:H14) -> 0 | H14: =G14*18% -> 0 | K14: =G14*2% -> 0 | L14: =F14-K14 -> 0
F15: =SUM(G15:H15) -> 0 | H15: =G15*18% -> 0 | K15: =G15*2% -> 0 | L15: =F15-K15 -> 0
F16: =SUM(G16:H16) -> 0 | H16: =G16*18% -> 0 | K16: =G16*2% -> 0 | L16: =F16-K16 -> 0
F17: =SUM(G17:H17) -> 0 | H17: =G17*18% -> 0 | K17: =G17*2% -> 0 | L17: =F17-K17 -> 0
F18: =SUM(G18:H18) -> 0 | H18: =G18*18% -> 0 | K18: =G18*2% -> 0 | L18: =F18-K18 -> 0
F19: =SUM(G19:H19) -> 0 | H19: =G19*18% -> 0 | K19: =G19*2% -> 0 | L19: =F19-K19 -> 0
F20: =SUM(G20:H20) -> 0 | H20: =G20*18% -> 0 | K20: =G20*2% -> 0 | L20: =F20-K20 -> 0
F21: =SUM(G21:H21) -> 0 | H21: =G21*18% -> 0 | K21: =G21*2% -> 0 | L21: =F21-K21 -> 0
F22: =SUM(G22:H22) -> 0 | H22: =G22*18% -> 0 | K22: =G22*2% -> 0 | L22: =F22-K22 -> 0
F23: =SUM(G23:H23) -> 0 | H23: =G23*18% -> 0 | K23: =G23*2% -> 0 | L23: =F23-K23 -> 0
F24: =SUM(G24:H24) -> 0 | H24: =G24*18% -> 0 | K24: =G24*2% -> 0 | L24: =F24-K24 -> 0
F25: =SUM(G25:H25) -> 0 | H25: =G25*18% -> 0 | K25: =G25*2% -> 0 | L25: =F25-K25 -> 0
... F75: =SUM(G75:H75) -> 0 | H75: =G75*18% -> 0 | K75: =G75*2% -> 0 | L75: =F75-K75 -> 0
E77: HOME | F77: =SUM(F2:F75) -> 914791.46 | G77: =SUM(G2:G75) -> 775247 | H77: =SUM(H2:H75) -> 139544.46 | K77: =SUM(K2:K75) -> 15504.94 | L77: =SUM(L2:L75) -> 899286.52 | M77: =SUM(M2:M75) -> 637026
E78: Monthwise

Sheet Bizvin Media
A1: HOME | C1: GST - Monthwise | F1: =SUM(F2:F77) -> 1248867.2 | G1: =SUM(G2:G77) -> 1058362 | H1: =SUM(H2:H77) -> 190505.16 | K1: =SUM(K2:K77) -> 21167.24 | L1: =SUM(L2:L77) -> 1227699.9 | M1: =SUM(M2:M77) -> 1227698
A2: Inv Date | B2: RO No | C2: Campaigns | D2: Adunit | E2: Invoice number | F2: Final Amount | G2: Invoice amt | H2: IGST 18% | I2: Cam End date | J2: Due date | K2: Less 2% | L2: Amt Receivable | M2: Amount Received | N2: Amt Received Date | O2: Status | P2: Cheque No
A3: 30th Apr 2025 | C3: Zoho | D3: CPM | E3: Bizvin-Media-014-Apr-2025 | F3: =SUM(G3:H3) -> 146615 | G3: 124250 | H3: =G3*18% -> 22365 | K3: =G3*2% -> 2485 | L3: =F3-K3 -> 144130 | M3: 144130 | N3: 28th May 2025 | O3: CLEAR | P3: NEFT-PNB
A4: 30th Apr 2025 | C4: Zoho | D4: CPV | E4: Bizvin-Media-015-Apr-2025 | F4: =SUM(G4:H4) -> 3540 | G4: 3000 | H4: =G4*18% -> 540 | K4: =G4*2% -> 60 | L4: =F4-K4 -> 3480 | O4: CLEAR | P4: NEFT-PNB
A5: 30th Apr 2025 | C5: Acer | D5: CPV | E5: Bizvin-Media-016-Apr-2025 | F5: =SUM(G5:H5) -> 4814.4 | G5: 4080 | H5: =G5*18% -> 734.4 | K5: =G5*2% -> 81.6 | L5: =F5-K5 -> 4732.8 | O5: CLEAR | P5: NEFT-PNB
A6: 31st May 2025 | C6: Zoho | D6: CPM | E6: Bizvin-Media-017-May-2025 | F6: =SUM(G6:H6) -> 10072.48 | G6: 8536 | H6: =G6*18% -> 1536.48 | K6: =G6*2% -> 170.72 | L6: =F6-K6 -> 9901.76 | O6: CLEAR | P6: NEFT-PNB
A7: 31st May 2025 | C7: Zoho | D7: CPV | E7: Bizvin-Media-018-May-2025 | F7: =SUM(G7:H7) -> 590 | G7: 500 | H7: =G7*18% -> 90 | K7: =G7*2% -> 10 | L7: =F7-K7 -> 580 | O7: CLEAR | P7: NEFT-PNB
A8: 31st May 2025 | C8: Crayon | D8: CPV | E8: Bizvin-Media-019-May-2025 | F8: =SUM(G8:H8) -> 3186 | G8: 2700 | H8: =G8*18% -> 486 | K8: =G8*2% -> 54 | L8: =F8-K8 -> 3132 | M8: 21827 | N8: 17th Jun 2025 | O8: CLEAR | P8: NEFT-PNB
A9: 30th June 2025 | C9: Zoho | D9: CPM | E9: Bizvin-Media-020-June-2025 | F9: =SUM(G9:H9) -> 16520 | G9: 14000 | H9: =G9*18% -> 2520 | K9: =G9*2% -> 280 | L9: =F9-K9 -> 16240 | M9: 16240 | N9: 26th Aug 2025 | O9: CLEAR | P9: NEFT-PNB
A10: 30th June 2025 | C10: MacBook | D10: CPV | E10: Bizvin-Media-021-June-2025 | F10: =SUM(G10:H10) -> 38350 | G10: 32500 | H10: =G10*18% -> 5850 | K10: =G10*2% -> 650 | L10: =F10-K10 -> 37700 | M10: 37700 | N10: 14th Oct 2025 | O10: CLEAR | P10: NEFT-PNB
A11: 31st-Jul-2025 | C11: Crayon | D11: CPV | E11: Bizvin-Media-022-July-2025 | F11: =SUM(G11:H11) -> 885 | G11: 750 | H11: =G11*18% -> 135 | K11: =G11*2% -> 15 | L11: =F11-K11 -> 870 | M11: 870 | N11: 26th Aug 2025 | O11: CLEAR | P11: NEFT-PNB
A12: 31st-Jul-2025 | C12: Intel V Pro Q2 | D12: CPV | E12: Bizvin-Media-023-July-2025 | F12: =SUM(G12:H12) -> 3422 | G12: 2900 | H12: =G12*18% -> 522 | K12: =G12*2% -> 58 | L12: =F12-K12 -> 3364 | M12: 3364 | N12: 26th Aug 2025 | O12: CLEAR | P12: NEFT-PNB
A13: 31st-Jul-2025 | C13: Intel V Pro | D13: CPV | E13: Bizvin-Media-024-July-2025 | F13: =SUM(G13:H13) -> 4041.5 | G13: 3425 | H13: =G13*18% -> 616.5 | K13: =G13*2% -> 68.5 | L13: =F13-K13 -> 3973 | M13: 3973 | N13: 26th Aug 2025 | O13: CLEAR | P13: NEFT-PNB
A14: 31st-Jul-2025 | C14: MacBook BTS | D14: CPV | E14: Bizvin-Media-025-July-2025 | F14: =SUM(G14:H14) -> 40710 | G14: 34500 | H14: =G14*18% -> 6210 | K14: =G14*2% -> 690 | L14: =F14-K14 -> 40020 | M14: 40020 | N14: 3rd Mar 2026 | O14: CLEAR | P14: NEFT-PNB
A15: 31st Aug 2025 | C15: Apple-MacBook-Mini | D15: CPV | E15: Bizvin-Media-026-Aug-2025 | F15: =SUM(G15:H15) -> 20650 | G15: 17500 | H15: =G15*18% -> 3150 | K15: =G15*2% -> 350 | L15: =F15-K15 -> 20300 | M15: 20300 | N15: 3rd Mar 2026 | O15: CLEAR | P15: NEFT-PNB
A16: 31st Aug 2025 | C16: Crayon | D16: CPV | E16: Bizvin-Media-027-Aug-2025 | F16: =SUM(G16:H16) -> 2655 | G16: 2250 | H16: =G16*18% -> 405 | K16: =G16*2% -> 45 | L16: =F16-K16 -> 2610 | M16: 2610 | N16: 3rd Mar 2026 | O16: CLEAR | P16: NEFT-PNB
A17: 30th Sep 2025 | C17: Crayon | D17: CPV | E17: Bizvin-Media-028-Sep-2025 | F17: =SUM(G17:H17) -> 2507.5 | G17: 2125 | H17: =G17*18% -> 382.5 | K17: =G17*2% -> 42.5 | L17: =F17-K17 -> 2465 | M17: 2465 | N17: 3rd Mar 2026 | O17: CLEAR | P17: NEFT-PNB
A18: 31st Oct 2025 | C18: SE-Ziego | D18: CPC | E18: Bizvin-Media-029-Oct-2025 | F18: =SUM(G18:H18) -> 5900 | G18: 5000 | H18: =G18*18% -> 900 | K18: =G18*2% -> 100 | L18: =F18-K18 -> 5800 | M18: 5800 | N18: 3rd Mar 2026 | O18: CLEAR | P18: NEFT-PNB
A19: 31st Oct 2025 | C19: Crayon | D19: CPV | E19: Bizvin-Media-030-Oct-2025 | F19: =SUM(G19:H19) -> 2360 | G19: 2000 | H19: =G19*18% -> 360 | K19: =G19*2% -> 40 | L19: =F19-K19 -> 2320 | M19: 2320 | N19: 3rd Mar 2026 | O19: CLEAR | P19: NEFT-PNB
... A26: 31st Mar 2026 | C26: WGC | D26: CPM | E26: Bizvin-Media-037-Mar-2026 | F26: =SUM(G26:H26) -> 151206.38 | G26: 128141 | H26: =G26*18% -> 23065.38 | K26: =G26*2% -> 2562.82 | L26: =F26-K26 -> 148643.56 | M26: 148643 | N26: 27th Aug 2026 | O26: CLEAR | P26: NEFT-PNB
F27: =SUM(G27:H27) -> 0 | H27: =G27*18% -> 0 | K27: =G27*2% -> 0 | L27: =F27-K27 -> 0
F28: =SUM(G28:H28) -> 0 | H28: =G28*18% -> 0 | K28: =G28*2% -> 0 | L28: =F28-K28 -> 0
F29: =SUM(G29:H29) -> 0 | H29: =G29*18% -> 0 | K29: =G29*2% -> 0 | L29: =F29-K29 -> 0
F30: =SUM(G30:H30) -> 0 | H30: =G30*18% -> 0 | K30: =G30*2% -> 0 | L30: =F30-K30 -> 0
F31: =SUM(G31:H31) -> 0 | H31: =G31*18% -> 0 | K31: =G31*2% -> 0 | L31: =F31-K31 -> 0
F32: =SUM(G32:H32) -> 0 | H32: =G32*18% -> 0 | K32: =G32*2% -> 0 | L32: =F32-K32 -> 0
F33: =SUM(G33:H33) -> 0 | H33: =G33*18% -> 0 | K33: =G33*2% -> 0 | L33: =F33-K33 -> 0
F34: =SUM(G34:H34) -> 0 | H34: =G34*18% -> 0 | K34: =G34*2% -> 0 | L34: =F34-K34 -> 0
F35: =SUM(G35:H35) -> 0 | H35: =G35*18% -> 0 | K35: =G35*2% -> 0 | L35: =F35-K35 -> 0
F36: =SUM(G36:H36) -> 0 | H36: =G36*18% -> 0 | K36: =G36*2% -> 0 | L36: =F36-K36 -> 0
F37: =SUM(G37:H37) -> 0 | H37: =G37*18% -> 0 | K37: =G37*2% -> 0 | L37: =F37-K37 -> 0
F38: =SUM(G38:H38) -> 0 | H38: =G38*18% -> 0 | K38: =G38*2% -> 0 | L38: =F38-K38 -> 0
... F77: =SUM(G77:H77) -> 0 | H77: =G77*18% -> 0 | K77: =G77*2% -> 0 | L77: =F77-K77 -> 0
E79: HOME | F79: =SUM(F2:F77) -> 1248867.2 | G79: =SUM(G2:G77) -> 1058362 | H79: =SUM(H2:H77) -> 190505.16 | K79: =SUM(K2:K77) -> 21167.24 | L79: =SUM(L2:L77) -> 1227699.9 | M79: =SUM(M2:M77) -> 1227698
E80: Monthwise

Sheet BIM-DIGITAL
A1: HOME | C1: GST - Monthwise | F1: =SUM(F2:F77) -> 266875.88 | G1: =SUM(G2:G77) -> 226166 | H1: =SUM(H2:H77) -> 40709.88 | K1: =SUM(K2:K77) -> 4523.32 | L1: =SUM(L2:L77) -> 262352.56 | M1: =SUM(M2:M77) -> 262354
A2: Inv Date | B2: RO No | C2: Campaigns | D2: Adunit | E2: Invoice number | F2: Final Amount | G2: Invoice amt | H2: IGST 18% | I2: Cam End date | J2: Due date | K2: Less 2% | L2: Amt Receivable | M2: Amount Received | N2: Amt Received Date | O2: Status | P2: Cheque No
A3: 31st Mar 2026 | C3: Intel-Educators | D3: CPV | E3: BIM-Digital-001-Mar-2026 | F3: =SUM(G3:H3) -> 27293.4 | G3: 23130 | H3: =G3*18% -> 4163.4 | K3: =G3*2% -> 462.6 | L3: =F3-K3 -> 26830.8 | M3: 26831 | N3: 27th Aug 2026 | O3: CLEAR | P3: NEFT-PNB
A4: 31st Mar 2026 | C4: Apple | D4: CPV | E4: BIM-Digital-002-Mar-2026 | F4: =SUM(G4:H4) -> 32450 | G4: 27500 | H4: =G4*18% -> 4950 | K4: =G4*2% -> 550 | L4: =F4-K4 -> 31900 | M4: 31900 | N4: 27th Aug 2026 | O4: CLEAR | P4: NEFT-PNB
A5: 31st Mar 2026 | C5: Lenovo | D5: CPM | E5: BIM-Digital-003-Mar-2026 | F5: =SUM(G5:H5) -> 207132.48 | G5: 175536 | H5: =G5*18% -> 31596.48 | K5: =G5*2% -> 3510.72 | L5: =F5-K5 -> 203621.76 | M5: 203623 | N5: 27th Aug 2026 | O5: CLEAR | P5: NEFT-PNB
F6: =SUM(G6:H6) -> 0 | H6: =G6*18% -> 0 | K6: =G6*2% -> 0 | L6: =F6-K6 -> 0
F7: =SUM(G7:H7) -> 0 | H7: =G7*18% -> 0 | K7: =G7*2% -> 0 | L7: =F7-K7 -> 0
F8: =SUM(G8:H8) -> 0 | H8: =G8*18% -> 0 | K8: =G8*2% -> 0 | L8: =F8-K8 -> 0
F9: =SUM(G9:H9) -> 0 | H9: =G9*18% -> 0 | K9: =G9*2% -> 0 | L9: =F9-K9 -> 0
F10: =SUM(G10:H10) -> 0 | H10: =G10*18% -> 0 | K10: =G10*2% -> 0 | L10: =F10-K10 -> 0
F11: =SUM(G11:H11) -> 0 | H11: =G11*18% -> 0 | K11: =G11*2% -> 0 | L11: =F11-K11 -> 0
F12: =SUM(G12:H12) -> 0 | H12: =G12*18% -> 0 | K12: =G12*2% -> 0 | L12: =F12-K12 -> 0
F13: =SUM(G13:H13) -> 0 | H13: =G13*18% -> 0 | K13: =G13*2% -> 0 | L13: =F13-K13 -> 0
F14: =SUM(G14:H14) -> 0 | H14: =G14*18% -> 0 | K14: =G14*2% -> 0 | L14: =F14-K14 -> 0
F15: =SUM(G15:H15) -> 0 | H15: =G15*18% -> 0 | K15: =G15*2% -> 0 | L15: =F15-K15 -> 0
F16: =SUM(G16:H16) -> 0 | H16: =G16*18% -> 0 | K16: =G16*2% -> 0 | L16: =F16-K16 -> 0
F17: =SUM(G17:H17) -> 0 | H17: =G17*18% -> 0 | K17: =G17*2% -> 0 | L17: =F17-K17 -> 0
... F77: =SUM(G77:H77) -> 0 | H77: =G77*18% -> 0 | K77: =G77*2% -> 0 | L77: =F77-K77 -> 0
E79: HOME | F79: =SUM(F2:F77) -> 266875.88 | G79: =SUM(G2:G77) -> 226166 | H79: =SUM(H2:H77) -> 40709.88 | K79: =SUM(K2:K77) -> 4523.32 | L79: =SUM(L2:L77) -> 262352.56 | M79: =SUM(M2:M77) -> 262354
E80: Monthwise

Sheet FRODO Media
A1: HOME | C1: GST - Monthwise | F1: =SUM(F2:F120) -> 3261620.3 | G1: =SUM(G2:G120) -> 2764085 | H1: =SUM(H2:H71) -> 497535.3 | K1: =SUM(K2:K120) -> 55281.7 | L1: =SUM(L2:L120) -> 3206338.6 | M1: =SUM(M4:M126) -> 3206338
A3: Inv Date | B3: RO No | C3: Campaigns | D3: Adunit | E3: Invoice number | F3: Final Amount | G3: Invoice amt | H3: IGST 18% | I3: Cam End date | J3: Due date | K3: Less 2% | L3: Amt Receivable | M3: Amount Received | N3: Amt Received Date | O3: Status | P3: Cheque No
A4: 31st May 2025 | C4: Lenskart | D4: CPM | E4: Frodo-100-May-2025 | F4: =SUM(G4:H4) -> 202286.22 | G4: 171429 | H4: =G4*18% -> 30857.22 | K4: =G4*2% -> 3428.58 | L4: =F4-K4 -> 198857.64
A5: 31st May 2025 | C5: Tata Motors | D5: CPV | E5: Frodo-101-May-2025 | F5: =SUM(G5:H5) -> 41135.98 | G5: 34861 | H5: =G5*18% -> 6274.98 | K5: =G5*2% -> 697.22 | L5: =F5-K5 -> 40438.76
A6: 30th Jun 2025 | C6: AMFI | D6: CPM | E6: Frodo-102-June-2025 | F6: =SUM(G6:H6) -> 223283.14 | G6: 189223 | H6: =G6*18% -> 34060.14 | K6: =G6*2% -> 3784.46 | L6: =F6-K6 -> 219498.68
A7: 30th Jun 2025 | C7: Jeep Wrangler | D7: CPM | E7: Frodo-103-June-2025 | F7: =SUM(G7:H7) -> 85817.86 | G7: 72727 | H7: =G7*18% -> 13090.86 | K7: =G7*2% -> 1454.54 | L7: =F7-K7 -> 84363.32
A8: 30th Jun 2025 | C8: Tata Motors | D8: CPV | E8: Frodo-104-June-2025 | F8: =SUM(G8:H8) -> 28320 | G8: 24000 | H8: =G8*18% -> 4320 | K8: =G8*2% -> 480 | L8: =F8-K8 -> 27840
A9: 30th Jun 2025 | C9: SBI | D9: CPV | E9: Frodo-105-June-2025 | F9: =SUM(G9:H9) -> 14160 | G9: 12000 | H9: =G9*18% -> 2160 | K9: =G9*2% -> 240 | L9: =F9-K9 -> 13920 | M9: 584918 | N9: 20th Nov 2025 | O9: CLEAR | P9: NEFT-PNB
A10: 31st-Jul-2025 | C10: Spotify | D10: CPM | E10: Frodo-106-July-2025 | F10: =SUM(G10:H10) -> 570504.04 | G10: 483478 | H10: =G10*18% -> 87026.04 | K10: =G10*2% -> 9669.56 | L10: =F10-K10 -> 560834.48
A11: 31st Aug 2025 | C11: Federal-Bank | D11: CPV | E11: Frodo-107-Aug-2025 | F11: =SUM(G11:H11) -> 7552 | G11: 6400 | H11: =G11*18% -> 1152 | K11: =G11*2% -> 128 | L11: =F11-K11 -> 7424
A12: 31st Aug 2025 | C12: AMFI | D12: CPM | E12: Frodo-108-Aug-2025 | F12: =SUM(G12:H12) -> 353834.8 | G12: 299860 | H12: =G12*18% -> 53974.8 | K12: =G12*2% -> 5997.2 | L12: =F12-K12 -> 347837.6
A13: 30th Sep 2025 | C13: Crompton | D13: CPV | E13: Frodo-109-Sep-2025 | F13: =SUM(G13:H13) -> 61360 | G13: 52000 | H13: =G13*18% -> 9360 | K13: =G13*2% -> 1040 | L13: =F13-K13 -> 60320 | M13: 976416 | N13: 30th Jan 2026 | O13: CLEAR | P13: NEFT-PNB
A14: 30th Sep 2025 | C14: Bajaj-Shubh-Bolo | D14: CPV | E14: Frodo-110-Sep-2025 | F14: =SUM(G14:H14) -> 7375 | G14: 6250 | H14: =G14*18% -> 1125 | K14: =G14*2% -> 125 | L14: =F14-K14 -> 7250
A15: 30th Sep 2025 | C15: Bajaj-Shubh-Bolo | D15: CPM | E15: Frodo-111-Sep-2025 | F15: =SUM(G15:H15) -> 147500 | G15: 125000 | H15: =G15*18% -> 22500 | K15: =G15*2% -> 2500 | L15: =F15-K15 -> 145000
A16: 30th Sep 2025 | C16: Spotify | D16: CPM | E16: Frodo-112-Sep-2025 | F16: =SUM(G16:H16) -> 590599.44 | G16: 500508 | H16: =G16*18% -> 90091.44 | K16: =G16*2% -> 10010.16 | L16: =F16-K16 -> 580589.28
A17: 31st Oct 2025 | C17: Crompton | D17: CPV | E17: Frodo-113-Oct-2025 | F17: =SUM(G17:H17) -> 53100 | G17: 45000 | H17: =G17*18% -> 8100 | K17: =G17*2% -> 900 | L17: =F17-K17 -> 52200
A18: 31st Oct 2025 | C18: Spotify | D18: CPM | E18: Frodo-114-Oct-2025 | F18: =SUM(G18:H18) -> 119368.8 | G18: 101160 | H18: =G18*18% -> 18208.8 | K18: =G18*2% -> 2023.2 | L18: =F18-K18 -> 117345.6
A19: 31st Oct 2025 | C19: AMFI | D19: CPM | E19: Frodo-115-Oct-2025 | F19: =SUM(G19:H19) -> 59531 | G19: 50450 | H19: =G19*18% -> 9081 | K19: =G19*2% -> 1009 | L19: =F19-K19 -> 58522 | M19: 960907 | N19: 11th May 2026 | O19: CLEAR | P19: NEFT-PNB
A20: 30th Nov 2025 | C20: Prestige | D20: CPV | E20: Frodo-116-Nov-2025 | F20: =SUM(G20:H20) -> 153400 | G20: 130000 | H20: =G20*18% -> 23400 | K20: =G20*2% -> 2600 | L20: =F20-K20 -> 150800
A21: 31st Dec 2025 | C21: Woodland | D21: CPV | E21: Frodo-117-Dec-2025 | F21: =SUM(G21:H21) -> 59000 | G21: 50000 | H21: =G21*18% -> 9000 | K21: =G21*2% -> 1000 | L21: =F21-K21 -> 58000
A22: 28th Feb 2026 | C22: Spotify | D22: CPM | E22: Frodo-118-Feb-2026 | F22: =SUM(G22:H22) -> 126643.5 | G22: 107325 | H22: =G22*18% -> 19318.5 | K22: =G22*2% -> 2146.5 | L22: =F22-K22 -> 124497
A23: 28th Feb 2026 | C23: AMFI | D23: CPM | E23: Frodo-119-Feb-2026 | F23: =SUM(G23:H23) -> 104889.02 | G23: 88889 | H23: =G23*18% -> 16000.02 | K23: =G23*2% -> 1777.78 | L23: =F23-K23 -> 103111.24
A24: 31st Mar 2026 | C24: AMFI | D24: CPM | E24: Frodo-120-Mar-2026 | F24: =SUM(G24:H24) -> 150778.04 | G24: 127778 | H24: =G24*18% -> 23000.04 | K24: =G24*2% -> 2555.56 | L24: =F24-K24 -> 148222.48
A25: 31st Mar 2026 | C25: Tops | D25: CPM | E25: Frodo-121-Mar-2026 | F25: =SUM(G25:H25) -> 101181.46 | G25: 85747 | H25: =G25*18% -> 15434.46 | K25: =G25*2% -> 1714.94 | L25: =F25-K25 -> 99466.52 | M25: 684097 | N25: 29th July 2026 | O25: CLEAR | P25: NEFT-PNB
F26: =SUM(G26:H26) -> 0 | H26: =G26*18% -> 0 | K26: =G26*2% -> 0 | L26: =F26-K26 -> 0
F27: =SUM(G27:H27) -> 0 | H27: =G27*18% -> 0 | K27: =G27*2% -> 0 | L27: =F27-K27 -> 0
F28: =SUM(G28:H28) -> 0 | H28: =G28*18% -> 0 | K28: =G28*2% -> 0 | L28: =F28-K28 -> 0
F29: =SUM(G29:H29) -> 0 | H29: =G29*18% -> 0 | K29: =G29*2% -> 0 | L29: =F29-K29 -> 0
F30: =SUM(G30:H30) -> 0 | H30: =G30*18% -> 0 | K30: =G30*2% -> 0 | L30: =F30-K30 -> 0
F31: =SUM(G31:H31) -> 0 | H31: =G31*18% -> 0 | K31: =G31*2% -> 0 | L31: =F31-K31 -> 0
F32: =SUM(G32:H32) -> 0 | H32: =G32*18% -> 0 | K32: =G32*2% -> 0 | L32: =F32-K32 -> 0
F33: =SUM(G33:H33) -> 0 | H33: =G33*18% -> 0 | K33: =G33*2% -> 0 | L33: =F33-K33 -> 0
F34: =SUM(G34:H34) -> 0 | H34: =G34*18% -> 0 | K34: =G34*2% -> 0 | L34: =F34-K34 -> 0
F35: =SUM(G35:H35) -> 0 | H35: =G35*18% -> 0 | K35: =G35*2% -> 0 | L35: =F35-K35 -> 0
F36: =SUM(G36:H36) -> 0 | H36: =G36*18% -> 0 | K36: =G36*2% -> 0 | L36: =F36-K36 -> 0
F37: =SUM(G37:H37) -> 0 | H37: =G37*18% -> 0 | K37: =G37*2% -> 0 | L37: =F37-K37 -> 0
... F76: =SUM(G76:H76) -> 0 | H76: =G76*18% -> 0 | K76: =G76*2% -> 0 | L76: =F76-K76 -> 0

Sheet Appmontize
A1: HOME | B1: Monthwise | C1: GST - Monthwise | F1: =SUM(F2:F113) -> 1444222.1 | G1: =SUM(G2:G113) -> 1223917 | H1: =SUM(H2:H113) -> 220305.06 | K1: =SUM(K2:K113) -> 24478.34 | L1: =SUM(L2:L113) -> 1419743.7 | M1: =SUM(M2:M113) -> 368740
A2: Inv Date | B2: RO No | C2: Campaigns | D2: Adunit | E2: Invoice number | F2: Final Amount | G2: Invoice amt | H2: IGST 18% | I2: Cam End date | J2: Due date | K2: Less 2% | L2: Amt Receivable | M2: Amount Received | N2: Amt Received Date | O2: Status | P2: Cheque No
A3: 31st-Jul-2025 | C3: iPhone-Tripadvisor | D3: CPM | E3: Appmontize-040-May-2025 | F3: =SUM(G3:H3) -> 201780 | G3: 171000 | H3: =G3*18% -> 30780 | K3: =G3*2% -> 3420 | L3: =F3-K3 -> 198360 | M3: 198360 | N3: 4th Feb 2026 | O3: CLEAR | P3: NEFT-PNB
A4: 31st-Jul-2025 | C4: Visa-CPM-NG-Agoda | D4: CPM | E4: Appmontize-041-Jul-2025 | F4: =SUM(G4:H4) -> 173318.4 | G4: 146880 | H4: =G4*18% -> 26438.4 | K4: =G4*2% -> 2937.6 | L4: =F4-K4 -> 170380.8 | M4: 170380 | N4: 27th Jan 2026 | O4: CLEAR | P4: NEFT-PNB
A5: 31st-Jul-2025 | C5: Visa-CPM-NG-Tripadvisor | D5: CPM | E5: Appmontize-042-Jul-2025 | F5: =SUM(G5:H5) -> 331816 | G5: 281200 | H5: =G5*18% -> 50616 | K5: =G5*2% -> 5624 | L5: =F5-K5 -> 326192
A6: 31st Oct 2025 | C6: Agoda-Emirates-NBD-Visa-Card | D6: CPM | E6: Appmontize-043-Sep-2025 | F6: =SUM(G6:H6) -> 146615 | G6: 124250 | H6: =G6*18% -> 22365 | K6: =G6*2% -> 2485 | L6: =F6-K6 -> 144130
A7: 31st Dec 2025 | C7: Visa-Al-Ansari-Card | D7: CPM | E7: Appmontize-044-Dec-2025 | F7: =SUM(G7:H7) -> 306705.6 | G7: 259920 | H7: =G7*18% -> 46785.6 | K7: =G7*2% -> 5198.4 | L7: =F7-K7 -> 301507.2
A8: 31st Dec 2025 | C8: Oman-Air-Holiday | D8: CPM | E8: Appmontize-045-Dec-2025 | F8: =SUM(G8:H8) -> 283987.06 | G8: 240667 | H8: =G8*18% -> 43320.06 | K8: =G8*2% -> 4813.34 | L8: =F8-K8 -> 279173.72
F9: =SUM(G9:H9) -> 0 | H9: =G9*18% -> 0 | K9: =G9*2% -> 0 | L9: =F9-K9 -> 0
F10: =SUM(G10:H10) -> 0 | H10: =G10*18% -> 0 | K10: =G10*2% -> 0 | L10: =F10-K10 -> 0
F11: =SUM(G11:H11) -> 0 | H11: =G11*18% -> 0 | K11: =G11*2% -> 0 | L11: =F11-K11 -> 0
F12: =SUM(G12:H12) -> 0 | H12: =G12*18% -> 0 | K12: =G12*2% -> 0 | L12: =F12-K12 -> 0
F13: =SUM(G13:H13) -> 0 | H13: =G13*18% -> 0 | K13: =G13*2% -> 0 | L13: =F13-K13 -> 0
F14: =SUM(G14:H14) -> 0 | H14: =G14*18% -> 0 | K14: =G14*2% -> 0 | L14: =F14-K14 -> 0
F15: =SUM(G15:H15) -> 0 | H15: =G15*18% -> 0 | K15: =G15*2% -> 0 | L15: =F15-K15 -> 0
F16: =SUM(G16:H16) -> 0 | H16: =G16*18% -> 0 | K16: =G16*2% -> 0 | L16: =F16-K16 -> 0
F17: =SUM(G17:H17) -> 0 | H17: =G17*18% -> 0 | K17: =G17*2% -> 0 | L17: =F17-K17 -> 0
F18: =SUM(G18:H18) -> 0 | H18: =G18*18% -> 0 | K18: =G18*2% -> 0 | L18: =F18-K18 -> 0
F19: =SUM(G19:H19) -> 0 | H19: =G19*18% -> 0 | K19: =G19*2% -> 0 | L19: =F19-K19 -> 0
F20: =SUM(G20:H20) -> 0 | H20: =G20*18% -> 0 | K20: =G20*2% -> 0 | L20: =F20-K20 -> 0
... F68: =SUM(G68:H68) -> 0 | H68: =G68*18% -> 0 | K68: =G68*2% -> 0 | L68: =F68-K68 -> 0
J70: =F25*2% -> 0 | K70: =G25*2% -> 0

Sheet Brands-In-Motion
A1: HOME | C1: GST - Monthwise | F1: =SUM(F2:F120) -> 184146.08 | G1: =SUM(G2:G120) -> 156056 | H1: =SUM(H2:H71) -> 28090.08 | K1: =SUM(K2:K120) -> 3121.12 | L1: =SUM(L2:L120) -> 181024.96 | M1: =SUM(M4:M126) -> 184146
A3: Inv Date | B3: RO No | C3: Campaigns | D3: Adunit | E3: Invoice number | F3: Final Amount | G3: Invoice amt | H3: IGST 18% | I3: Cam End date | J3: Due date | K3: Less 2% | L3: Amt Receivable | M3: Amount Received | N3: Amt Received Date | O3: Status | P3: Cheque No
A4: 30th Apr 2025 | C4: Akshaypatra | D4: CPC | E4: Brands-In-Motion-006-Apr-2025 | F4: =SUM(G4:H4) -> 5900 | G4: 5000 | H4: =G4*18% -> 900 | K4: =G4*2% -> 100 | L4: =F4-K4 -> 5800 | M4: 5900 | N4: 29th Dec 2025 | O4: CLEAR | P4: NEFT-PNB
A5: 30th Nov 2025 | C5: Adobe-Part-1 | D5: CPM | E5: Brands-In-Motion-007-Nov-2025 | F5: =SUM(G5:H5) -> 30528.96 | G5: 25872 | H5: =G5*18% -> 4656.96 | K5: =G5*2% -> 517.44 | L5: =F5-K5 -> 30011.52
A6: 30th Nov 2025 | C6: Adobe-Part-1 | D6: CPM | E6: Brands-In-Motion-008-Nov-2025 | F6: =SUM(G6:H6) -> 147717.12 | G6: 125184 | H6: =G6*18% -> 22533.12 | K6: =G6*2% -> 2503.68 | L6: =F6-K6 -> 145213.44 | M6: 178246 | N6: 26th Dec 2025 | O6: CLEAR | P6: NEFT-PNB
F7: =SUM(G7:H7) -> 0 | H7: =G7*18% -> 0 | K7: =G7*2% -> 0 | L7: =F7-K7 -> 0
F8: =SUM(G8:H8) -> 0 | H8: =G8*18% -> 0 | K8: =G8*2% -> 0 | L8: =F8-K8 -> 0
F9: =SUM(G9:H9) -> 0 | H9: =G9*18% -> 0 | K9: =G9*2% -> 0 | L9: =F9-K9 -> 0
F10: =SUM(G10:H10) -> 0 | H10: =G10*18% -> 0 | K10: =G10*2% -> 0 | L10: =F10-K10 -> 0
F11: =SUM(G11:H11) -> 0 | H11: =G11*18% -> 0 | K11: =G11*2% -> 0 | L11: =F11-K11 -> 0
F12: =SUM(G12:H12) -> 0 | H12: =G12*18% -> 0 | K12: =G12*2% -> 0 | L12: =F12-K12 -> 0
F13: =SUM(G13:H13) -> 0 | H13: =G13*18% -> 0 | K13: =G13*2% -> 0 | L13: =F13-K13 -> 0
F14: =SUM(G14:H14) -> 0 | H14: =G14*18% -> 0 | K14: =G14*2% -> 0 | L14: =F14-K14 -> 0
F15: =SUM(G15:H15) -> 0 | H15: =G15*18% -> 0 | K15: =G15*2% -> 0 | L15: =F15-K15 -> 0
F16: =SUM(G16:H16) -> 0 | H16: =G16*18% -> 0 | K16: =G16*2% -> 0 | L16: =F16-K16 -> 0
F17: =SUM(G17:H17) -> 0 | H17: =G17*18% -> 0 | K17: =G17*2% -> 0 | L17: =F17-K17 -> 0
F18: =SUM(G18:H18) -> 0 | H18: =G18*18% -> 0 | K18: =G18*2% -> 0 | L18: =F18-K18 -> 0
... F76: =SUM(G76:H76) -> 0 | H76: =G76*18% -> 0 | K76: =G76*2% -> 0 | L76: =F76-K76 -> 0

Sheet Silver-Push
A1: Inv Date | B1: Campaigns | C1: Adunit | D1: RO | E1: Invoice number | F1: Final Amount | G1: Invoice amt | H1: IGST 18% | I1: Cam End date | J1: Due date | K1: Less 2% | L1: Amt Receivable | M1: Amount Received | N1: Amt Received Date | O1: Status | P1: Cheque No
F2: =G2+H2 -> 0 | H2: =G2*18% -> 0 | I2: 43585 | J2: =I2+60 -> 43645 | K2: =G2*2% -> 0 | L2: =F2-K2 -> 0
F3: =G3+H3 -> 0 | H3: =G3*18% -> 0 | I3: 43616 | J3: =I3+60 -> 43676 | K3: =G3*2% -> 0 | L3: =F3-K3 -> 0
F4: =G4+H4 -> 0 | H4: =G4*18% -> 0 | I4: 43624 | J4: =I4+60 -> 43684 | K4: =G4*2% -> 0 | L4: =F4-K4 -> 0
F5: =G5+H5 -> 0 | H5: =G5*18% -> 0 | I5: 43647 | J5: =I5+60 -> 43707 | K5: =G5*2% -> 0 | L5: =F5-K5 -> 0
F6: =G6+H6 -> 0 | H6: =G6*18% -> 0 | I6: 43647 | J6: =I6+60 -> 43707 | K6: =G6*2% -> 0 | L6: =F6-K6 -> 0
F7: =G7+H7 -> 0 | H7: =G7*18% -> 0 | I7: 43647 | J7: =I7+60 -> 43707 | K7: =G7*2% -> 0 | L7: =F7-K7 -> 0
F8: =G8+H8 -> 0 | H8: =G8*18% -> 0 | I8: 43647 | J8: =I8+60 -> 43707 | K8: =G8*2% -> 0 | L8: =F8-K8 -> 0
F9: =G9+H9 -> 0 | H9: =G9*18% -> 0 | I9: 43647 | J9: =I9+60 -> 43707 | K9: =G9*2% -> 0 | L9: =F9-K9 -> 0
F10: =G10+H10 -> 0 | H10: =G10*18% -> 0 | I10: 43647 | J10: =I10+60 -> 43707 | K10: =G10*2% -> 0 | L10: =F10-K10 -> 0
F11: =G11+H11 -> 0 | H11: =G11*18% -> 0 | I11: 43647 | J11: =I11+60 -> 43707 | K11: =G11*2% -> 0 | L11: =F11-K11 -> 0
F12: =G12+H12 -> 0 | H12: =G12*18% -> 0 | I12: 43647 | J12: =I12+60 -> 43707 | K12: =G12*2% -> 0 | L12: =F12-K12 -> 0
F13: =G13+H13 -> 0 | H13: =G13*18% -> 0 | I13: 43647 | J13: =I13+60 -> 43707 | K13: =G13*2% -> 0 | L13: =F13-K13 -> 0
... F65: =G65+H65 -> 0 | H65: =G65*18% -> 0 | I65: 43892 | J65: =I65+60 -> 43952 | K65: =G65*2% -> 0 | L65: =F65-K65 -> 0
F66: =G66+H66 -> 0 | H66: =G66*18% -> 0 | J66: =I66+60 -> 60 | K66: =G66*2% -> 0 | L66: =F66-K66 -> 0
F67: =G67+H67 -> 0 | H67: =G67*18% -> 0 | J67: =I67+60 -> 60 | K67: =G67*2% -> 0 | L67: =F67-K67 -> 0
F68: =G68+H68 -> 0 | H68: =G68*18% -> 0 | J68: =I68+60 -> 60 | K68: =G68*2% -> 0 | L68: =F68-K68 -> 0
F69: =G69+H69 -> 0 | H69: =G69*18% -> 0 | J69: =I69+60 -> 60 | K69: =G69*2% -> 0 | L69: =F69-K69 -> 0
F70: =G70+H70 -> 0 | H70: =G70*18% -> 0 | J70: =I70+60 -> 60 | K70: =G70*2% -> 0 | L70: =F70-K70 -> 0
F71: =G71+H71 -> 0 | H71: =G71*18% -> 0 | J71: =I71+60 -> 60 | K71: =G71*2% -> 0 | L71: =F71-K71 -> 0
F72: =G72+H72 -> 0 | H72: =G72*18% -> 0 | J72: =I72+60 -> 60 | K72: =G72*2% -> 0 | L72: =F72-K72 -> 0
F73: =G73+H73 -> 0 | H73: =G73*18% -> 0 | J73: =I73+60 -> 60 | K73: =G73*2% -> 0 | L73: =F73-K73 -> 0
F74: =G74+H74 -> 0 | H74: =G74*18% -> 0 | J74: =I74+60 -> 60 | K74: =G74*2% -> 0 | L74: =F74-K74 -> 0
F75: =G75+H75 -> 0 | H75: =G75*18% -> 0 | J75: =I75+60 -> 60 | K75: =G75*2% -> 0 | L75: =F75-K75 -> 0
E77: HOME | F77: =SUM(F1:F75) -> 0 | G77: =SUM(G1:G75) -> 0 | H77: =SUM(H1:H75) -> 0 | K77: =SUM(K1:K76) -> 0 | L77: =SUM(L1:L75) -> 0 | M77: =SUM(M1:M75) -> 0
E78: Monthwise
E79: GST - Monthwise

Sheet Quanta-Fi
A1: Inv Date | B1: Campaigns | C1: Adunit | D1: Invoice number | E1: Final Amount | F1: Invoice amt | G1: IGST 18% | H1: Cam End date | I1: Due date | J1: Less 2% | K1: Amt Receivable | L1: Amount Received | M1: Amt Received Date | N1: Status | O1: Cheque No
E2: =F2+G2 -> 0 | G2: =F2*18% -> 0 | J2: =F2*2% -> 0 | K2: =E2-J2 -> 0
E3: =F3+G3 -> 0 | G3: =F3*18% -> 0 | J3: =F3*2% -> 0 | K3: =E3-J3 -> 0
E4: =F4+G4 -> 0 | G4: =F4*18% -> 0 | J4: =F4*2% -> 0 | K4: =E4-J4 -> 0
E5: =F5+G5 -> 0 | G5: =F5*18% -> 0 | J5: =F5*2% -> 0 | K5: =E5-J5 -> 0
E6: =F6+G6 -> 0 | G6: =F6*18% -> 0 | J6: =F6*2% -> 0 | K6: =E6-J6 -> 0
E7: =F7+G7 -> 0 | G7: =F7*18% -> 0 | J7: =F7*2% -> 0 | K7: =E7-J7 -> 0
E8: =F8+G8 -> 0 | G8: =F8*18% -> 0 | J8: =F8*2% -> 0 | K8: =E8-J8 -> 0
E9: =F9+G9 -> 0 | G9: =F9*18% -> 0 | J9: =F9*2% -> 0 | K9: =E9-J9 -> 0
E10: =F10+G10 -> 0 | G10: =F10*18% -> 0 | J10: =F10*2% -> 0 | K10: =E10-J10 -> 0
E11: =F11+G11 -> 0 | G11: =F11*18% -> 0 | J11: =F11*2% -> 0 | K11: =E11-J11 -> 0
E12: =F12+G12 -> 0 | G12: =F12*18% -> 0 | J12: =F12*2% -> 0 | K12: =E12-J12 -> 0
E13: =F13+G13 -> 0 | G13: =F13*18% -> 0 | J13: =F13*2% -> 0 | K13: =E13-J13 -> 0
... E16: =F16+G16 -> 0 | G16: =F16*18% -> 0 | J16: =F16*2% -> 0 | K16: =E16-J16 -> 0
D18: HOME | E18: =SUM(E1:E16) -> 0 | F18: =SUM(F1:F16) -> 0 | G18: =SUM(G1:G16) -> 0 | J18: =SUM(J1:J16) -> 0 | K18: =SUM(K1:K16) -> 0 | L18: =SUM(L1:L16) -> 0
D19: Monthwise
D20: GST - Monthwise
L22: =K3-L3 -> 0 | M22: 390000
L23: =F3*10% -> 0 | M23: 16383
L24: =E3-L23 -> 0

Sheet THOUGHTPIXELS
A1: HOME | C1: GST - Monthwise | F1: =SUM(F2:F102) -> 0 | G1: =SUM(G2:G102) -> 0 | H1: =SUM(H2:H70) -> 0 | L1: =SUM(L2:L102) -> 0 | M1: =SUM(M2:M102) -> 0 | N1: =SUM(N4:N108) -> 0
A3: Inv Date | B3: RO No | C3: Campaigns | D3: Adunit | E3: Invoice number | F3: Final Amount | G3: Invoice amt | H3: CGST 9% | I3: SGST 9% | J3: Cam End date | K3: Due date | L3: Less 2% | M3: Amt Receivable | N3: Amount Received | O3: Amt Received Date | P3: Status | Q3: Cheque No
F4: =SUM(G4:I4) -> 0 | H4: =G4*9% -> 0 | I4: =G4*9% -> 0 | L4: =G4*2% -> 0 | M4: =F4-L4 -> 0
F5: =SUM(G5:I5) -> 0 | H5: =G5*9% -> 0 | I5: =G5*9% -> 0 | L5: =G5*2% -> 0 | M5: =F5-L5 -> 0
F6: =SUM(G6:I6) -> 0 | H6: =G6*9% -> 0 | I6: =G6*9% -> 0 | L6: =G6*2% -> 0 | M6: =F6-L6 -> 0
F7: =SUM(G7:I7) -> 0 | H7: =G7*9% -> 0 | I7: =G7*9% -> 0 | L7: =G7*2% -> 0 | M7: =F7-L7 -> 0
F8: =SUM(G8:I8) -> 0 | H8: =G8*9% -> 0 | I8: =G8*9% -> 0 | L8: =G8*2% -> 0 | M8: =F8-L8 -> 0
F9: =SUM(G9:I9) -> 0 | H9: =G9*9% -> 0 | I9: =G9*9% -> 0 | L9: =G9*2% -> 0 | M9: =F9-L9 -> 0
F10: =SUM(G10:I10) -> 0 | H10: =G10*9% -> 0 | I10: =G10*9% -> 0 | L10: =G10*2% -> 0 | M10: =F10-L10 -> 0
F11: =SUM(G11:I11) -> 0 | H11: =G11*9% -> 0 | I11: =G11*9% -> 0 | L11: =G11*2% -> 0 | M11: =F11-L11 -> 0
F12: =SUM(G12:I12) -> 0 | H12: =G12*9% -> 0 | I12: =G12*9% -> 0 | L12: =G12*2% -> 0 | M12: =F12-L12 -> 0
F13: =SUM(G13:I13) -> 0 | H13: =G13*9% -> 0 | I13: =G13*9% -> 0 | L13: =G13*2% -> 0 | M13: =F13-L13 -> 0
F14: =SUM(G14:I14) -> 0 | H14: =G14*9% -> 0 | I14: =G14*9% -> 0 | L14: =G14*2% -> 0 | M14: =F14-L14 -> 0
F15: =SUM(G15:I15) -> 0 | H15: =G15*9% -> 0 | I15: =G15*9% -> 0 | L15: =G15*2% -> 0 | M15: =F15-L15 -> 0
... F58: =SUM(G58:I58) -> 0 | H58: =G58*9% -> 0 | I58: =G58*9% -> 0 | L58: =G58*2% -> 0 | M58: =F58-L58 -> 0
H59: =G59*9% -> 0 | I59: =G59*9% -> 0
H60: =G60*9% -> 0 | I60: =G60*9% -> 0
H61: =G61*9% -> 0 | I61: =G61*9% -> 0
H62: =G62*9% -> 0 | I62: =G62*9% -> 0
H63: =G63*9% -> 0 | I63: =G63*9% -> 0
H64: =G64*9% -> 0 | I64: =G64*9% -> 0
H65: =G65*9% -> 0 | I65: =G65*9% -> 0
H66: =G66*9% -> 0 | I66: =G66*9% -> 0
H67: =G67*9% -> 0 | I67: =G67*9% -> 0
H68: =G68*9% -> 0 | I68: =G68*9% -> 0
H69: =G69*9% -> 0 | I69: =G69*9% -> 0
H70: =G70*9% -> 0 | I70: =G70*9% -> 0
... H75: =G75*9% -> 0 | I75: =G75*9% -> 0

Sheet SVG+DGM
A1: Inv Date | B1: Segment | C1: Campaigns | D1: Adunit | E1: Invoice number | F1: Final Amount | G1: Invoice amt | H1: ServiceTax | I1: Cam End date | J1: Due date | K1: Less 2% | L1: Amt Receivable | M1: Amount Received | N1: Amt Received Date | O1: Status | P1: Cheque No
F2: =G2*67 -> 0 | L2: =F2 -> 0
F3: =G3*67 -> 0 | L3: =F3 -> 0
F4: =G4*67 -> 0 | L4: =F4 -> 0
F5: =G5*67 -> 0 | K5: 0 | L5: =F5 -> 0
F6: =G6*67 -> 0 | K6: 0 | L6: =F6 -> 0
F7: =G7*67 -> 0 | K7: 0 | L7: =F7 -> 0
F8: =G8*67 -> 0 | K8: 0 | L8: =F8 -> 0
F9: =G9*67 -> 0 | K9: 0 | L9: =F9 -> 0
F10: =G10*67 -> 0 | K10: 0 | L10: =F10 -> 0
F11: =G11*67 -> 0 | K11: 0 | L11: =F11 -> 0
F12: =G12*67 -> 0 | K12: 0 | L12: =F12 -> 0
F13: =G13*67 -> 0 | K13: 0 | L13: =F13 -> 0
F14: =G14*67 -> 0 | K14: 0 | L14: =F14 -> 0
F15: =G15*67 -> 0 | K15: 0 | L15: =F15 -> 0
F16: =G16*67 -> 0 | K16: 0 | L16: =F16 -> 0
... F26: =G26*67 -> 0 | K26: 0 | L26: =F26 -> 0
E28: HOME | F28: =SUM(F2:F26) -> 0 | G28: =SUM(G2:G26) -> 0 | H28: =SUM(H2:H26) -> 0 | K28: =SUM(K2:K26) -> 0 | L28: =SUM(L2:L26) -> 0 | M28: =SUM(M2:M26) -> 0
E29: Monthwise
N31: 28377
N32: 232247
K33: =L33-K6 -> 0 | L33: =F6*2% -> 0 | M33: =F6-L33 -> 0 | N33: 47638
K34: =L34-K7 -> 0 | L34: =F7*2% -> 0 | M34: =F7-L34 -> 0 | N34: 1024
K35: =L35-K8 -> 0 | L35: =F8*2% -> 0 | M35: =F8-L35 -> 0

Sheet SVG-INDIA
A1: Inv Date | B1: Campaigns | C1: Adunit | D1: Invoice number | E1: Final Amount | F1: Invoice amt | G1: IGST 18% | H1: Cam End date | I1: Due date | J1: Less 2% | K1: Amt Receivable | L1: Amount Received | M1: Amt Received Date | N1: Status | O1: Cheque No
E2: =F2+G2 -> 0 | G2: =F2*18% -> 0 | J2: =F2*2% -> 0 | K2: =E2-J2 -> 0
E3: =F3+G3 -> 0 | G3: =F3*18% -> 0 | J3: =F3*2% -> 0 | K3: =E3-J3 -> 0
E4: =F4+G4 -> 0 | G4: =F4*18% -> 0 | J4: =F4*2% -> 0 | K4: =E4-J4 -> 0
E5: =F5+G5 -> 0 | G5: =F5*18% -> 0 | J5: =F5*2% -> 0 | K5: =E5-J5 -> 0
E6: =F6+G6 -> 0 | G6: =F6*18% -> 0 | J6: =F6*2% -> 0 | K6: =E6-J6 -> 0
E7: =F7+G7 -> 0 | G7: =F7*18% -> 0 | J7: =F7*2% -> 0 | K7: =E7-J7 -> 0
E8: =F8+G8 -> 0 | G8: =F8*18% -> 0 | J8: =F8*2% -> 0 | K8: =E8-J8 -> 0
E9: =F9+G9 -> 0 | G9: =F9*18% -> 0 | J9: =F9*2% -> 0 | K9: =E9-J9 -> 0
E10: =F10+G10 -> 0 | G10: =F10*18% -> 0 | J10: =F10*2% -> 0 | K10: =E10-J10 -> 0
E11: =F11+G11 -> 0 | G11: =F11*18% -> 0 | J11: =F11*2% -> 0 | K11: =E11-J11 -> 0
E12: =F12+G12 -> 0 | G12: =F12*18% -> 0 | J12: =F12*2% -> 0 | K12: =E12-J12 -> 0
E13: =F13+G13 -> 0 | G13: =F13*18% -> 0 | J13: =F13*2% -> 0 | K13: =E13-J13 -> 0
... E16: =F16+G16 -> 0 | G16: =F16*18% -> 0 | J16: =F16*2% -> 0 | K16: =E16-J16 -> 0
D18: HOME | E18: =SUM(E1:E16) -> 0 | F18: =SUM(F1:F16) -> 0 | G18: =SUM(G1:G16) -> 0 | J18: =SUM(J1:J16) -> 0 | K18: =SUM(K1:K16) -> 0 | L18: =SUM(L1:L16) -> 0
D19: Monthwise
D20: GST - Monthwise
L22: =K3-L3 -> 0 | M22: 390000
L23: =F3*10% -> 0 | M23: 16383
L24: =E3-L23 -> 0

Sheet Affle International
A1: Inv Date | B1: RO No | C1: Campaigns | D1: Adunit | E1: Invoice number | F1: Final Amount | G1: Invoice amt | H1: Cam End date | I1: Due date | J1: Less 2% | K1: Amt Receivable | L1: Amount Received | M1: Amt Received Date | N1: Status | O1: Cheque No
A2: HOME | C2: GST - Monthwise | F2: =SUM(F3:F201) -> 0 | G2: =SUM(G3:G201) -> 0 | J2: =SUM(J3:J201) -> 0 | K2: =SUM(K3:K201) -> 0 | L2: =SUM(L3:L201) -> 0
F3: =G3*69 -> 0 | K3: =F3 -> 0
F4: =G4*69 -> 0 | K4: =F4 -> 0
F5: =G5*69 -> 0 | K5: =F5 -> 0
F6: =G6*69 -> 0 | K6: =F6 -> 0
F7: =G7*69 -> 0 | K7: =F7 -> 0
F8: =G8*69 -> 0 | K8: =F8 -> 0
F9: =G9*69 -> 0 | K9: =F9 -> 0
F10: =G10*69 -> 0 | K10: =F10 -> 0
F11: =G11*69 -> 0 | K11: =F11 -> 0
F12: =G12*69 -> 0 | K12: =F12 -> 0
F13: =G13*69 -> 0 | K13: =F13 -> 0
F14: =G14*69 -> 0 | K14: =F14 -> 0
F15: =G15*67 -> 0 | K15: =F15 -> 0
F16: =G16*67 -> 0 | K16: =F16 -> 0
F17: =G17*67 -> 0 | K17: =F17 -> 0
F18: =G18*67 -> 0 | K18: =F18 -> 0
F19: =G19*67 -> 0 | K19: =F19 -> 0
F20: =G20*67 -> 0 | K20: =F20 -> 0
F21: =G21*67 -> 0 | K21: =F21 -> 0
F22: =G22*67 -> 0 | K22: =F22 -> 0
F23: =G23*67 -> 0 | K23: =F23 -> 0
F24: =G24*67 -> 0 | K24: =F24 -> 0
F25: =G25*67 -> 0 | K25: =F25 -> 0
F26: =G26*67 -> 0 | K26: =F26 -> 0
... F38: =G38*67 -> 0 | K38: =F38 -> 0
F39: =G39*67 -> 0
F40: =G40*67 -> 0

Sheet Be-Digitech
A1: Inv Date | B1: Campaigns | C1: Adunit | D1: Invoice number | E1: Final Amount | F1: Invoice amt | G1: IGST 18% | H1: Cam End date | I1: Due date | J1: Less 2% | K1: Amt Receivable | L1: Amount Received | M1: Amt Received Date | N1: Status | O1: Cheque No
E2: =F2+G2 -> 0 | G2: =F2*18% -> 0 | J2: =F2*2% -> 0 | K2: =E2-J2 -> 0
E3: =F3+G3 -> 0 | G3: =F3*18% -> 0 | J3: =F3*2% -> 0 | K3: =E3-J3 -> 0
E4: =F4+G4 -> 0 | G4: =F4*18% -> 0 | J4: =F4*2% -> 0 | K4: =E4-J4 -> 0
E5: =F5+G5 -> 0 | G5: =F5*18% -> 0 | J5: =F5*2% -> 0 | K5: =E5-J5 -> 0
E6: =F6+G6 -> 0 | G6: =F6*18% -> 0 | J6: =F6*2% -> 0 | K6: =E6-J6 -> 0
E7: =F7+G7 -> 0 | G7: =F7*18% -> 0 | J7: =F7*2% -> 0 | K7: =E7-J7 -> 0
E8: =F8+G8 -> 0 | G8: =F8*18% -> 0 | J8: =F8*2% -> 0 | K8: =E8-J8 -> 0
E9: =F9+G9 -> 0 | G9: =F9*18% -> 0 | J9: =F9*2% -> 0 | K9: =E9-J9 -> 0
E10: =F10+G10 -> 0 | G10: =F10*18% -> 0 | J10: =F10*2% -> 0 | K10: =E10-J10 -> 0
E11: =F11+G11 -> 0 | G11: =F11*18% -> 0 | J11: =F11*2% -> 0 | K11: =E11-J11 -> 0
E12: =F12+G12 -> 0 | G12: =F12*18% -> 0 | J12: =F12*2% -> 0 | K12: =E12-J12 -> 0
E13: =F13+G13 -> 0 | G13: =F13*18% -> 0 | J13: =F13*2% -> 0 | K13: =E13-J13 -> 0
... E22: =F22+G22 -> 0 | G22: =F22*18% -> 0 | J22: =F22*2% -> 0 | K22: =E22-J22 -> 0
D24: HOME | E24: =SUM(E1:E22) -> 0 | F24: =SUM(F1:F22) -> 0 | G24: =SUM(G1:G22) -> 0 | J24: =SUM(J1:J22) -> 0 | K24: =SUM(K1:K22) -> 0 | L24: =SUM(L1:L22) -> 0
D25: Monthwise
D26: GST - Monthwise
M29: 762165

Sheet XAPADS
A1: HOME | B1: Monthwise | C1: GST - Monthwise | F1: =SUM(F2:F113) -> 0 | G1: =SUM(G2:G113) -> 0 | H1: =SUM(H2:H113) -> 0 | K1: =SUM(K2:K113) -> 0 | L1: =SUM(L2:L113) -> 0 | M1: =SUM(M2:M113) -> 0
A2: Inv Date | B2: RO No | C2: Campaigns | D2: Adunit | E2: Invoice number | F2: Final Amount | G2: Invoice amt | H2: IGST 18% | I2: Cam End date | J2: Due date | K2: Less 2% | L2: Amt Receivable | M2: Amount Received | N2: Amt Received Date | O2: Status | P2: Cheque No
F3: =SUM(G3:H3) -> 0 | H3: =G3*18% -> 0 | I3: 43738 | J3: =I3+60 -> 43798 | K3: =G3*2% -> 0 | L3: =F3-K3 -> 0
F4: =SUM(G4:H4) -> 0 | H4: =G4*18% -> 0 | I4: 43769 | J4: =I4+60 -> 43829 | K4: =G4*2% -> 0 | L4: =F4-K4 -> 0
F5: =SUM(G5:H5) -> 0 | H5: =G5*18% -> 0 | I5: 42947 | J5: =I5+60 -> 43007 | K5: =G5*2% -> 0 | L5: =F5-K5 -> 0
F6: =SUM(G6:H6) -> 0 | H6: =G6*18% -> 0 | I6: 42947 | J6: =I6+60 -> 43007 | K6: =G6*2% -> 0 | L6: =F6-K6 -> 0
F7: =SUM(G7:H7) -> 0 | H7: =G7*18% -> 0 | I7: 42947 | J7: =I7+60 -> 43007 | K7: =G7*2% -> 0 | L7: =F7-K7 -> 0
F8: =SUM(G8:H8) -> 0 | H8: =G8*18% -> 0 | I8: 42947 | J8: =I8+60 -> 43007 | K8: =G8*2% -> 0 | L8: =F8-K8 -> 0
F9: =SUM(G9:H9) -> 0 | H9: =G9*18% -> 0 | I9: 42947 | J9: =I9+60 -> 43007 | K9: =G9*2% -> 0 | L9: =F9-K9 -> 0
F10: =SUM(G10:H10) -> 0 | H10: =G10*18% -> 0 | I10: 42947 | J10: =I10+60 -> 43007 | K10: =G10*2% -> 0 | L10: =F10-K10 -> 0
F11: =SUM(G11:H11) -> 0 | H11: =G11*18% -> 0 | I11: 42978 | J11: =I11+60 -> 43038 | K11: =G11*2% -> 0 | L11: =F11-K11 -> 0
F12: =SUM(G12:H12) -> 0 | H12: =G12*18% -> 0 | I12: 42978 | J12: =I12+60 -> 43038 | K12: =G12*2% -> 0 | L12: =F12-K12 -> 0
F13: =SUM(G13:H13) -> 0 | H13: =G13*18% -> 0 | I13: 42978 | J13: =I13+60 -> 43038 | K13: =G13*2% -> 0 | L13: =F13-K13 -> 0
F14: =SUM(G14:H14) -> 0 | H14: =G14*18% -> 0 | I14: 42990 | J14: =I14+60 -> 43050 | K14: =G14*2% -> 0 | L14: =F14-K14 -> 0
... F25: =SUM(G25:H25) -> 0 | H25: =G25*18% -> 0 | I25: 43169 | J25: =I25+60 -> 43229 | K25: =G25*2% -> 0 | L25: =F25-K25 -> 0
F26: =SUM(G26:H26) -> 0 | H26: =G26*18% -> 0 | J26: =I26+60 -> 60 | K26: =G26*2% -> 0 | L26: =F26-K26 -> 0
F27: =SUM(G27:H27) -> 0 | H27: =G27*18% -> 0 | J27: =I27+60 -> 60 | K27: =G27*2% -> 0 | L27: =F27-K27 -> 0
F28: =SUM(G28:H28) -> 0 | H28: =G28*18% -> 0 | J28: =I28+60 -> 60 | K28: =G28*2% -> 0 | L28: =F28-K28 -> 0
F29: =SUM(G29:H29) -> 0 | H29: =G29*18% -> 0 | J29: =I29+60 -> 60 | K29: =G29*2% -> 0 | L29: =F29-K29 -> 0
F30: =SUM(G30:H30) -> 0 | H30: =G30*18% -> 0 | J30: =I30+60 -> 60 | K30: =G30*2% -> 0 | L30: =F30-K30 -> 0
F31: =SUM(G31:H31) -> 0 | H31: =G31*18% -> 0 | J31: =I31+60 -> 60 | K31: =G31*2% -> 0 | L31: =F31-K31 -> 0
F32: =SUM(G32:H32) -> 0 | H32: =G32*18% -> 0 | J32: =I32+60 -> 60 | K32: =G32*2% -> 0 | L32: =F32-K32 -> 0
F33: =SUM(G33:H33) -> 0 | H33: =G33*18% -> 0 | J33: =I33+60 -> 60 | K33: =G33*2% -> 0 | L33: =F33-K33 -> 0
F34: =SUM(G34:H34) -> 0 | H34: =G34*18% -> 0 | J34: =I34+60 -> 60 | K34: =G34*2% -> 0 | L34: =F34-K34 -> 0
F35: =SUM(G35:H35) -> 0 | H35: =G35*18% -> 0 | J35: =I35+60 -> 60 | K35: =G35*2% -> 0 | L35: =F35-K35 -> 0
F36: =SUM(G36:H36) -> 0 | H36: =G36*18% -> 0 | J36: =I36+60 -> 60 | K36: =G36*2% -> 0 | L36: =F36-K36 -> 0
F37: =SUM(G37:H37) -> 0 | H37: =G37*18% -> 0 | J37: =I37+60 -> 60 | K37: =G37*2% -> 0 | L37: =F37-K37 -> 0
... F68: =SUM(G68:H68) -> 0 | H68: =G68*18% -> 0 | J68: =I68+60 -> 60 | K68: =G68*2% -> 0 | L68: =F68-K68 -> 0
J70: =F25*2% -> 0 | K70: =G25*2% -> 0
