Workbook

Sheet GST-Monthwise
A1: Inv Date | B1: Inv Month | C1: Advertiser | D1: GST Nos | E1: Invoice number | F1: Final Amount | G1: Invoice amt | H1: IGST 18% | I1: CGST 9% | J1: SGST 9% | K1: Less 2% | L1: Amt Receivable
F2: =SUM(F4:F150) -> 8849951.6 | G2: =SUM(G4:G150) -> 7499959 | H2: =SUM(H4:H150) -> 1342024.6 | I2: =SUM(I4:I150) -> 3984.03 | J2: =SUM(J4:J172) -> 3984.03 | K2: =SUM(K4:K149) -> 149999.18 | L2: =SUM(L4:L145) -> 8699952.4
A3: 45383
F4: =SUM(G4:J4) -> 0 | H4: =G4*18% -> 0 | I4: =G4*9% -> 0 | J4: =G4*9% -> 0 | K4: =G4*2% -> 0 | L4: =F4-K4 -> 0
F5: =SUM(G5:J5) -> 0 | H5: =G5*18% -> 0 | I5: =G5*9% -> 0 | J5: =G5*9% -> 0 | K5: =G5*2% -> 0 | L5: =F5-K5 -> 0
A6: 45413
A7: 31st May 2024 | B7: May-2024 | C7: Frodoh Media | D7: 07AACCF9651M1Z5 | E7: Frodo-064-Apr-May-2024 | F7: =SUM(G7:J7) -> 35400 | G7: 30000 | H7: =G7*18% -> 5400 | I7: 0 | J7: 0 | K7: =G7*2% -> 600 | L7: =F7-K7 -> 34800
A8: 31st May 2024 | B8: May-2024 | C8: Frodoh Media | D8: 07AACCF9651M1Z5 | E8: Frodo-065-Apr-May-2024 | F8: =SUM(G8:J8) -> 14160 | G8: 12000 | H8: =G8*18% -> 2160 | I8: 0 | J8: 0 | K8: =G8*2% -> 240 | L8: =F8-K8 -> 13920
A9: 31st May 2024 | B9: May-2024 | C9: Bizvin | D9: 07AANFB0437D1ZT | E9: Bizwin-366-May-2024 | F9: =SUM(G9:J9) -> 4720 | G9: 4000 | H9: =G9*18% -> 720 | I9: 0 | J9: 0 | K9: =G9*2% -> 80 | L9: =F9-K9 -> 4640
A10: 31st May 2024 | B10: May-2024 | C10: Bizvin | D10: 07AANFB0437D1ZT | E10: Bizwin-367-May-2024 | F10: =SUM(G10:J10) -> 3481 | G10: 2950 | H10: =G10*18% -> 531 | I10: 0 | J10: 0 | K10: =G10*2% -> 59 | L10: =F10-K10 -> 3422
F11: =SUM(G11:J11) -> 0 | H11: =G11*18% -> 0 | I11: =G11*9% -> 0 | J11: =G11*9% -> 0 | K11: =G11*2% -> 0 | L11: =F11-K11 -> 0
A12: 45444
A13: 1st June 2024 | B13: May-2024 | C13: Dialstar | D13: 27AAECD8737G2ZE | E13: Dialstar-072-May-2024 | F13: =SUM(G13:J13) -> 52235.06 | G13: 44267 | H13: 0 | I13: =G13*9% -> 3984.03 | J13: =G13*9% -> 3984.03 | K13: =G13*2% -> 885.34 | L13: =F13-K13 -> 51349.72
A14: 30th Jun 2024 | B14: Jun-2024 | C14: Bizvin | D14: 07AANFB0437D1ZT | E14: Bizwin-368-June-2024 | F14: =SUM(G14:J14) -> 83442.52 | G14: 70714 | H14: =G14*18% -> 12728.52 | I14: 0 | J14: 0 | K14: =G14*2% -> 1414.28 | L14: =F14-K14 -> 82028.24
A15: 30th Jun 2024 | B15: Jun-2024 | C15: Bizvin | D15: 07AANFB0437D1ZT | E15: Bizwin-369-June-2024 | F15: =SUM(G15:J15) -> 259177.56 | G15: 219642 | H15: =G15*18% -> 39535.56 | I15: 0 | J15: 0 | K15: =G15*2% -> 4392.84 | L15: =F15-K15 -> 254784.72
A16: 30th Jun 2024 | B16: Jun-2024 | C16: Bizvin | D16: 07AANFB0437D1ZT | E16: Bizwin-370-June-2024 | F16: =SUM(G16:J16) -> 5905.9 | G16: 5005 | H16: =G16*18% -> 900.9 | I16: 0 | J16: 0 | K16: =G16*2% -> 100.1 | L16: =F16-K16 -> 5805.8
A17: 30th Jun 2024 | B17: Jun-2024 | C17: Frodoh Media | D17: 07AACCF9651M1Z5 | E17: Frodo-066-June-2024 | F17: =SUM(G17:J17) -> 619500 | G17: 525000 | H17: =G17*18% -> 94500 | I17: 0 | J17: 0 | K17: =G17*2% -> 10500 | L17: =F17-K17 -> 609000
A18: 30th Jun 2024 | B18: Jun-2024 | C18: Frodoh Media | D18: 07AACCF9651M1Z5 | E18: Frodo-067-June-2024 | F18: =SUM(G18:J18) -> 36226 | G18: 30700 | H18: =G18*18% -> 5526 | I18: 0 | J18: 0 | K18: =G18*2% -> 614 | L18: =F18-K18 -> 35612
F19: =SUM(G19:J19) -> 0 | H19: =G19*18% -> 0 | I19: =G19*9% -> 0 | J19: =G19*9% -> 0 | K19: =G19*2% -> 0 | L19: =F19-K19 -> 0
A20: 45474
A21: 31st Jul 2024 | B21: Jul-2024 | C21: Bizvin | D21: 07AANFB0437D1ZT | E21: Bizwin-371-Jul-2024 | F21: =SUM(G21:J21) -> 56513.74 | G21: 47893 | H21: =G21*18% -> 8620.74 | I21: 0 | J21: 0 | K21: =G21*2% -> 957.86 | L21: =F21-K21 -> 55555.88
A22: 31st Jul 2024 | B22: Jul-2024 | C22: Bizvin | D22: 07AANFB0437D1ZT | E22: Bizwin-372-Jul-2024 | F22: =SUM(G22:J22) -> 1180 | G22: 1000 | H22: =G22*18% -> 180 | I22: 0 | J22: 0 | K22: =G22*2% -> 20 | L22: =F22-K22 -> 1160
A23: 31st Jul 2024 | B23: Jul-2024 | C23: Bizvin | D23: 07AANFB0437D1ZT | E23: Bizwin-373-Jul-2024 | F23: =SUM(G23:J23) -> 1593 | G23: 1350 | H23: =G23*18% -> 243 | I23: 0 | J23: 0 | K23: =G23*2% -> 27 | L23: =F23-K23 -> 1566
A24: 31st Jul 2024 | B24: Jul-2024 | C24: Frodoh Media | D24: 07AACCF9651M1Z5 | E24: Frodo-068-July-2024 | F24: =SUM(G24:J24) -> 28320 | G24: 24000 | H24: =G24*18% -> 4320 | I24: 0 | J24: 0 | K24: =G24*2% -> 480 | L24: =F24-K24 -> 27840
A25: 31st Jul 2024 | B25: Jul-2024 | C25: Frodoh Media | D25: 07AACCF9651M1Z5 | E25: Frodo-069-July-2024 | F25: =SUM(G25:J25) -> 28320 | G25: 24000 | H25: =G25*18% -> 4320 | I25: 0 | J25: 0 | K25: =G25*2% -> 480 | L25: =F25-K25 -> 27840
A26: 31st Jul 2024 | B26: Jul-2024 | C26: Frodoh Media | D26: 07AACCF9651M1Z5 | E26: Frodo-070-July-2024 | F26: =SUM(G26:J26) -> 385152 | G26: 326400 | H26: =G26*18% -> 58752 | I26: 0 | J26: 0 | K26: =G26*2% -> 6528 | L26: =F26-K26 -> 378624
A27: 31st Jul 2024 | B27: Jul-2024 | C27: Frodoh Media | D27: 07AACCF9651M1Z5 | E27: Frodo-071-July-2024 | F27: =SUM(G27:J27) -> 578200 | G27: 490000 | H27: =G27*18% -> 88200 | I27: 0 | J27: 0 | K27: =G27*2% -> 9800 | L27: =F27-K27 -> 568400
F28: =SUM(G28:J28) -> 0 | H28: =G28*18% -> 0 | I28: =G28*9% -> 0 | J28: =G28*9% -> 0 | K28: =G28*2% -> 0 | L28: =F28-K28 -> 0
A29: 45505
A30: 31st Aug 2024 | B30: Aug-2024 | C30: Frodoh Media | D30: 07AACCF9651M1Z5 | E30: Frodo-072-Aug-2024 | F30: =SUM(G30:J30) -> 509760 | G30: 432000 | H30: =G30*18% -> 77760 | I30: 0 | J30: 0 | K30: =G30*2% -> 8640 | L30: =F30-K30 -> 501120
A31: 31st Aug 2024 | B31: Aug-2024 | C31: Frodoh Media | D31: 07AACCF9651M1Z5 | E31: Frodo-073-Aug-2024 | F31: =SUM(G31:J31) -> 43660 | G31: 37000 | H31: =G31*18% -> 6660 | I31: 0 | J31: 0 | K31: =G31*2% -> 740 | L31: =F31-K31 -> 42920
A32: 31st Aug 2024 | B32: Aug-2024 | C32: Frodoh Media | D32: 07AACCF9651M1Z5 | E32: Frodo-074-Aug-2024 | F32: =SUM(G32:J32) -> 21240 | G32: 18000 | H32: =G32*18% -> 3240 | I32: 0 | J32: 0 | K32: =G32*2% -> 360 | L32: =F32-K32 -> 20880
A33: 31st Aug 2024 | B33: Aug-2024 | C33: Bizvin | D33: 07AANFB0437D1ZT | E33: Bizwin-374-Aug-2024 | F33: =SUM(G33:J33) -> 2360 | G33: 2000 | H33: =G33*18% -> 360 | I33: 0 | J33: 0 | K33: =G33*2% -> 40 | L33: =F33-K33 -> 2320
A34: 31st Aug 2024 | B34: Aug-2024 | C34: Bizvin | D34: 07AANFB0437D1ZT | E34: Bizwin-375-Aug-2024 | F34: =SUM(G34:J34) -> 2360 | G34: 2000 | H34: =G34*18% -> 360 | I34: 0 | J34: 0 | K34: =G34*2% -> 40 | L34: =F34-K34 -> 2320
A35: 31st Aug 2024 | B35: Aug-2024 | C35: Bizvin | D35: 07AANFB0437D1ZT | E35: Bizwin-376-Aug-2024 | F35: =SUM(G35:J35) -> 1858.5 | G35: 1575 | H35: =G35*18% -> 283.5 | I35: 0 | J35: 0 | K35: =G35*2% -> 31.5 | L35: =F35-K35 -> 1827
F36: =SUM(G36:J36) -> 0 | H36: =G36*18% -> 0 | I36: =G36*9% -> 0 | J36: =G36*9% -> 0 | K36: =G36*2% -> 0 | L36: =F36-K36 -> 0
A37: 45536
A38: 30th Sep 2024 | B38: Sep-2024 | C38: Bizvin | D38: 07AANFB0437D1ZT | E38: Bizwin-379-Sep-2024 | F38: =SUM(G38:J38) -> 199869.58 | G38: 169381 | H38: =G38*18% -> 30488.58 | I38: 0 | J38: 0 | K38: =G38*2% -> 3387.62 | L38: =F38-K38 -> 196481.96
A39: 30th Sep 2024 | B39: Sep-2024 | C39: Bizvin | D39: 07AANFB0437D1ZT | E39: Bizwin-380-Sep-2024 | F39: =SUM(G39:J39) -> 486160 | G39: 412000 | H39: =G39*18% -> 74160 | I39: 0 | J39: 0 | K39: =G39*2% -> 8240 | L39: =F39-K39 -> 477920
A40: 30th Sep 2024 | B40: Sep-2024 | C40: Bizvin | D40: 07AANFB0437D1ZT | E40: Bizwin-381-Sep-2024 | F40: =SUM(G40:J40) -> 4956 | G40: 4200 | H40: =G40*18% -> 756 | I40: 0 | J40: 0 | K40: =G40*2% -> 84 | L40: =F40-K40 -> 4872
...

Sheet HOME
A1: ADVERTISERS | B1: Turnover | C1: Amt Receivable | D1: Amt Received | E1: Amt Pending
J2: GST + TURNOVER
A3: Brands-In-Motion | B3: ='Brands-In-Motion'!F1 -> 0 | C3: ='Brands-In-Motion'!L1 -> 0 | D3: ='Brands-In-Motion'!M1 -> 0 | E3: =C3-D3 -> 0 | G3: Total Turnover | H3: =SUM(B3:B71) -> 8849951.6 | J3: Total Turnover | L3: ='GST-Monthwise'!F2 -> 8849951.6 | O3: =H3-L3 -> 0
A4: Affle | B4: ='Affle International'!F2 -> 0 | C4: ='Affle International'!K2 -> 0 | D4: ='Affle International'!L2 -> 0 | E4: =C4-D4 -> 0
A5: Appmontize | B5: =Appmontize!F1 -> 1044553.7 | C5: =Appmontize!L1 -> 1026849.4 | D5: =Appmontize!M1 -> 1026849 | E5: =C5-D5 -> 0.4 | G5: Amt Receivable | H5: =SUM(C3:C73) -> 8699952.4 | J5: Total I-GST | L5: ='GST-Monthwise'!H2 -> 1342024.6
A6: Be-Digitech | B6: ='Be-Digitech'!E24 -> 0 | C6: ='Be-Digitech'!K24 -> 0 | D6: ='Be-Digitech'!L24 -> 0 | E6: =C6-D6 -> 0
A7: Bizwin | B7: =Bizvin!F1 -> 1145998.3 | C7: =Bizvin!L1 -> 1126574.6 | D7: =Bizvin!M1 -> 1126559 | E7: =C7-D7 -> 15.6 | G7: Amt Received | H7: =SUM(D3:D73) -> 8699925 | J7: Total C-GST | L7: ='GST-Monthwise'!I2 -> 3984.03
A8: Bizvin Media | B8: ='Bizvin Media'!F1 -> 1600310.1 | C8: ='Bizvin Media'!L1 -> 1573186.2 | D8: ='Bizvin Media'!M1 -> 1573174 | E8: =C8-D8 -> 12.2
A9: DialStar Digital | B9: ='Dial-Star'!F1 -> 52235.06 | C9: ='Dial-Star'!M1 -> 51349.72 | D9: ='Dial-Star'!N1 -> 51350 | E9: =C9-D9 -> -0.28 | G9: Amt Pending | H9: =SUM(E3:E73) -> 27.44 | J9: Total S-GST | L9: ='GST-Monthwise'!J2 -> 3984.03
A10: FRODO Media | B10: ='FRODO Media'!F1 -> 5006854.5 | C10: ='FRODO Media'!L1 -> 4921992.5 | D10: ='FRODO Media'!M1 -> 4921993 | E10: =C10-D10 -> -0.48
A11: Quanta-Fi | B11: ='Quanta-Fi'!E18 -> 0 | C11: ='Quanta-Fi'!K18 -> 0 | D11: ='Quanta-Fi'!L18 -> 0 | E11: =C11-D11 -> 0 | J11: Amt Receivable | L11: ='GST-Monthwise'!L2 -> 8699952.4
A12: Silver-Push | B12: ='Silver-Push'!F77 -> 0 | C12: ='Silver-Push'!L77 -> 0 | D12: ='Silver-Push'!M77 -> 0 | E12: =C12-D12 -> 0
A13: SVG+DGM | B13: ='SVG+DGM'!F28 -> 0 | C13: ='SVG+DGM'!L28 -> 0 | D13: ='SVG+DGM'!M28 -> 0 | E13: =C13-D13 -> 0
A14: THOUGHTPIXELS | B14: =THOUGHTPIXELS!F1 -> 0 | C14: =THOUGHTPIXELS!M1 -> 0 | D14: =THOUGHTPIXELS!N1 -> 0 | E14: =C14-D14 -> 0 | J14: GST-MONTHWISE
A15: SVG-INDIA | B15: ='SVG-INDIA'!E18 -> 0 | C15: ='SVG-INDIA'!K18 -> 0 | D15: ='SVG-INDIA'!L18 -> 0 | E15: =C15-D15 -> 0
A16: XAPADS | B16: =XAPADS!F1 -> 0 | C16: =XAPADS!L1 -> 0 | D16: =XAPADS!M1 -> 0 | E16: =C16-D16 -> 0 | G16: UPDATED - 2nd-December 2025
G18: Click on the Advertiser Name

Sheet Dial-Star
A1: HOME | C1: GST - Monthwise | F1: =SUM(F2:F120) -> 52235.06 | G1: =SUM(G2:G120) -> 44267 | H1: =SUM(H2:H71) -> 3984.03 | L1: =SUM(L2:L120) -> 885.34 | M1: =SUM(M2:M120) -> 51349.72 | N1: =SUM(N4:N126) -> 51350
A3: Inv Date | B3: RO No | C3: Campaigns | D3: Adunit | E3: Invoice number | F3: Final Amount | G3: Invoice amt | H3: CGST 9% | I3: SGST 9% | J3: Cam End date | K3: Due date | L3: Less 2% | M3: Amt Receivable | N3: Amount Received | O3: Amt Received Date | P3: Status | Q3: Cheque No
A4: 1st June 2024 | C4: Chanakya-University | D4: CPC | E4: Dialstar-072-May-2024 | F4: =SUM(G4:I4) -> 52235.06 | G4: 44267 | H4: =G4*9% -> 3984.03 | I4: =G4*9% -> 3984.03 | L4: =G4*2% -> 885.34 | M4: =F4-L4 -> 51349.72 | N4: 51350 | O4: 8th Oct 2024 | P4: CLEAR | Q4: NEFT-PNB
F5: =SUM(G5:I5) -> 0 | H5: =G5*9% -> 0 | I5: =G5*9% -> 0 | L5: =G5*2% -> 0 | M5: =F5-L5 -> 0
F6: =SUM(G6:I6) -> 0 | H6: =G6*9% -> 0 | I6: =G6*9% -> 0 | L6: =G6*2% -> 0 | M6: =F6-L6 -> 0
F7: =SUM(G7:I7) -> 0 | H7: =G7*9% -> 0 | I7: =G7*9% -> 0 | L7: =G7*2% -> 0 | M7: =F7-L7 -> 0
F8: =SUM(G8:I8) -> 0 | H8: =G8*9% -> 0 | I8: =G8*9% -> 0 | L8: =G8*2% -> 0 | M8: =F8-L8 -> 0
F9: =SUM(G9:I9) -> 0 | H9: =G9*9% -> 0 | I9: =G9*9% -> 0 | L9: =G9*2% -> 0 | M9: =F9-L9 -> 0
F10: =SUM(G10:I10) -> 0 | H10: =G10*9% -> 0 | I10: =G10*9% -> 0 | L10: =G10*2% -> 0 | M10: =F10-L10 -> 0
F11: =SUM(G11:I11) -> 0 | H11: =G11*9% -> 0 | I11: =G11*9% -> 0 | L11: =G11*2% -> 0 | M11: =F11-L11 -> 0
F12: =SUM(G12:I12) -> 0 | H12: =G12*9% -> 0 | I12: =G12*9% -> 0 | L12: =G12*2% -> 0 | M12: =F12-L12 -> 0
F13: =SUM(G13:I13) -> 0 | H13: =G13*9% -> 0 | I13: =G13*9% -> 0 | L13: =G13*2% -> 0 | M13: =F13-L13 -> 0
F14: =SUM(G14:I14) -> 0 | H14: =G14*9% -> 0 | I14: =G14*9% -> 0 | L14: =G14*2% -> 0 | M14: =F14-L14 -> 0
F15: =SUM(G15:I15) -> 0 | H15: =G15*9% -> 0 | I15: =G15*9% -> 0 | L15: =G15*2% -> 0 | M15: =F15-L15 -> 0
F16: =SUM(G16:I16) -> 0 | H16: =G16*9% -> 0 | I16: =G16*9% -> 0 | L16: =G16*2% -> 0 | M16: =F16-L16 -> 0
... F76: =SUM(G76:I76) -> 0 | H76: =G76*9% -> 0 | I76: =G76*9% -> 0 | L76: =G76*2% -> 0 | M76: =F76-L76 -> 0

Sheet Bizvin
A1: HOME | C1: GST - Monthwise | F1: =SUM(F2:F75) -> 1145998.3 | G1: =SUM(G2:G75) -> 971185 | H1: =SUM(H2:H75) -> 174813.3 | K1: =SUM(K2:K75) -> 19423.7 | L1: =SUM(L2:L75) -> 1126574.6 | M1: =SUM(M2:M75) -> 1126559
A2: Inv Date | B2: RO No | C2: Campaigns | D2: Adunit | E2: Invoice number | F2: Final Amount | G2: Invoice amt | H2: IGST 18% | I2: Cam End date | J2: Due date | K2: Less 2% | L2: Amt Receivable | M2: Amount Received | N2: Amt Received Date | O2: Status | P2: Cheque No
A3: 31st May 2024 | C3: Intel-vPro | D3: CPV | E3: Bizwin-366-May-2024 | F3: =SUM(G3:H3) -> 4720 | G3: 4000 | H3: =G3*18% -> 720 | K3: =G3*2% -> 80 | L3: =F3-K3 -> 4640 | M3: 4640 | N3: 22nd Nov 2024 | O3: CLEAR | P3: NEFT-KOTAK
A4: 31st May 2024 | C4: Acer-Enterprise | D4: CPV | E4: Bizwin-367-May-2024 | F4: =SUM(G4:H4) -> 3481 | G4: 2950 | H4: =G4*18% -> 531 | K4: =G4*2% -> 59 | L4: =F4-K4 -> 3422 | M4: 3422 | N4: 22nd Nov 2024 | O4: CLEAR | P4: NEFT-KOTAK
A5: 30th Jun 2024 | C5: Exxon | D5: CPM | E5: Bizwin-368-June-2024 | F5: =SUM(G5:H5) -> 83442.52 | G5: 70714 | H5: =G5*18% -> 12728.52 | K5: =G5*2% -> 1414.28 | L5: =F5-K5 -> 82028.24 | M5: 82029 | N5: 28th Nov 2024 | O5: CLEAR | P5: NEFT-KOTAK
A6: 30th Jun 2024 | C6: Tata EV | D6: CPM | E6: Bizwin-369-June-2024 | F6: =SUM(G6:H6) -> 259177.56 | G6: 219642 | H6: =G6*18% -> 39535.56 | K6: =G6*2% -> 4392.84 | L6: =F6-K6 -> 254784.72 | M6: 254785 | N6: 28th Nov 2024 | O6: CLEAR | P6: NEFT-KOTAK
A7: 30th Jun 2024 | C7: Acer | D7: CPV | E7: Bizwin-370-June-2024 | F7: =SUM(G7:H7) -> 5905.9 | G7: 5005 | H7: =G7*18% -> 900.9 | K7: =G7*2% -> 100.1 | L7: =F7-K7 -> 5805.8 | M7: 5806 | N7: 28th Nov 2024 | O7: CLEAR | P7: NEFT-KOTAK
A8: 31st Jul 2024 | C8: Exxon | D8: CPM | E8: Bizwin-371-Jul-2024 | F8: =SUM(G8:H8) -> 56513.74 | G8: 47893 | H8: =G8*18% -> 8620.74 | K8: =G8*2% -> 957.86 | L8: =F8-K8 -> 55555.88 | M8: 55556 | N8: 28th Nov 2024 | O8: CLEAR | P8: NEFT-KOTAK
A9: 31st Jul 2024 | C9: Intel V Pro | D9: CPV | E9: Bizwin-372-Jul-2024 | F9: =SUM(G9:H9) -> 1180 | G9: 1000 | H9: =G9*18% -> 180 | K9: =G9*2% -> 20 | L9: =F9-K9 -> 1160 | M9: 1160 | N9: 28th Nov 2024 | O9: CLEAR | P9: NEFT-KOTAK
A10: 31st Jul 2024 | C10: Intel AI | D10: CPV | E10: Bizwin-373-Jul-2024 | F10: =SUM(G10:H10) -> 1593 | G10: 1350 | H10: =G10*18% -> 243 | K10: =G10*2% -> 27 | L10: =F10-K10 -> 1566 | M10: 1566 | N10: 28th Nov 2024 | O10: CLEAR | P10: NEFT-KOTAK
A11: 31st Aug 2024 | C11: Exxon | D11: CPV | E11: Bizwin-374-Aug-2024 | F11: =SUM(G11:H11) -> 2360 | G11: 2000 | H11: =G11*18% -> 360 | K11: =G11*2% -> 40 | L11: =F11-K11 -> 2320 | M11: 2320 | N11: 28th Nov 2024 | O11: CLEAR | P11: NEFT-KOTAK
A12: 31st Aug 2024 | C12: Intel V Pro | D12: CPV | E12: Bizwin-375-Aug-2024 | F12: =SUM(G12:H12) -> 2360 | G12: 2000 | H12: =G12*18% -> 360 | K12: =G12*2% -> 40 | L12: =F12-K12 -> 2320 | M12: 2320 | N12: 28th Nov 2024 | O12: CLEAR | P12: NEFT-KOTAK
A13: 31st Aug 2024 | C13: Amex | D13: CPV | E13: Bizwin-376-Aug-2024 | F13: =SUM(G13:H13) -> 1858.5 | G13: 1575 | H13: =G13*18% -> 283.5 | K13: =G13*2% -> 31.5 | L13: =F13-K13 -> 1827 | M13: 1810 | N13: 28th Nov 2024 | O13: CLEAR | P13: NEFT-KOTAK
A14: 30th Sep 2024 | C14: Exxon-CPM-Banner | D14: CPM | E14: Bizwin-379-Sep-2024 | F14: =SUM(G14:H14) -> 199869.58 | G14: 169381 | H14: =G14*18% -> 30488.58 | K14: =G14*2% -> 3387.62 | L14: =F14-K14 -> 196481.96 | M14: 196482 | N14: 21st Jan 2025 | O14: CLEAR | P14: NEFT-KOTAK
... A26: 31st Dec 2024 | C26: Exxon Mobil | D26: CPV | E26: Bizwin-391-Dec-2024 | F26: =SUM(G26:H26) -> 4277.5 | G26: 3625 | H26: =G26*18% -> 652.5 | K26: =G26*2% -> 72.5 | L26: =F26-K26 -> 4205 | M26: 4205 | N26: 1st Oct 2025 | O26: CLEAR | P26: NEFT-KOTAK
F27: =SUM(G27:H27) -> 0 | H27: =G27*18% -> 0 | K27: =G27*2% -> 0 | L27: =F27-K27 -> 0
F28: =SUM(G28:H28) -> 0 | H28: =G28*18% -> 0 | K28: =G28*2% -> 0 | L28: =F28-K28 -> 0
F29: =SUM(G29:H29) -> 0 | H29: =G29*18% -> 0 | K29: =G29*2% -> 0 | L29: =F29-K29 -> 0
F30: =SUM(G30:H30) -> 0 | H30: =G30*18% -> 0 | K30: =G30*2% -> 0 | L30: =F30-K30 -> 0
F31: =SUM(G31:H31) -> 0 | H31: =G31*18% -> 0 | K31: =G31*2% -> 0 | L31: =F31-K31 -> 0 | P31: 70
F32: =SUM(G32:H32) -> 0 | H32: =G32*18% -> 0 | K32: =G32*2% -> 0 | L32: =F32-K32 -> 0
F33: =SUM(G33:H33) -> 0 | H33: =G33*18% -> 0 | K33: =G33*2% -> 0 | L33: =F33-K33 -> 0
F34: =SUM(G34:H34) -> 0 | H34: =G34*18% -> 0 | K34: =G34*2% -> 0 | L34: =F34-K34 -> 0
F35: =SUM(G35:H35) -> 0 | H35: =G35*18% -> 0 | K35: =G35*2% -> 0 | L35: =F35-K35 -> 0
F36: =SUM(G36:H36) -> 0 | H36: =G36*18% -> 0 | K36: =G36*2% -> 0 | L36: =F36-K36 -> 0
F37: =SUM(G37:H37) -> 0 | H37: =G37*18% -> 0 | K37: =G37*2% -> 0 | L37: =F37-K37 -> 0
F38: =SUM(G38:H38) -> 0 | H38: =G38*18% -> 0 | K38: =G38*2% -> 0 | L38: =F38-K38 -> 0
F39: =SUM(G39:H39) -> 0 | H39: =G39*18% -> 0 | K39: =G39*2% -> 0 | L39: =F39-K39 -> 0
F40: =SUM(G40:H40) -> 0 | H40: =G40*18% -> 0 | K40: =G40*2% -> 0 | L40: =F40-K40 -> 0
F41: =SUM(G41:H41) -> 0 | H41: =G41*18% -> 0 | K41: =G41*2% -> 0 | L41: =F41-K41 -> 0
F42: =SUM(G42:H42) -> 0 | H42: =G42*18% -> 0 | K42: =G42*2% -> 0 | L42: =F42-K42 -> 0
F43: =SUM(G43:H43) -> 0 | H43: =G43*18% -> 0 | K43: =G43*2% -> 0 | L43: =F43-K43 -> 0
... F75: =SUM(G75:H75) -> 0 | H75: =G75*18% -> 0 | K75: =G75*2% -> 0 | L75: =F75-K75 -> 0
E77: HOME | F77: =SUM(F2:F75) -> 1145998.3 | G77: =SUM(G2:G75) -> 971185 | H77: =SUM(H2:H75) -> 174813.3 | K77: =SUM(K2:K75) -> 19423.7 | L77: =SUM(L2:L75) -> 1126574.6 | M77: =SUM(M2:M75) -> 1126559
E78: Monthwise

Sheet Bizvin Media
A1: HOME | C1: GST - Monthwise | F1: =SUM(F2:F77) -> 1600310.1 | G1: =SUM(G2:G77) -> 1356195 | H1: =SUM(H2:H77) -> 244115.1 | K1: =SUM(K2:K77) -> 27123.9 | L1: =SUM(L2:L77) -> 1573186.2 | M1: =SUM(M2:M77) -> 1573174
A2: Inv Date | B2: RO No | C2: Campaigns | D2: Adunit | E2: Invoice number | F2: Final Amount | G2: Invoice amt | H2: IGST 18% | I2: Cam End date | J2: Due date | K2: Less 2% | L2: Amt Receivable | M2: Amount Received | N2: Amt Received Date | O2: Status | P2: Cheque No
A3: 30th Sep 2024 | C3: WGC-CPM-Month-1 | D3: CPM | E3: Bizvin-Media-001-Aug-2024 | F3: =SUM(G3:H3) -> 237038.4 | G3: 200880 | H3: =G3*18% -> 36158.4 | K3: =G3*2% -> 4017.6 | L3: =F3-K3 -> 233020.8 | O3: CLEAR | P3: NEFT-KOTAK
A4: 30th Sep 2024 | C4: WGC-CPM-Month-2 | D4: CPM | E4: Bizvin-Media-002-Aug-2024 | F4: =SUM(G4:H4) -> 237038.4 | G4: 200880 | H4: =G4*18% -> 36158.4 | K4: =G4*2% -> 4017.6 | L4: =F4-K4 -> 233020.8 | O4: CLEAR | P4: NEFT-KOTAK
A5: 31st Oct 2024 | C5: WGC-CPM-Month-3 | D5: CPM | E5: Bizvin-Media-003-Oct-2024 | F5: =SUM(G5:H5) -> 237038.4 | G5: 200880 | H5: =G5*18% -> 36158.4 | K5: =G5*2% -> 4017.6 | L5: =F5-K5 -> 233020.8 | O5: CLEAR | P5: NEFT-KOTAK
A6: 30th Nov 2024 | C6: WGC-CPM-Month-4 | D6: CPM | E6: Bizvin-Media-004-Nov-2024 | F6: =SUM(G6:H6) -> 293478.98 | G6: 248711 | H6: =G6*18% -> 44767.98 | K6: =G6*2% -> 4974.22 | L6: =F6-K6 -> 288504.76 | M6: 987565 | N6: 21st Jan 2025 | O6: CLEAR | P6: NEFT-KOTAK
A7: 31st Dec 2024 | C7: WGC-CPM-Month-5 | D7: CPM | E7: Bizvin-Media-005-Dec-2024 | F7: =SUM(G7:H7) -> 180597.82 | G7: 153049 | H7: =G7*18% -> 27548.82 | K7: =G7*2% -> 3060.98 | L7: =F7-K7 -> 177536.84 | M7: 177537 | N7: 14th Feb 2025 | O7: CLEAR | P7: NEFT-KOTAK
A8: 31st Dec 2024 | C8: AMEX | D8: CPV | E8: Bizvin-Media-006-Dec-2024 | F8: =SUM(G8:H8) -> 2867.4 | G8: 2430 | H8: =G8*18% -> 437.4 | K8: =G8*2% -> 48.6 | L8: =F8-K8 -> 2818.8 | O8: CLEAR | P8: NEFT-KOTAK
A9: 31st Dec 2024 | C9: Intel V Pro | D9: CPV | E9: Bizvin-Media-007-Dec-2024 | F9: =SUM(G9:H9) -> 5605 | G9: 4750 | H9: =G9*18% -> 855 | K9: =G9*2% -> 95 | L9: =F9-K9 -> 5510 | M9: 5510 | N9: 14th Feb 2025 | O9: CLEAR | P9: NEFT-KOTAK
A10: 31st Dec 2024 | C10: Telco | D10: CPV | E10: Bizvin-Media-008-Dec-2024 | F10: =SUM(G10:H10) -> 5079.9 | G10: 4305 | H10: =G10*18% -> 774.9 | K10: =G10*2% -> 86.1 | L10: =F10-K10 -> 4993.8 | M10: 4994 | N10: 14th Feb 2025 | O10: CLEAR | P10: NEFT-KOTAK
A11: 31st Dec 2024 | C11: Lenovo | D11: CPM | E11: Bizvin-Media-009-Dec-2024 | F11: =SUM(G11:H11) -> 372880 | G11: 316000 | H11: =G11*18% -> 56880 | K11: =G11*2% -> 6320 | L11: =F11-K11 -> 366560 | M11: 369368 | N11: 25th April 2025 | O11: CLEAR | P11: NEFT-KOTAK
A12: 28th Feb 2025 | C12: Intel-Ultra-Core | D12: CPV | E12: Bizvin-Media-010-Feb-2025 | F12: =SUM(G12:H12) -> 1770 | G12: 1500 | H12: =G12*18% -> 270 | K12: =G12*2% -> 30 | L12: =F12-K12 -> 1740 | M12: 1740 | N12: 28th May 2025 | O12: CLEAR | P12: NEFT-PNB | R12: 3590
A13: 28th Feb 2025 | C13: Acer | D13: CPV | E13: Bizvin-Media-011-Feb-2025 | F13: =SUM(G13:H13) -> 2596 | G13: 2200 | H13: =G13*18% -> 396 | K13: =G13*2% -> 44 | L13: =F13-K13 -> 2552 | M13: 2552 | N13: 17th Jun 2025 | O13: CLEAR | P13: NEFT-PNB | R13: 4292
A14: 31st Mar 2025 | C14: Intel Core Ultra | D14: CPV | E14: Bizvin-Media-012-Mar-2025 | F14: =SUM(G14:H14) -> 8018.1 | G14: 6795 | H14: =G14*18% -> 1223.1 | K14: =G14*2% -> 135.9 | L14: =F14-K14 -> 7882.2 | M14: 7882 | N14: 17th Jun 2025 | O14: CLEAR | P14: NEFT-PNB
A15: 31st Mar 2025 | C15: Intel V Pro | D15: CPV | E15: Bizvin-Media-013-Mar-2025 | F15: =SUM(G15:H15) -> 16301.7 | G15: 13815 | H15: =G15*18% -> 2486.7 | K15: =G15*2% -> 276.3 | L15: =F15-K15 -> 16025.4 | M15: 16026 | N15: 17th Jun 2025 | O15: CLEAR | P15: NEFT-PNB
F16: =SUM(G16:H16) -> 0 | H16: =G16*18% -> 0 | K16: =G16*2% -> 0 | L16: =F16-K16 -> 0
F17: =SUM(G17:H17) -> 0 | H17: =G17*18% -> 0 | K17: =G17*2% -> 0 | L17: =F17-K17 -> 0
F18: =SUM(G18:H18) -> 0 | H18: =G18*18% -> 0 | K18: =G18*2% -> 0 | L18: =F18-K18 -> 0
F19: =SUM(G19:H19) -> 0 | H19: =G19*18% -> 0 | K19: =G19*2% -> 0 | L19: =F19-K19 -> 0
F20: =SUM(G20:H20) -> 0 | H20: =G20*18% -> 0 | K20: =G20*2% -> 0 | L20: =F20-K20 -> 0
F21: =SUM(G21:H21) -> 0 | H21: =G21*18% -> 0 | K21: =G21*2% -> 0 | L21: =F21-K21 -> 0
F22: =SUM(G22:H22) -> 0 | H22: =G22*18% -> 0 | K22: =G22*2% -> 0 | L22: =F22-K22 -> 0
F23: =SUM(G23:H23) -> 0 | H23: =G23*18% -> 0 | K23: =G23*2% -> 0 | L23: =F23-K23 -> 0
F24: =SUM(G24:H24) -> 0 | H24: =G24*18% -> 0 | K24: =G24*2% -> 0 | L24: =F24-K24 -> 0
F25: =SUM(G25:H25) -> 0 | H25: =G25*18% -> 0 | K25: =G25*2% -> 0 | L25: =F25-K25 -> 0
F26: =SUM(G26:H26) -> 0 | H26: =G26*18% -> 0 | K26: =G26*2% -> 0 | L26: =F26-K26 -> 0
F27: =SUM(G27:H27) -> 0 | H27: =G27*18% -> 0 | K27: =G27*2% -> 0 | L27: =F27-K27 -> 0
... F77: =SUM(G77:H77) -> 0 | H77: =G77*18% -> 0 | K77: =G77*2% -> 0 | L77: =F77-K77 -> 0
E79: HOME | F79: =SUM(F2:F77) -> 1600310.1 | G79: =SUM(G2:G77) -> 1356195 | H79: =SUM(H2:H77) -> 244115.1 | K79: =SUM(K2:K77) -> 27123.9 | L79: =SUM(L2:L77) -> 1573186.2 | M79: =SUM(M2:M77) -> 1573174
E80: Monthwise

Sheet FRODO Media
A1: HOME | C1: GST - Monthwise | F1: =SUM(F2:F120) -> 5006854.5 | G1: =SUM(G2:G120) -> 4243097 | H1: =SUM(H2:H71) -> 763757.46 | K1: =SUM(K2:K120) -> 84861.94 | L1: =SUM(L2:L120) -> 4921992.5 | M1: =SUM(M4:M126) -> 4921993
A3: Inv Date | B3: RO No | C3: Campaigns | D3: Adunit | E3: Invoice number | F3: Final Amount | G3: Invoice amt | H3: IGST 18% | I3: Cam End date | J3: Due date | K3: Less 2% | L3: Amt Receivable | M3: Amount Received | N3: Amt Received Date | O3: Status | P3: Cheque No
A4: 31st May 2024 | C4: Tata-Rewire | D4: CPV | E4: Frodo-064-Apr-May-2024 | F4: =SUM(G4:H4) -> 35400 | G4: 30000 | H4: =G4*18% -> 5400 | K4: =G4*2% -> 600 | L4: =F4-K4 -> 34800
A5: 31st May 2024 | C5: Tata-Winger | D5: CPV | E5: Frodo-065-Apr-May-2024 | F5: =SUM(G5:H5) -> 14160 | G5: 12000 | H5: =G5*18% -> 2160 | K5: =G5*2% -> 240 | L5: =F5-K5 -> 13920
A6: 30th Jun 2024 | C6: Lenskart | D6: CPM | E6: Frodo-066-June-2024 | F6: =SUM(G6:H6) -> 619500 | G6: 525000 | H6: =G6*18% -> 94500 | K6: =G6*2% -> 10500 | L6: =F6-K6 -> 609000
A7: 30th Jun 2024 | C7: ACC & Ambuja | D7: CPV | E7: Frodo-067-June-2024 | F7: =SUM(G7:H7) -> 36226 | G7: 30700 | H7: =G7*18% -> 5526 | K7: =G7*2% -> 614 | L7: =F7-K7 -> 35612 | M7: 693332 | N7: 2nd Sep 2024 | O7: CLEAR | P7: NEFT-PNB
A8: 31st Jul 2024 | C8: Jeep-Wrangler | D8: CPV | E8: Frodo-068-July-2024 | F8: =SUM(G8:H8) -> 28320 | G8: 24000 | H8: =G8*18% -> 4320 | K8: =G8*2% -> 480 | L8: =F8-K8 -> 27840
A9: 31st Jul 2024 | C9: Bridgestone | D9: CPV | E9: Frodo-069-July-2024 | F9: =SUM(G9:H9) -> 28320 | G9: 24000 | H9: =G9*18% -> 4320 | K9: =G9*2% -> 480 | L9: =F9-K9 -> 27840
A10: 31st Jul 2024 | C10: Lenskart Part 1 & 2 | D10: CPM | E10: Frodo-070-July-2024 | F10: =SUM(G10:H10) -> 385152 | G10: 326400 | H10: =G10*18% -> 58752 | K10: =G10*2% -> 6528 | L10: =F10-K10 -> 378624
A11: 31st Jul 2024 | C11: Infosys ITD | D11: CPM | E11: Frodo-071-July-2024 | F11: =SUM(G11:H11) -> 578200 | G11: 490000 | H11: =G11*18% -> 88200 | K11: =G11*2% -> 9800 | L11: =F11-K11 -> 568400 | M11: 1002704 | N11: 25th Nov 2024 | O11: CLEAR | P11: NEFT-PNB
A12: 31st Aug 2024 | C12: Lenskart-Part-1-&-2 | D12: CPM | E12: Frodo-072-Aug-2024 | F12: =SUM(G12:H12) -> 509760 | G12: 432000 | H12: =G12*18% -> 77760 | K12: =G12*2% -> 8640 | L12: =F12-K12 -> 501120
A13: 31st Aug 2024 | C13: Tata Magic | D13: CPV | E13: Frodo-073-Aug-2024 | F13: =SUM(G13:H13) -> 43660 | G13: 37000 | H13: =G13*18% -> 6660 | K13: =G13*2% -> 740 | L13: =F13-K13 -> 42920
A14: 31st Aug 2024 | C14: Bridgestone | D14: CPV | E14: Frodo-074-Aug-2024 | F14: =SUM(G14:H14) -> 21240 | G14: 18000 | H14: =G14*18% -> 3240 | K14: =G14*2% -> 360 | L14: =F14-K14 -> 20880
A15: 30th Sep 2024 | C15: Citroen | D15: CPV | E15: Frodo-075-Sep-2024 | F15: =SUM(G15:H15) -> 11800 | G15: 10000 | H15: =G15*18% -> 1800 | K15: =G15*2% -> 200 | L15: =F15-K15 -> 11600
A16: 30th Sep 2024 | C16: Bridgestone | D16: CPV | E16: Frodo-076-Sep-2024 | F16: =SUM(G16:H16) -> 21240 | G16: 18000 | H16: =G16*18% -> 3240 | K16: =G16*2% -> 360 | L16: =F16-K16 -> 20880
A17: 30th Sep 2024 | C17: Ambuja-Peacock | D17: CPV | E17: Frodo-077-Sep-2024 | F17: =SUM(G17:H17) -> 47200 | G17: 40000 | H17: =G17*18% -> 7200 | K17: =G17*2% -> 800 | L17: =F17-K17 -> 46400
A18: 30th Sep 2024 | C18: Tata-Mileage | D18: CPV | E18: Frodo-078-Sep-2024 | F18: =SUM(G18:H18) -> 54280 | G18: 46000 | H18: =G18*18% -> 8280 | K18: =G18*2% -> 920 | L18: =F18-K18 -> 53360
A19: 30th Sep 2024 | C19: Lenskart | D19: CPM | E19: Frodo-079-Sep-2024 | F19: =SUM(G19:H19) -> 147193.2 | G19: 124740 | H19: =G19*18% -> 22453.2 | K19: =G19*2% -> 2494.8 | L19: =F19-K19 -> 144698.4 | M19: 841858 | N19: 14th Feb 2025 | O19: CLEAR | P19: NEFT-PNB
A20: 31st Oct 2024 | C20: Lenskart | D20: CPM | E20: Frodo-080-Oct-2024 | F20: =SUM(G20:H20) -> 46020 | G20: 39000 | H20: =G20*18% -> 7020 | K20: =G20*2% -> 780 | L20: =F20-K20 -> 45240
A21: 31st Oct 2024 | C21: Ujjivan Bank | D21: CPV | E21: Frodo-081-Oct-2024 | F21: =SUM(G21:H21) -> 400217.06 | G21: 339167 | H21: =G21*18% -> 61050.06 | K21: =G21*2% -> 6783.34 | L21: =F21-K21 -> 393433.72
A22: 31st Oct 2024 | C22: Motilal Oswal | D22: CPV | E22: Frodo-082-Oct-2024 | F22: =SUM(G22:H22) -> 29500 | G22: 25000 | H22: =G22*18% -> 4500 | K22: =G22*2% -> 500 | L22: =F22-K22 -> 29000
A23: 31st Oct 2024 | C23: Ambuja Monsoon | D23: CPV | E23: Frodo-083-Oct-2024 | F23: =SUM(G23:H23) -> 47200 | G23: 40000 | H23: =G23*18% -> 7200 | K23: =G23*2% -> 800 | L23: =F23-K23 -> 46400
A24: 31st Oct 2024 | C24: Borosil | D24: CPV | E24: Frodo-084-Oct-2024 | F24: =SUM(G24:H24) -> 28320 | G24: 24000 | H24: =G24*18% -> 4320 | K24: =G24*2% -> 480 | L24: =F24-K24 -> 27840
A25: 31st Oct 2024 | C25: Tata | D25: CPV | E25: Frodo-085-Oct-2024 | F25: =SUM(G25:H25) -> 49560 | G25: 42000 | H25: =G25*18% -> 7560 | K25: =G25*2% -> 840 | L25: =F25-K25 -> 48720
A26: 30th Nov 2024 | C26: Jeep-Meridian-Launch | D26: CPV | E26: Frodo-086-Nov-2024 | F26: =SUM(G26:H26) -> 18880 | G26: 16000 | H26: =G26*18% -> 2880 | K26: =G26*2% -> 320 | L26: =F26-K26 -> 18560 | M26: 609194 | N26: 26th March 2025 | O26: CLEAR | P26: NEFT-PNB
A27: 31st Dec 2024 | C27: Monkey-Shoulder | D27: CPV | E27: Frodo-087-Dec-2024 | F27: =SUM(G27:H27) -> 43660 | G27: 37000 | H27: =G27*18% -> 6660 | K27: =G27*2% -> 740 | L27: =F27-K27 -> 42920
A28: 31st Dec 2024 | C28: House Of Glenfiddich | D28: CPV | E28: Frodo-088-Dec-2024 | F28: =SUM(G28:H28) -> 35400 | G28: 30000 | H28: =G28*18% -> 5400 | K28: =G28*2% -> 600 | L28: =F28-K28 -> 34800
A29: 31st Dec 2024 | C29: Ambuja & ACC | D29: CPV | E29: Frodo-089-Dec-2024 | F29: =SUM(G29:H29) -> 18880 | G29: 16000 | H29: =G29*18% -> 2880 | K29: =G29*2% -> 320 | L29: =F29-K29 -> 18560
A30: 31st Dec 2024 | C30: Century Ply | D30: CPM | E30: Frodo-090-Dec-2024 | F30: =SUM(G30:H30) -> 460200 | G30: 390000 | H30: =G30*18% -> 70200 | K30: =G30*2% -> 7800 | L30: =F30-K30 -> 452400
A31: 31st Dec 2024 | C31: Lenskart Phase 1 | D31: CPM | E31: Frodo-091-Dec-2024 | F31: =SUM(G31:H31) -> 114922.56 | G31: 97392 | H31: =G31*18% -> 17530.56 | K31: =G31*2% -> 1947.84 | L31: =F31-K31 -> 112974.72
A32: 31st Dec 2024 | C32: Lenskart Phase 2 | D32: CPM | E32: Frodo-092-Dec-2024 | F32: =SUM(G32:H32) -> 116916.76 | G32: 99082 | H32: =G32*18% -> 17834.76 | K32: =G32*2% -> 1981.64 | L32: =F32-K32 -> 114935.12
A33: 31st Jan 2025 | C33: Tedibar-Torrent-Pharma | D33: CPM | E33: Frodo-093-Jan-2025 | F33: =SUM(G33:H33) -> 209964.48 | G33: 177936 | H33: =G33*18% -> 32028.48 | K33: =G33*2% -> 3558.72 | L33: =F33-K33 -> 206405.76 | M33: 982996 | N33: 5th June 2025 | O33: CLEAR | P33: NEFT-PNB
A34: 28th Feb 2025 | C34: Lenskart-OTT | D34: CPM | E34: Frodo-094-Feb-2025 | F34: =SUM(G34:H34) -> 438960 | G34: 372000 | H34: =G34*18% -> 66960 | K34: =G34*2% -> 7440 | L34: =F34-K34 -> 431520
A35: 28th Feb 2025 | C35: Lenskart-CTV-OTT | D35: CPM | E35: Frodo-095-Feb-2025 | F35: =SUM(G35:H35) -> 48725.74 | G35: 41293 | H35: =G35*18% -> 7432.74 | K35: =G35*2% -> 825.86 | L35: =F35-K35 -> 47899.88
A36: 28th Feb 2025 | C36: AMFI | D36: CPM | E36: Frodo-096-Feb-2025 | F36: =SUM(G36:H36) -> 142776.46 | G36: 120997 | H36: =G36*18% -> 21779.46 | K36: =G36*2% -> 2419.94 | L36: =F36-K36 -> 140356.52
A37: 28th Feb 2025 | C37: ACC-&-Ambuja-South | D37: CPV | E37: Frodo-097-Feb-2025 | F37: =SUM(G37:H37) -> 11800 | G37: 10000 | H37: =G37*18% -> 1800 | K37: =G37*2% -> 200 | L37: =F37-K37 -> 11600
A38: 31st Mar 2025 | C38: Tedibar-Torrent-Pharma | D38: CPM | E38: Frodo-098-Mar-2025 | F38: =SUM(G38:H38) -> 144420.2 | G38: 122390 | H38: =G38*18% -> 22030.2 | K38: =G38*2% -> 2447.8 | L38: =F38-K38 -> 141972.4
A39: 31st Mar 2025 | C39: ACC & Ambuja | D39: CPV | E39: Frodo-099-Mar-2025 | F39: =SUM(G39:H39) -> 18880 | G39: 16000 | H39: =G39*18% -> 2880 | K39: =G39*2% -> 320 | L39: =F39-K39 -> 18560 | M39: 791909 | N39: 16th Sep + 20th Nov | O39: CLEAR | P39: NEFT-PNB
F40: =SUM(G40:H40) -> 0 | H40: =G40*18% -> 0 | K40: =G40*2% -> 0 | L40: =F40-K40 -> 0
F41: =SUM(G41:H41) -> 0 | H41: =G41*18% -> 0 | K41: =G41*2% -> 0 | L41: =F41-K41 -> 0
...

Sheet Appmontize
A1: HOME | B1: Monthwise | C1: GST - Monthwise | F1: =SUM(F2:F113) -> 1044553.7 | G1: =SUM(G2:G113) -> 885215 | H1: =SUM(H2:H113) -> 159338.7 | K1: =SUM(K2:K113) -> 17704.3 | L1: =SUM(L2:L113) -> 1026849.4 | M1: =SUM(M2:M113) -> 1026849
A2: Inv Date | B2: RO No | C2: Campaigns | D2: Adunit | E2: Invoice number | F2: Final Amount | G2: Invoice amt | H2: IGST 18% | I2: Cam End date | J2: Due date | K2: Less 2% | L2: Amt Receivable | M2: Amount Received | N2: Amt Received Date | O2: Status | P2: Cheque No
A3: 31st Oct 2024 | C3: iPhone-UAE-&-KSA | D3: CPM | E3: Appmontize-037-Oct-2024 | F3: =SUM(G3:H3) -> 257240 | G3: 218000 | H3: =G3*18% -> 39240 | K3: =G3*2% -> 4360 | L3: =F3-K3 -> 252880 | M3: 252880 | N3: 29th Nov 2024 | O3: CLEAR | P3: NEFT-PNB
A4: 31st Jan 2025 | C4: iPhone-UAE-&-KSA | D4: CPM | E4: Appmontize-038-Dec-2024 | F4: =SUM(G4:H4) -> 338913.7 | G4: 287215 | H4: =G4*18% -> 51698.7 | K4: =G4*2% -> 5744.3 | L4: =F4-K4 -> 333169.4 | M4: 333169 | N4: 28th April 2025 | O4: CLEAR | P4: NEFT-PNB
A5: 31st Jan 2025 | C5: Palm-Jumeirah-UAE | D5: CPM | E5: Appmontize-039-Dec-2024 | F5: =SUM(G5:H5) -> 448400 | G5: 380000 | H5: =G5*18% -> 68400 | K5: =G5*2% -> 7600 | L5: =F5-K5 -> 440800 | M5: 440800 | N5: 21st Nov 2025 | O5: CLEAR | P5: NEFT-PNB
F6: =SUM(G6:H6) -> 0 | H6: =G6*18% -> 0 | K6: =G6*2% -> 0 | L6: =F6-K6 -> 0
F7: =SUM(G7:H7) -> 0 | H7: =G7*18% -> 0 | K7: =G7*2% -> 0 | L7: =F7-K7 -> 0
F8: =SUM(G8:H8) -> 0 | H8: =G8*18% -> 0 | K8: =G8*2% -> 0 | L8: =F8-K8 -> 0
F9: =SUM(G9:H9) -> 0 | H9: =G9*18% -> 0 | K9: =G9*2% -> 0 | L9: =F9-K9 -> 0
F10: =SUM(G10:H10) -> 0 | H10: =G10*18% -> 0 | K10: =G10*2% -> 0 | L10: =F10-K10 -> 0
F11: =SUM(G11:H11) -> 0 | H11: =G11*18% -> 0 | K11: =G11*2% -> 0 | L11: =F11-K11 -> 0
F12: =SUM(G12:H12) -> 0 | H12: =G12*18% -> 0 | K12: =G12*2% -> 0 | L12: =F12-K12 -> 0
F13: =SUM(G13:H13) -> 0 | H13: =G13*18% -> 0 | K13: =G13*2% -> 0 | L13: =F13-K13 -> 0
F14: =SUM(G14:H14) -> 0 | H14: =G14*18% -> 0 | K14: =G14*2% -> 0 | L14: =F14-K14 -> 0
F15: =SUM(G15:H15) -> 0 | H15: =G15*18% -> 0 | K15: =G15*2% -> 0 | L15: =F15-K15 -> 0
F16: =SUM(G16:H16) -> 0 | H16: =G16*18% -> 0 | K16: =G16*2% -> 0 | L16: =F16-K16 -> 0
F17: =SUM(G17:H17) -> 0 | H17: =G17*18% -> 0 | K17: =G17*2% -> 0 | L17: =F17-K17 -> 0
... F68: =SUM(G68:H68) -> 0 | H68: =G68*18% -> 0 | K68: =G68*2% -> 0 | L68: =F68-K68 -> 0
J70: =F25*2% -> 0 | K70: =G25*2% -> 0

Sheet Silver-Push
A1: Inv Date | B1: Campaigns | C1: Adunit | D1: RO | E1: Invoice number | F1: Final Amount | G1: Invoice amt | H1: IGST 18% | I1: Cam End date | J1: Due date | K1: Less 2% | L1: Amt Receivable | M1: Amount Received | N1: Amt Received Date | O1: Status | P1: Cheque No
F2: =G2+H2 -> 0 | H2: =G2*18% -> 0 | I2: 43585 | J2: =I2+60 -> 43645 | K2: =G2*2% -> 0 | L2: =F2-K2 -> 0
F3: =G3+H3 -> 0 | H3: =G3*18% -> 0 | I3: 43616 | J3: =I3+60 -> 43676 | K3: =G3*2% -> 0 | L3: =F3-K3 -> 0
F4: =G4+H4 -> 0 | H4: =G4*18% -> 0 | I4: 43624 | J4: =I4+60 -> 43684 | K4: =G4*2% -> 0 | L4: =F4-K4 -> 0
F5: =G5+H5 -> 0 | H5: =G5*18% -> 0 | I5: 43647 | J5: =I5+60 -> 43707 | K5: =G5*2% -> 0 | L5: =F5-K5 -> 0
F6: =G6+H6 -> 0 | H6: =G6*18% -> 0 | I6: 43647 | J6: =I6+60 -> 43707 | K6: =G6*2% -> 0 | L6: =F6-K6 -> 0
F7: =G7+H7 -> 0 | H7: =G7*18% -> 0 | I7: 43647 | J7: =I7+60 -> 43707 | K7: =G7*2% -> 0 | L7: =F7-K7 -> 0
F8: =G8+H8 -> 0 | H8: =G8*18% -> 0 | I8: 43647 | J8: =I8+60 -> 43707 | K8: =G8*2% -> 0 | L8: =F8-K8 -> 0
F9: =G9+H9 -> 0 | H9: =G9*18% -> 0 | I9: 43647 | J9: =I9+60 -> 43707 | K9: =G9*2% -> 0 | L9: =F9-K9 -> 0
F10: =G10+H10 -> 0 | H10: =G10*18% -> 0 | I10: 43647 | J10: =I10+60 -> 43707 | K10: =G10*2% -> 0 | L10: =F10-K10 -> 0
F11: =G11+H11 -> 0 | H11: =G11*18% -> 0 | I11: 43647 | J11: =I11+60 -> 43707 | K11: =G11*2% -> 0 | L11: =F11-K11 -> 0
F12: =G12+H12 -> 0 | H12: =G12*18% -> 0 | I12: 43647 | J12: =I12+60 -> 43707 | K12: =G12*2% -> 0 | L12: =F12-K12 -> 0
F13: =G13+H13 -> 0 | H13: =G13*18% -> 0 | I13: 43647 | J13: =I13+60 -> 43707 | K13: =G13*2% -> 0 | L13: =F13-K13 -> 0
... F65: =G65+H65 -> 0 | H65: =G65*18% -> 0 | I65: 43892 | J65: =I65+60 -> 43952 | K65: =G65*2% -> 0 | L65: =F65-K65 -> 0
F66: =G66+H66 -> 0 | H66: =G66*18% -> 0 | J66: =I66+60 -> 60 | K66: =G66*2% -> 0 | L66: =F66-K66 -> 0
F67: =G67+H67 -> 0 | H67: =G67*18% -> 0 | J67: =I67+60 -> 60 | K67: =G67*2% -> 0 | L67: =F67-K67 -> 0
F68: =G68+H68 -> 0 | H68: =G68*18% -> 0 | J68: =I68+60 -> 60 | K68: =G68*2% -> 0 | L68: =F68-K68 -> 0
F69: =G69+H69 -> 0 | H69: =G69*18% -> 0 | J69: =I69+60 -> 60 | K69: =G69*2% -> 0 | L69: =F69-K69 -> 0
F70: =G70+H70 -> 0 | H70: =G70*18% -> 0 | J70: =I70+60 -> 60 | K70: =G70*2% -> 0 | L70: =F70-K70 -> 0
F71: =G71+H71 -> 0 | H71: =G71*18% -> 0 | J71: =I71+60 -> 60 | K71: =G71*2% -> 0 | L71: =F71-K71 -> 0
F72: =G72+H72 -> 0 | H72: =G72*18% -> 0 | J72: =I72+60 -> 60 | K72: =G72*2% -> 0 | L72: =F72-K72 -> 0
F73: =G73+H73 -> 0 | H73: =G73*18% -> 0 | J73: =I73+60 -> 60 | K73: =G73*2% -> 0 | L73: =F73-K73 -> 0
F74: =G74+H74 -> 0 | H74: =G74*18% -> 0 | J74: =I74+60 -> 60 | K74: =G74*2% -> 0 | L74: =F74-K74 -> 0
F75: =G75+H75 -> 0 | H75: =G75*18% -> 0 | J75: =I75+60 -> 60 | K75: =G75*2% -> 0 | L75: =F75-K75 -> 0
E77: HOME | F77: =SUM(F1:F75) -> 0 | G77: =SUM(G1:G75) -> 0 | H77: =SUM(H1:H75) -> 0 | K77: =SUM(K1:K76) -> 0 | L77: =SUM(L1:L75) -> 0 | M77: =SUM(M1:M75) -> 0
E78: Monthwise
E79: GST - Monthwise

Sheet Quanta-Fi
A1: Inv Date | B1: Campaigns | C1: Adunit | D1: Invoice number | E1: Final Amount | F1: Invoice amt | G1: IGST 18% | H1: Cam End date | I1: Due date | J1: Less 2% | K1: Amt Receivable | L1: Amount Received | M1: Amt Received Date | N1: Status | O1: Cheque No
E2: =F2+G2 -> 0 | G2: =F2*18% -> 0 | J2: =F2*2% -> 0 | K2: =E2-J2 -> 0
E3: =F3+G3 -> 0 | G3: =F3*18% -> 0 | J3: =F3*2% -> 0 | K3: =E3-J3 -> 0
E4: =F4+G4 -> 0 | G4: =F4*18% -> 0 | J4: =F4*2% -> 0 | K4: =E4-J4 -> 0
E5: =F5+G5 -> 0 | G5: =F5*18% -> 0 | J5: =F5*2% -> 0 | K5: =E5-J5 -> 0
E6: =F6+G6 -> 0 | G6: =F6*18% -> 0 | J6: =F6*2% -> 0 | K6: =E6-J6 -> 0
E7: =F7+G7 -> 0 | G7: =F7*18% -> 0 | J7: =F7*2% -> 0 | K7: =E7-J7 -> 0
E8: =F8+G8 -> 0 | G8: =F8*18% -> 0 | J8: =F8*2% -> 0 | K8: =E8-J8 -> 0
E9: =F9+G9 -> 0 | G9: =F9*18% -> 0 | J9: =F9*2% -> 0 | K9: =E9-J9 -> 0
E10: =F10+G10 -> 0 | G10: =F10*18% -> 0 | J10: =F10*2% -> 0 | K10: =E10-J10 -> 0
E11: =F11+G11 -> 0 | G11: =F11*18% -> 0 | J11: =F11*2% -> 0 | K11: =E11-J11 -> 0
E12: =F12+G12 -> 0 | G12: =F12*18% -> 0 | J12: =F12*2% -> 0 | K12: =E12-J12 -> 0
E13: =F13+G13 -> 0 | G13: =F13*18% -> 0 | J13: =F13*2% -> 0 | K13: =E13-J13 -> 0
... E16: =F16+G16 -> 0 | G16: =F16*18% -> 0 | J16: =F16*2% -> 0 | K16: =E16-J16 -> 0
D18: HOME | E18: =SUM(E1:E16) -> 0 | F18: =SUM(F1:F16) -> 0 | G18: =SUM(G1:G16) -> 0 | J18: =SUM(J1:J16) -> 0 | K18: =SUM(K1:K16) -> 0 | L18: =SUM(L1:L16) -> 0
D19: Monthwise
D20: GST - Monthwise
L22: =K3-L3 -> 0 | M22: 390000
L23: =F3*10% -> 0 | M23: 16383
L24: =E3-L23 -> 0

Sheet Brands-In-Motion
A1: HOME | C1: GST - Monthwise | F1: =SUM(F2:F120) -> 0 | G1: =SUM(G2:G120) -> 0 | H1: =SUM(H2:H71) -> 0 | K1: =SUM(K2:K120) -> 0 | L1: =SUM(L2:L120) -> 0 | M1: =SUM(M4:M126) -> 0
A3: Inv Date | B3: RO No | C3: Campaigns | D3: Adunit | E3: Invoice number | F3: Final Amount | G3: Invoice amt | H3: IGST 18% | I3: Cam End date | J3: Due date | K3: Less 2% | L3: Amt Receivable | M3: Amount Received | N3: Amt Received Date | O3: Status | P3: Cheque No
F4: =SUM(G4:H4) -> 0 | H4: =G4*18% -> 0 | K4: =G4*2% -> 0 | L4: =F4-K4 -> 0
F5: =SUM(G5:H5) -> 0 | H5: =G5*18% -> 0 | K5: =G5*2% -> 0 | L5: =F5-K5 -> 0
F6: =SUM(G6:H6) -> 0 | H6: =G6*18% -> 0 | K6: =G6*2% -> 0 | L6: =F6-K6 -> 0
F7: =SUM(G7:H7) -> 0 | H7: =G7*18% -> 0 | K7: =G7*2% -> 0 | L7: =F7-K7 -> 0
F8: =SUM(G8:H8) -> 0 | H8: =G8*18% -> 0 | K8: =G8*2% -> 0 | L8: =F8-K8 -> 0
F9: =SUM(G9:H9) -> 0 | H9: =G9*18% -> 0 | K9: =G9*2% -> 0 | L9: =F9-K9 -> 0
F10: =SUM(G10:H10) -> 0 | H10: =G10*18% -> 0 | K10: =G10*2% -> 0 | L10: =F10-K10 -> 0
F11: =SUM(G11:H11) -> 0 | H11: =G11*18% -> 0 | K11: =G11*2% -> 0 | L11: =F11-K11 -> 0
F12: =SUM(G12:H12) -> 0 | H12: =G12*18% -> 0 | K12: =G12*2% -> 0 | L12: =F12-K12 -> 0
F13: =SUM(G13:H13) -> 0 | H13: =G13*18% -> 0 | K13: =G13*2% -> 0 | L13: =F13-K13 -> 0
F14: =SUM(G14:H14) -> 0 | H14: =G14*18% -> 0 | K14: =G14*2% -> 0 | L14: =F14-K14 -> 0
F15: =SUM(G15:H15) -> 0 | H15: =G15*18% -> 0 | K15: =G15*2% -> 0 | L15: =F15-K15 -> 0
... F76: =SUM(G76:H76) -> 0 | H76: =G76*18% -> 0 | K76: =G76*2% -> 0 | L76: =F76-K76 -> 0

Sheet THOUGHTPIXELS
A1: HOME | C1: GST - Monthwise | F1: =SUM(F2:F102) -> 0 | G1: =SUM(G2:G102) -> 0 | H1: =SUM(H2:H70) -> 0 | L1: =SUM(L2:L102) -> 0 | M1: =SUM(M2:M102) -> 0 | N1: =SUM(N4:N108) -> 0
A3: Inv Date | B3: RO No | C3: Campaigns | D3: Adunit | E3: Invoice number | F3: Final Amount | G3: Invoice amt | H3: CGST 9% | I3: SGST 9% | J3: Cam End date | K3: Due date | L3: Less 2% | M3: Amt Receivable | N3: Amount Received | O3: Amt Received Date | P3: Status | Q3: Cheque No
F4: =SUM(G4:I4) -> 0 | H4: =G4*9% -> 0 | I4: =G4*9% -> 0 | L4: =G4*2% -> 0 | M4: =F4-L4 -> 0
F5: =SUM(G5:I5) -> 0 | H5: =G5*9% -> 0 | I5: =G5*9% -> 0 | L5: =G5*2% -> 0 | M5: =F5-L5 -> 0
F6: =SUM(G6:I6) -> 0 | H6: =G6*9% -> 0 | I6: =G6*9% -> 0 | L6: =G6*2% -> 0 | M6: =F6-L6 -> 0
F7: =SUM(G7:I7) -> 0 | H7: =G7*9% -> 0 | I7: =G7*9% -> 0 | L7: =G7*2% -> 0 | M7: =F7-L7 -> 0
F8: =SUM(G8:I8) -> 0 | H8: =G8*9% -> 0 | I8: =G8*9% -> 0 | L8: =G8*2% -> 0 | M8: =F8-L8 -> 0
F9: =SUM(G9:I9) -> 0 | H9: =G9*9% -> 0 | I9: =G9*9% -> 0 | L9: =G9*2% -> 0 | M9: =F9-L9 -> 0
F10: =SUM(G10:I10) -> 0 | H10: =G10*9% -> 0 | I10: =G10*9% -> 0 | L10: =G10*2% -> 0 | M10: =F10-L10 -> 0
F11: =SUM(G11:I11) -> 0 | H11: =G11*9% -> 0 | I11: =G11*9% -> 0 | L11: =G11*2% -> 0 | M11: =F11-L11 -> 0
F12: =SUM(G12:I12) -> 0 | H12: =G12*9% -> 0 | I12: =G12*9% -> 0 | L12: =G12*2% -> 0 | M12: =F12-L12 -> 0
F13: =SUM(G13:I13) -> 0 | H13: =G13*9% -> 0 | I13: =G13*9% -> 0 | L13: =G13*2% -> 0 | M13: =F13-L13 -> 0
F14: =SUM(G14:I14) -> 0 | H14: =G14*9% -> 0 | I14: =G14*9% -> 0 | L14: =G14*2% -> 0 | M14: =F14-L14 -> 0
F15: =SUM(G15:I15) -> 0 | H15: =G15*9% -> 0 | I15: =G15*9% -> 0 | L15: =G15*2% -> 0 | M15: =F15-L15 -> 0
... F58: =SUM(G58:I58) -> 0 | H58: =G58*9% -> 0 | I58: =G58*9% -> 0 | L58: =G58*2% -> 0 | M58: =F58-L58 -> 0
H59: =G59*9% -> 0 | I59: =G59*9% -> 0
H60: =G60*9% -> 0 | I60: =G60*9% -> 0
H61: =G61*9% -> 0 | I61: =G61*9% -> 0
H62: =G62*9% -> 0 | I62: =G62*9% -> 0
H63: =G63*9% -> 0 | I63: =G63*9% -> 0
H64: =G64*9% -> 0 | I64: =G64*9% -> 0
H65: =G65*9% -> 0 | I65: =G65*9% -> 0
H66: =G66*9% -> 0 | I66: =G66*9% -> 0
H67: =G67*9% -> 0 | I67: =G67*9% -> 0
H68: =G68*9% -> 0 | I68: =G68*9% -> 0
H69: =G69*9% -> 0 | I69: =G69*9% -> 0
H70: =G70*9% -> 0 | I70: =G70*9% -> 0
... H75: =G75*9% -> 0 | I75: =G75*9% -> 0

Sheet SVG+DGM
A1: Inv Date | B1: Segment | C1: Campaigns | D1: Adunit | E1: Invoice number | F1: Final Amount | G1: Invoice amt | H1: ServiceTax | I1: Cam End date | J1: Due date | K1: Less 2% | L1: Amt Receivable | M1: Amount Received | N1: Amt Received Date | O1: Status | P1: Cheque No
F2: =G2*67 -> 0 | L2: =F2 -> 0
F3: =G3*67 -> 0 | L3: =F3 -> 0
F4: =G4*67 -> 0 | L4: =F4 -> 0
F5: =G5*67 -> 0 | K5: 0 | L5: =F5 -> 0
F6: =G6*67 -> 0 | K6: 0 | L6: =F6 -> 0
F7: =G7*67 -> 0 | K7: 0 | L7: =F7 -> 0
F8: =G8*67 -> 0 | K8: 0 | L8: =F8 -> 0
F9: =G9*67 -> 0 | K9: 0 | L9: =F9 -> 0
F10: =G10*67 -> 0 | K10: 0 | L10: =F10 -> 0
F11: =G11*67 -> 0 | K11: 0 | L11: =F11 -> 0
F12: =G12*67 -> 0 | K12: 0 | L12: =F12 -> 0
F13: =G13*67 -> 0 | K13: 0 | L13: =F13 -> 0
F14: =G14*67 -> 0 | K14: 0 | L14: =F14 -> 0
F15: =G15*67 -> 0 | K15: 0 | L15: =F15 -> 0
F16: =G16*67 -> 0 | K16: 0 | L16: =F16 -> 0
... F26: =G26*67 -> 0 | K26: 0 | L26: =F26 -> 0
E28: HOME | F28: =SUM(F2:F26) -> 0 | G28: =SUM(G2:G26) -> 0 | H28: =SUM(H2:H26) -> 0 | K28: =SUM(K2:K26) -> 0 | L28: =SUM(L2:L26) -> 0 | M28: =SUM(M2:M26) -> 0
E29: Monthwise
N31: 28377
N32: 232247
K33: =L33-K6 -> 0 | L33: =F6*2% -> 0 | M33: =F6-L33 -> 0 | N33: 47638
K34: =L34-K7 -> 0 | L34: =F7*2% -> 0 | M34: =F7-L34 -> 0 | N34: 1024
K35: =L35-K8 -> 0 | L35: =F8*2% -> 0 | M35: =F8-L35 -> 0

Sheet SVG-INDIA
A1: Inv Date | B1: Campaigns | C1: Adunit | D1: Invoice number | E1: Final Amount | F1: Invoice amt | G1: IGST 18% | H1: Cam End date | I1: Due date | J1: Less 2% | K1: Amt Receivable | L1: Amount Received | M1: Amt Received Date | N1: Status | O1: Cheque No
E2: =F2+G2 -> 0 | G2: =F2*18% -> 0 | J2: =F2*2% -> 0 | K2: =E2-J2 -> 0
E3: =F3+G3 -> 0 | G3: =F3*18% -> 0 | J3: =F3*2% -> 0 | K3: =E3-J3 -> 0
E4: =F4+G4 -> 0 | G4: =F4*18% -> 0 | J4: =F4*2% -> 0 | K4: =E4-J4 -> 0
E5: =F5+G5 -> 0 | G5: =F5*18% -> 0 | J5: =F5*2% -> 0 | K5: =E5-J5 -> 0
E6: =F6+G6 -> 0 | G6: =F6*18% -> 0 | J6: =F6*2% -> 0 | K6: =E6-J6 -> 0
E7: =F7+G7 -> 0 | G7: =F7*18% -> 0 | J7: =F7*2% -> 0 | K7: =E7-J7 -> 0
E8: =F8+G8 -> 0 | G8: =F8*18% -> 0 | J8: =F8*2% -> 0 | K8: =E8-J8 -> 0
E9: =F9+G9 -> 0 | G9: =F9*18% -> 0 | J9: =F9*2% -> 0 | K9: =E9-J9 -> 0
E10: =F10+G10 -> 0 | G10: =F10*18% -> 0 | J10: =F10*2% -> 0 | K10: =E10-J10 -> 0
E11: =F11+G11 -> 0 | G11: =F11*18% -> 0 | J11: =F11*2% -> 0 | K11: =E11-J11 -> 0
E12: =F12+G12 -> 0 | G12: =F12*18% -> 0 | J12: =F12*2% -> 0 | K12: =E12-J12 -> 0
E13: =F13+G13 -> 0 | G13: =F13*18% -> 0 | J13: =F13*2% -> 0 | K13: =E13-J13 -> 0
... E16: =F16+G16 -> 0 | G16: =F16*18% -> 0 | J16: =F16*2% -> 0 | K16: =E16-J16 -> 0
D18: HOME | E18: =SUM(E1:E16) -> 0 | F18: =SUM(F1:F16) -> 0 | G18: =SUM(G1:G16) -> 0 | J18: =SUM(J1:J16) -> 0 | K18: =SUM(K1:K16) -> 0 | L18: =SUM(L1:L16) -> 0
D19: Monthwise
D20: GST - Monthwise
L22: =K3-L3 -> 0 | M22: 390000
L23: =F3*10% -> 0 | M23: 16383
L24: =E3-L23 -> 0

Sheet Affle International
A1: Inv Date | B1: RO No | C1: Campaigns | D1: Adunit | E1: Invoice number | F1: Final Amount | G1: Invoice amt | H1: Cam End date | I1: Due date | J1: Less 2% | K1: Amt Receivable | L1: Amount Received | M1: Amt Received Date | N1: Status | O1: Cheque No
A2: HOME | C2: GST - Monthwise | F2: =SUM(F3:F201) -> 0 | G2: =SUM(G3:G201) -> 0 | J2: =SUM(J3:J201) -> 0 | K2: =SUM(K3:K201) -> 0 | L2: =SUM(L3:L201) -> 0
F3: =G3*69 -> 0 | K3: =F3 -> 0
F4: =G4*69 -> 0 | K4: =F4 -> 0
F5: =G5*69 -> 0 | K5: =F5 -> 0
F6: =G6*69 -> 0 | K6: =F6 -> 0
F7: =G7*69 -> 0 | K7: =F7 -> 0
F8: =G8*69 -> 0 | K8: =F8 -> 0
F9: =G9*69 -> 0 | K9: =F9 -> 0
F10: =G10*69 -> 0 | K10: =F10 -> 0
F11: =G11*69 -> 0 | K11: =F11 -> 0
F12: =G12*69 -> 0 | K12: =F12 -> 0
F13: =G13*69 -> 0 | K13: =F13 -> 0
F14: =G14*69 -> 0 | K14: =F14 -> 0
F15: =G15*67 -> 0 | K15: =F15 -> 0
F16: =G16*67 -> 0 | K16: =F16 -> 0
F17: =G17*67 -> 0 | K17: =F17 -> 0
F18: =G18*67 -> 0 | K18: =F18 -> 0
F19: =G19*67 -> 0 | K19: =F19 -> 0
F20: =G20*67 -> 0 | K20: =F20 -> 0
F21: =G21*67 -> 0 | K21: =F21 -> 0
F22: =G22*67 -> 0 | K22: =F22 -> 0
F23: =G23*67 -> 0 | K23: =F23 -> 0
F24: =G24*67 -> 0 | K24: =F24 -> 0
F25: =G25*67 -> 0 | K25: =F25 -> 0
F26: =G26*67 -> 0 | K26: =F26 -> 0
... F38: =G38*67 -> 0 | K38: =F38 -> 0
F39: =G39*67 -> 0
F40: =G40*67 -> 0

Sheet Be-Digitech
A1: Inv Date | B1: Campaigns | C1: Adunit | D1: Invoice number | E1: Final Amount | F1: Invoice amt | G1: IGST 18% | H1: Cam End date | I1: Due date | J1: Less 2% | K1: Amt Receivable | L1: Amount Received | M1: Amt Received Date | N1: Status | O1: Cheque No
E2: =F2+G2 -> 0 | G2: =F2*18% -> 0 | J2: =F2*2% -> 0 | K2: =E2-J2 -> 0
E3: =F3+G3 -> 0 | G3: =F3*18% -> 0 | J3: =F3*2% -> 0 | K3: =E3-J3 -> 0
E4: =F4+G4 -> 0 | G4: =F4*18% -> 0 | J4: =F4*2% -> 0 | K4: =E4-J4 -> 0
E5: =F5+G5 -> 0 | G5: =F5*18% -> 0 | J5: =F5*2% -> 0 | K5: =E5-J5 -> 0
E6: =F6+G6 -> 0 | G6: =F6*18% -> 0 | J6: =F6*2% -> 0 | K6: =E6-J6 -> 0
E7: =F7+G7 -> 0 | G7: =F7*18% -> 0 | J7: =F7*2% -> 0 | K7: =E7-J7 -> 0
E8: =F8+G8 -> 0 | G8: =F8*18% -> 0 | J8: =F8*2% -> 0 | K8: =E8-J8 -> 0
E9: =F9+G9 -> 0 | G9: =F9*18% -> 0 | J9: =F9*2% -> 0 | K9: =E9-J9 -> 0
E10: =F10+G10 -> 0 | G10: =F10*18% -> 0 | J10: =F10*2% -> 0 | K10: =E10-J10 -> 0
E11: =F11+G11 -> 0 | G11: =F11*18% -> 0 | J11: =F11*2% -> 0 | K11: =E11-J11 -> 0
E12: =F12+G12 -> 0 | G12: =F12*18% -> 0 | J12: =F12*2% -> 0 | K12: =E12-J12 -> 0
E13: =F13+G13 -> 0 | G13: =F13*18% -> 0 | J13: =F13*2% -> 0 | K13: =E13-J13 -> 0
... E22: =F22+G22 -> 0 | G22: =F22*18% -> 0 | J22: =F22*2% -> 0 | K22: =E22-J22 -> 0
D24: HOME | E24: =SUM(E1:E22) -> 0 | F24: =SUM(F1:F22) -> 0 | G24: =SUM(G1:G22) -> 0 | J24: =SUM(J1:J22) -> 0 | K24: =SUM(K1:K22) -> 0 | L24: =SUM(L1:L22) -> 0
D25: Monthwise
D26: GST - Monthwise
M29: 762165

Sheet XAPADS
A1: HOME | B1: Monthwise | C1: GST - Monthwise | F1: =SUM(F2:F113) -> 0 | G1: =SUM(G2:G113) -> 0 | H1: =SUM(H2:H113) -> 0 | K1: =SUM(K2:K113) -> 0 | L1: =SUM(L2:L113) -> 0 | M1: =SUM(M2:M113) -> 0
A2: Inv Date | B2: RO No | C2: Campaigns | D2: Adunit | E2: Invoice number | F2: Final Amount | G2: Invoice amt | H2: IGST 18% | I2: Cam End date | J2: Due date | K2: Less 2% | L2: Amt Receivable | M2: Amount Received | N2: Amt Received Date | O2: Status | P2: Cheque No
F3: =SUM(G3:H3) -> 0 | H3: =G3*18% -> 0 | I3: 43738 | J3: =I3+60 -> 43798 | K3: =G3*2% -> 0 | L3: =F3-K3 -> 0
F4: =SUM(G4:H4) -> 0 | H4: =G4*18% -> 0 | I4: 43769 | J4: =I4+60 -> 43829 | K4: =G4*2% -> 0 | L4: =F4-K4 -> 0
F5: =SUM(G5:H5) -> 0 | H5: =G5*18% -> 0 | I5: 42947 | J5: =I5+60 -> 43007 | K5: =G5*2% -> 0 | L5: =F5-K5 -> 0
F6: =SUM(G6:H6) -> 0 | H6: =G6*18% -> 0 | I6: 42947 | J6: =I6+60 -> 43007 | K6: =G6*2% -> 0 | L6: =F6-K6 -> 0
F7: =SUM(G7:H7) -> 0 | H7: =G7*18% -> 0 | I7: 42947 | J7: =I7+60 -> 43007 | K7: =G7*2% -> 0 | L7: =F7-K7 -> 0
F8: =SUM(G8:H8) -> 0 | H8: =G8*18% -> 0 | I8: 42947 | J8: =I8+60 -> 43007 | K8: =G8*2% -> 0 | L8: =F8-K8 -> 0
F9: =SUM(G9:H9) -> 0 | H9: =G9*18% -> 0 | I9: 42947 | J9: =I9+60 -> 43007 | K9: =G9*2% -> 0 | L9: =F9-K9 -> 0
F10: =SUM(G10:H10) -> 0 | H10: =G10*18% -> 0 | I10: 42947 | J10: =I10+60 -> 43007 | K10: =G10*2% -> 0 | L10: =F10-K10 -> 0
F11: =SUM(G11:H11) -> 0 | H11: =G11*18% -> 0 | I11: 42978 | J11: =I11+60 -> 43038 | K11: =G11*2% -> 0 | L11: =F11-K11 -> 0
F12: =SUM(G12:H12) -> 0 | H12: =G12*18% -> 0 | I12: 42978 | J12: =I12+60 -> 43038 | K12: =G12*2% -> 0 | L12: =F12-K12 -> 0
F13: =SUM(G13:H13) -> 0 | H13: =G13*18% -> 0 | I13: 42978 | J13: =I13+60 -> 43038 | K13: =G13*2% -> 0 | L13: =F13-K13 -> 0
F14: =SUM(G14:H14) -> 0 | H14: =G14*18% -> 0 | I14: 42990 | J14: =I14+60 -> 43050 | K14: =G14*2% -> 0 | L14: =F14-K14 -> 0
... F25: =SUM(G25:H25) -> 0 | H25: =G25*18% -> 0 | I25: 43169 | J25: =I25+60 -> 43229 | K25: =G25*2% -> 0 | L25: =F25-K25 -> 0
F26: =SUM(G26:H26) -> 0 | H26: =G26*18% -> 0 | J26: =I26+60 -> 60 | K26: =G26*2% -> 0 | L26: =F26-K26 -> 0
F27: =SUM(G27:H27) -> 0 | H27: =G27*18% -> 0 | J27: =I27+60 -> 60 | K27: =G27*2% -> 0 | L27: =F27-K27 -> 0
F28: =SUM(G28:H28) -> 0 | H28: =G28*18% -> 0 | J28: =I28+60 -> 60 | K28: =G28*2% -> 0 | L28: =F28-K28 -> 0
F29: =SUM(G29:H29) -> 0 | H29: =G29*18% -> 0 | J29: =I29+60 -> 60 | K29: =G29*2% -> 0 | L29: =F29-K29 -> 0
F30: =SUM(G30:H30) -> 0 | H30: =G30*18% -> 0 | J30: =I30+60 -> 60 | K30: =G30*2% -> 0 | L30: =F30-K30 -> 0
F31: =SUM(G31:H31) -> 0 | H31: =G31*18% -> 0 | J31: =I31+60 -> 60 | K31: =G31*2% -> 0 | L31: =F31-K31 -> 0
F32: =SUM(G32:H32) -> 0 | H32: =G32*18% -> 0 | J32: =I32+60 -> 60 | K32: =G32*2% -> 0 | L32: =F32-K32 -> 0
F33: =SUM(G33:H33) -> 0 | H33: =G33*18% -> 0 | J33: =I33+60 -> 60 | K33: =G33*2% -> 0 | L33: =F33-K33 -> 0
F34: =SUM(G34:H34) -> 0 | H34: =G34*18% -> 0 | J34: =I34+60 -> 60 | K34: =G34*2% -> 0 | L34: =F34-K34 -> 0
F35: =SUM(G35:H35) -> 0 | H35: =G35*18% -> 0 | J35: =I35+60 -> 60 | K35: =G35*2% -> 0 | L35: =F35-K35 -> 0
F36: =SUM(G36:H36) -> 0 | H36: =G36*18% -> 0 | J36: =I36+60 -> 60 | K36: =G36*2% -> 0 | L36: =F36-K36 -> 0
F37: =SUM(G37:H37) -> 0 | H37: =G37*18% -> 0 | J37: =I37+60 -> 60 | K37: =G37*2% -> 0 | L37: =F37-K37 -> 0
... F68: =SUM(G68:H68) -> 0 | H68: =G68*18% -> 0 | J68: =I68+60 -> 60 | K68: =G68*2% -> 0 | L68: =F68-K68 -> 0
J70: =F25*2% -> 0 | K70: =G25*2% -> 0
