Workbook

Sheet Monthly Turnover Jun 2017
A3: Row Labels | B3: Sum of Final Amount
A4: May 2016 | B4: 117279.3
A5: June 2016 | B5: 295732.85
A6: Aug 2016 | B6: 3795
A7: Sep 2016 | B7: 64648.4
A8: Oct 2016 | B8: 3044.05
A9: Nov 2016 | B9: 88555.75
A10: Dec 2016 | B10: 434978.3
A11: Jan 2017 | B11: 2003848.4
A12: Feb 2017 | B12: 1775022.4
A13: Mar 2017 | B13: 2342507.4
A14: Apr 2017 | B14: 2661565.8
A15: May 2017 | B15: 986654.29
... A17: Grand Total | B17: 11473789

Sheet ROUGH-SHEET
A1: Inv Date | B1: Inv Month | C1: Advertiser | D1: Invoice number | E1: Final Amount | F1: Invoice amt | G1: ServiceTax | H1: Less 2% | I1: Amt Receivable
A2: 4th April 2017 | B2: Jan 2017 | C2: Icubes | D2: iCubeswire-029-Jan-2017 | E2: =F2+G2 -> 119244.65 | F2: 103691 | G2: =F2*15% -> 15553.65 | H2: =F2*2% -> 2073.82 | I2: =E2-H2 -> 117170.83
A3: 4th April 2017 | B3: Jan 2017 | C3: OptimIdea | D3: OptiMidea-007-Jan-2017 | E3: =F3+G3 -> 473597.6 | F3: 411824 | G3: =F3*15% -> 61773.6 | H3: =F3*2% -> 8236.48 | I3: =E3-H3 -> 465361.12
B4: May 2016 | C4: Komli Media | D4: Komli-00197-May-2016 | E4: =F4+G4 -> 117279.3 | F4: 101982 | G4: =F4*15% -> 15297.3 | H4: =F4*2% -> 2039.64 | I4: =E4-H4 -> 115239.66
B5: June 2016 | C5: Komli Media | D5: Komli-00198-June-2016 | E5: =F5+G5 -> 295732.85 | F5: 257159 | G5: =F5*15% -> 38573.85 | H5: =F5*2% -> 5143.18 | I5: =E5-H5 -> 290589.67
B6: Aug 2016 | C6: Komli Media | D6: Komli-00204-Aug-2016 | E6: =F6+G6 -> 3795 | F6: 3300 | G6: =F6*15% -> 495 | H6: =F6*2% -> 66 | I6: =E6-H6 -> 3729
B7: Sep 2016 | C7: Komli Media | D7: Komli-00205-Sep-2016 | E7: =F7+G7 -> 64648.4 | F7: 56216 | G7: =F7*15% -> 8432.4 | H7: =F7*2% -> 1124.32 | I7: =E7-H7 -> 63524.08
B8: Oct 2016 | C8: Komli Media | D8: Komli-00206-Oct-2016 | E8: =F8+G8 -> 3044.05 | F8: 2647 | G8: =F8*15% -> 397.05 | H8: =F8*2% -> 52.94 | I8: =E8-H8 -> 2991.11
B9: Nov 2016 | C9: Komli Media | D9: Komli-00207-Nov-2016 | E9: =F9+G9 -> 88555.75 | F9: 77005 | G9: =F9*15% -> 11550.75 | H9: =F9*2% -> 1540.1 | I9: =E9-H9 -> 87015.65
B10: Dec 2016 | C10: Komli Media | D10: Komli-00208-Dec-2016 | E10: =F10+G10 -> 180837.5 | F10: 157250 | G10: =F10*15% -> 23587.5 | H10: =F10*2% -> 3145 | I10: =E10-H10 -> 177692.5
B11: Jan 2017 | C11: Komli Media | D11: Komli-00209-Jan-2017 | E11: =F11+G11 -> 268299.6 | F11: 233304 | G11: =F11*15% -> 34995.6 | H11: =F11*2% -> 4666.08 | I11: =E11-H11 -> 263633.52
A12: 4th Apr 2017 | B12: Feb 2017 | C12: Komli Media | D12: Komli-00210-Feb-2017 | E12: =F12+G12 -> 198444 | F12: 172560 | G12: =F12*15% -> 25884 | H12: =F12*2% -> 3451.2 | I12: =E12-H12 -> 194992.8
A13: 4th Apr 2017 | B13: Jan 2017 | C13: Komli Media | D13: Komli-00211-Jan-2017 | E13: =F13+G13 -> 64198.75 | F13: 55825 | G13: =F13*15% -> 8373.75 | H13: =F13*2% -> 1116.5 | I13: =E13-H13 -> 63082.25
A14: 4th Apr 2017 | B14: Feb 2017 | C14: Komli Media | D14: Komli-00212-Feb-2017 | E14: =F14+G14 -> 12713.25 | F14: 11055 | G14: =F14*15% -> 1658.25 | H14: =F14*2% -> 221.1 | I14: =E14-H14 -> 12492.15
A15: 4th Apr 2017 | B15: Mar 2017 | C15: Komli Media | D15: Komli-00213-Mar-2017 | E15: =F15+G15 -> 59570 | F15: 51800 | G15: =F15*15% -> 7770 | H15: =F15*2% -> 1036 | I15: =E15-H15 -> 58534
A16: 4th Apr 2017 | B16: Jan 2017 | C16: Komli Media | D16: Komli-00214-Jan-2017 | E16: =F16+G16 -> 474487.7 | F16: 412598 | G16: =F16*15% -> 61889.7 | H16: =F16*2% -> 8251.96 | I16: =E16-H16 -> 466235.74
A17: 4th Apr 2017 | B17: Mar 2017 | C17: Xapads | D17: Xapads-003-Mar-2017 | E17: =F17+G17 -> 68975.85 | F17: 59979 | G17: =F17*15% -> 8996.85 | H17: =F17*2% -> 1199.58 | I17: =E17-H17 -> 67776.27
A18: 5th Apr 2017 | B18: Feb 2017 | C18: Dcreative Leap | D18: Dcreative-145-Feb-2017 | E18: =F18+G18 -> 6077.75 | F18: 5285 | G18: =F18*15% -> 792.75 | H18: =F18*2% -> 105.7 | I18: =E18-H18 -> 5972.05
A19: 5th Apr 2017 | B19: Feb 2017 | C19: Dcreative Leap | D19: Dcreative-146-Feb-2017 | E19: =F19+G19 -> 1521.45 | F19: 1323 | G19: =F19*15% -> 198.45 | H19: =F19*2% -> 26.46 | I19: =E19-H19 -> 1494.99
A20: 5th Apr 2017 | B20: Jan 2017 | C20: Dcreative Leap | D20: Dcreative-147-Jan-2017 | E20: =F20+G20 -> 13113.45 | F20: 11403 | G20: =F20*15% -> 1710.45 | H20: =F20*2% -> 228.06 | I20: =E20-H20 -> 12885.39
A21: 5th Apr 2017 | B21: Jan 2017 | C21: Dcreative Leap | D21: Dcreative-148-Jan-2017 | E21: =F21+G21 -> 2651.9 | F21: 2306 | G21: =F21*15% -> 345.9 | H21: =F21*2% -> 46.12 | I21: =E21-H21 -> 2605.78
A22: 5th Apr 2017 | B22: Jan 2017 | C22: Dcreative Leap | D22: Dcreative-149-Jan-2017 | E22: =F22+G22 -> 2257.45 | F22: 1963 | G22: =F22*15% -> 294.45 | H22: =F22*2% -> 39.26 | I22: =E22-H22 -> 2218.19
A23: 5th Apr 2017 | B23: Feb 2017 | C23: Catalyst | D23: Catalyst-003-Feb-2017 | E23: =F23+G23 -> 17721.5 | F23: 15410 | G23: =F23*15% -> 2311.5 | H23: =F23*2% -> 308.2 | I23: =E23-H23 -> 17413.3
... A36: 26th Apr 2017 | B36: Feb 2017 | C36: OptimIdea | D36: OptiMidea-008-Feb-2017 | E36: =F36+G36 -> 501635.75 | F36: 436205 | G36: =F36*15% -> 65430.75 | H36: =F36*2% -> 8724.1 | I36: =E36-H36 -> 492911.65
A37: 27th Apr 2017 | B37: Jan 2017 | C37: Tyroo International | D37: TYROO-00155-Jan-2017 | E37: =F37+G37 -> 62400 | F37: =975*64 -> 62400 | H37: 0 | I37: =E37-H37 -> 62400
A38: 27th Apr 2017 | B38: Feb 2017 | C38: Tyroo International | D38: TYROO-00156-Feb-2017 | E38: =F38+G38 -> 124800 | F38: =1950*64 -> 124800 | H38: 0 | I38: =E38-H38 -> 124800
A39: 27th Apr 2017 | B39: Mar 2017 | C39: Tyroo International | D39: TYROO-00157-Mar-2017 | E39: =F39+G39 -> 41600 | F39: =650*64 -> 41600 | H39: 0 | I39: =E39-H39 -> 41600
A40: 26th Apr 2017 | B40: Feb 2017 | C40: DGMATIX | D40: DGMatix-024-Feb-2017 | E40: =F40+G40 -> 77850.4 | F40: 67696 | G40: =F40*15% -> 10154.4 | H40: =F40*2% -> 1353.92 | I40: =E40-H40 -> 76496.48
A41: 26th Apr 2017 | B41: Mar 2017 | C41: DGMATIX | D41: DGMatix-025-Mar-2017 | E41: =F41+G41 -> 36264.1 | F41: 31534 | G41: =F41*15% -> 4730.1 | H41: =F41*2% -> 630.68 | I41: =E41-H41 -> 35633.42
A42: 30th Apr 2017 | B42: Apr 2017 | C42: ADOMANTRA | D42: Adomantra-0202 | E42: =F42+G42 -> 71875 | F42: 62500 | G42: =F42*15% -> 9375 | H42: =F42*2% -> 1250 | I42: =E42-H42 -> 70625
A43: 30th Apr 2017 | B43: Apr 2017 | C43: ADOMANTRA | D43: Adomantra-0203 | E43: =F43+G43 -> 186875 | F43: 162500 | G43: =F43*15% -> 24375 | H43: =F43*2% -> 3250 | I43: =E43-H43 -> 183625
A44: 30th Apr 2017 | B44: Apr 2017 | C44: ADOMANTRA | D44: Adomantra-0204 | E44: =F44+G44 -> 3496 | F44: 3040 | G44: =F44*15% -> 456 | H44: =F44*2% -> 60.8 | I44: =E44-H44 -> 3435.2
A45: 30th Apr 2017 | B45: Apr 2017 | C45: ADOMANTRA | D45: Adomantra-0205 | E45: =F45+G45 -> 402500 | F45: 350000 | G45: =F45*15% -> 52500 | H45: =F45*2% -> 7000 | I45: =E45-H45 -> 395500
A46: 30th Apr 2017 | B46: Apr 2017 | C46: ADOMANTRA | D46: Adomantra-0206 | E46: =F46+G46 -> 618987.5 | F46: 538250 | G46: =F46*15% -> 80737.5 | H46: =F46*2% -> 10765 | I46: =E46-H46 -> 608222.5
A47: 9th May 2017 | B47: Mar 2017 | C47: Zeematics | D47: Zeematics-002-Mar-2017 | E47: =F47+G47 -> 1219 | F47: 1060 | G47: =F47*15% -> 159 | H47: =F47*2% -> 21.2 | I47: =E47-H47 -> 1197.8
A48: 9th May 2017 | B48: Feb 2017 | C48: Opicle Media | D48: OpicleTechnologies-013-Feb-2017 | E48: =F48+G48 -> 34038.85 | F48: 29599 | G48: =F48*15% -> 4439.85 | H48: =F48*2% -> 591.98 | I48: =E48-H48 -> 33446.87
A49: 9th May 2017 | B49: Feb 2017 | C49: Icubes Wire | D49: iCubeswire-030-Feb-2017 | E49: =F49+G49 -> 227295.2 | F49: 197648 | G49: =F49*15% -> 29647.2 | H49: =F49*2% -> 3952.96 | I49: =E49-H49 -> 223342.24
A50: 11th May 2017 | B50: Feb 2017 | C50: Vertoz | D50: Vertoz-0008-Feb-2017 | E50: =F50+G50 -> 13038.7 | F50: 11338 | G50: =F50*15% -> 1700.7 | H50: =F50*2% -> 226.76 | I50: =E50-H50 -> 12811.94
A51: 11th May 2017 | B51: Mar 2017 | C51: Vertoz | D51: Vertoz-0009-Mar-2017 | E51: =F51+G51 -> 42237.2 | F51: 36728 | G51: =F51*15% -> 5509.2 | H51: =F51*2% -> 734.56 | I51: =E51-H51 -> 41502.64
... A70: 31st May 2017 | B70: May 2017 | C70: Komli Media | D70: Komli-00217-May-2017 | E70: =F70+G70 -> 4473.5 | F70: 3890 | G70: =F70*15% -> 583.5 | H70: =F70*2% -> 77.8 | I70: =E70-H70 -> 4395.7
...

Sheet MONTHWISE
A1: Inv Date | B1: Inv Month | C1: Advertiser | D1: Invoice number | E1: Final Amount | F1: Invoice amt | G1: ServiceTax | H1: Less 2% | I1: Amt Receivable
E2: =SUM(E3:E390) -> 12964662 | F2: =SUM(F3:F390) -> 11323187 | G2: =SUM(G3:G390) -> 1641474.9 | H2: =SUM(H3:H390) -> 218863.32 | I2: =SUM(I3:I390) -> 12745798
A4: 4th April 2017 | B4: Jan 2017 | C4: Icubes | D4: iCubeswire-029-Jan-2017 | E4: =F4+G4 -> 119244.65 | F4: 103691 | G4: =F4*15% -> 15553.65 | H4: =F4*2% -> 2073.82 | I4: =E4-H4 -> 117170.83
A5: 4th April 2017 | B5: Jan 2017 | C5: OptimIdea | D5: OptiMidea-007-Jan-2017 | E5: =F5+G5 -> 473597.6 | F5: 411824 | G5: =F5*15% -> 61773.6 | H5: =F5*2% -> 8236.48 | I5: =E5-H5 -> 465361.12
B6: May 2016 | C6: Komli Media | D6: Komli-00197-May-2016 | E6: =F6+G6 -> 117279.3 | F6: 101982 | G6: =F6*15% -> 15297.3 | H6: =F6*2% -> 2039.64 | I6: =E6-H6 -> 115239.66
B7: June 2016 | C7: Komli Media | D7: Komli-00198-June-2016 | E7: =F7+G7 -> 295732.85 | F7: 257159 | G7: =F7*15% -> 38573.85 | H7: =F7*2% -> 5143.18 | I7: =E7-H7 -> 290589.67
B8: Aug 2016 | C8: Komli Media | D8: Komli-00204-Aug-2016 | E8: =F8+G8 -> 3795 | F8: 3300 | G8: =F8*15% -> 495 | H8: =F8*2% -> 66 | I8: =E8-H8 -> 3729
B9: Sep 2016 | C9: Komli Media | D9: Komli-00205-Sep-2016 | E9: =F9+G9 -> 64648.4 | F9: 56216 | G9: =F9*15% -> 8432.4 | H9: =F9*2% -> 1124.32 | I9: =E9-H9 -> 63524.08
B10: Oct 2016 | C10: Komli Media | D10: Komli-00206-Oct-2016 | E10: =F10+G10 -> 3044.05 | F10: 2647 | G10: =F10*15% -> 397.05 | H10: =F10*2% -> 52.94 | I10: =E10-H10 -> 2991.11
B11: Nov 2016 | C11: Komli Media | D11: Komli-00207-Nov-2016 | E11: =F11+G11 -> 88555.75 | F11: 77005 | G11: =F11*15% -> 11550.75 | H11: =F11*2% -> 1540.1 | I11: =E11-H11 -> 87015.65
B12: Dec 2016 | C12: Komli Media | D12: Komli-00208-Dec-2016 | E12: =F12+G12 -> 180837.5 | F12: 157250 | G12: =F12*15% -> 23587.5 | H12: =F12*2% -> 3145 | I12: =E12-H12 -> 177692.5
B13: Jan 2017 | C13: Komli Media | D13: Komli-00209-Jan-2017 | E13: =F13+G13 -> 268299.6 | F13: 233304 | G13: =F13*15% -> 34995.6 | H13: =F13*2% -> 4666.08 | I13: =E13-H13 -> 263633.52
A14: 4th Apr 2017 | B14: Feb 2017 | C14: Komli Media | D14: Komli-00210-Feb-2017 | E14: =F14+G14 -> 198444 | F14: 172560 | G14: =F14*15% -> 25884 | H14: =F14*2% -> 3451.2 | I14: =E14-H14 -> 194992.8
A15: 4th Apr 2017 | B15: Jan 2017 | C15: Komli Media | D15: Komli-00211-Jan-2017 | E15: =F15+G15 -> 64198.75 | F15: 55825 | G15: =F15*15% -> 8373.75 | H15: =F15*2% -> 1116.5 | I15: =E15-H15 -> 63082.25
A16: 4th Apr 2017 | B16: Feb 2017 | C16: Komli Media | D16: Komli-00212-Feb-2017 | E16: =F16+G16 -> 12713.25 | F16: 11055 | G16: =F16*15% -> 1658.25 | H16: =F16*2% -> 221.1 | I16: =E16-H16 -> 12492.15
A17: 4th Apr 2017 | B17: Mar 2017 | C17: Komli Media | D17: Komli-00213-Mar-2017 | E17: =F17+G17 -> 59570 | F17: 51800 | G17: =F17*15% -> 7770 | H17: =F17*2% -> 1036 | I17: =E17-H17 -> 58534
A18: 4th Apr 2017 | B18: Jan 2017 | C18: Komli Media | D18: Komli-00214-Jan-2017 | E18: =F18+G18 -> 474487.7 | F18: 412598 | G18: =F18*15% -> 61889.7 | H18: =F18*2% -> 8251.96 | I18: =E18-H18 -> 466235.74
A19: 4th Apr 2017 | B19: Mar 2017 | C19: Xapads | D19: Xapads-003-Mar-2017 | E19: =F19+G19 -> 68975.85 | F19: 59979 | G19: =F19*15% -> 8996.85 | H19: =F19*2% -> 1199.58 | I19: =E19-H19 -> 67776.27
A20: 5th Apr 2017 | B20: Feb 2017 | C20: Dcreative Leap | D20: Dcreative-145-Feb-2017 | E20: =F20+G20 -> 6077.75 | F20: 5285 | G20: =F20*15% -> 792.75 | H20: =F20*2% -> 105.7 | I20: =E20-H20 -> 5972.05
A21: 5th Apr 2017 | B21: Feb 2017 | C21: Dcreative Leap | D21: Dcreative-146-Feb-2017 | E21: =F21+G21 -> 1521.45 | F21: 1323 | G21: =F21*15% -> 198.45 | H21: =F21*2% -> 26.46 | I21: =E21-H21 -> 1494.99
A22: 5th Apr 2017 | B22: Jan 2017 | C22: Dcreative Leap | D22: Dcreative-147-Jan-2017 | E22: =F22+G22 -> 13113.45 | F22: 11403 | G22: =F22*15% -> 1710.45 | H22: =F22*2% -> 228.06 | I22: =E22-H22 -> 12885.39
A23: 5th Apr 2017 | B23: Jan 2017 | C23: Dcreative Leap | D23: Dcreative-148-Jan-2017 | E23: =F23+G23 -> 2651.9 | F23: 2306 | G23: =F23*15% -> 345.9 | H23: =F23*2% -> 46.12 | I23: =E23-H23 -> 2605.78
A24: 5th Apr 2017 | B24: Jan 2017 | C24: Dcreative Leap | D24: Dcreative-149-Jan-2017 | E24: =F24+G24 -> 2257.45 | F24: 1963 | G24: =F24*15% -> 294.45 | H24: =F24*2% -> 39.26 | I24: =E24-H24 -> 2218.19
A25: 5th Apr 2017 | B25: Feb 2017 | C25: Catalyst | D25: Catalyst-003-Feb-2017 | E25: =F25+G25 -> 17721.5 | F25: 15410 | G25: =F25*15% -> 2311.5 | H25: =F25*2% -> 308.2 | I25: =E25-H25 -> 17413.3
... A31: 5th Apr 2017 | B31: Mar 2017 | C31: Xapads | D31: Xapads-007-Mar-2017 | E31: =F31+G31 -> 10753.65 | F31: 9351 | G31: =F31*15% -> 1402.65 | H31: =F31*2% -> 187.02 | I31: =E31-H31 -> 10566.63
A32: 5th Apr 2017 | B32: Mar 2017 | C32: Komli Media | D32: Komli-00215-Mar-2017 | E32: CANCELLED | F32: CANCELLED | G32: CANCELLED | H32: CANCELLED | I32: CANCELLED
A33: 6th Apr 2017 | B33: Feb 2017 | C33: Aqugen Media | D33: AquGen-022-Feb-2017 | E33: =F33+G33 -> 69000 | F33: 60000 | G33: =F33*15% -> 9000 | H33: =F33*2% -> 1200 | I33: =E33-H33 -> 67800
A34: 6th Apr 2017 | B34: Dec 2016 | C34: Opicle Media | D34: OpicleTechnologies-011-Dec-2016 | E34: =F34+G34 -> 251242.8 | F34: 218472 | G34: =F34*15% -> 32770.8 | H34: =F34*2% -> 4369.44 | I34: =E34-H34 -> 246873.36
A35: 6th Apr 2017 | B35: Jan 2017 | C35: Opicle Media | D35: OpicleTechnologies-012-Jan-2017 | E35: =F35+G35 -> 209040.1 | F35: 181774 | G35: =F35*15% -> 27266.1 | H35: =F35*2% -> 3635.48 | I35: =E35-H35 -> 205404.62
A36: 19th Apr 2017 | B36: Feb 2017 | C36: Ads Pay Media | D36: AdsPayMedia-003-Feb-2017 | E36: =F36+G36 -> 32116.05 | F36: 27927 | G36: =F36*15% -> 4189.05 | H36: =F36*2% -> 558.54 | I36: =E36-H36 -> 31557.51
A37: 20th Apr 2017 | B37: Feb 2017 | C37: Adclickzone | D37: Adclickzone-004-Feb-2017 | E37: =F37+G37 -> 26692.65 | F37: 23211 | G37: =F37*15% -> 3481.65 | H37: =F37*2% -> 464.22 | I37: =E37-H37 -> 26228.43
A38: 26th Apr 2017 | B38: Feb 2017 | C38: OptimIdea | D38: OptiMidea-008-Feb-2017 | E38: =F38+G38 -> 501635.75 | F38: 436205 | G38: =F38*15% -> 65430.75 | H38: =F38*2% -> 8724.1 | I38: =E38-H38 -> 492911.65
A39: 27th Apr 2017 | B39: Jan 2017 | C39: Tyroo International | D39: TYROO-00155-Jan-2017 | E39: =F39+G39 -> 62400 | F39: =975*64 -> 62400 | H39: 0 | I39: =E39-H39 -> 62400
A40: 27th Apr 2017 | B40: Feb 2017 | C40: Tyroo International | D40: TYROO-00156-Feb-2017 | E40: =F40+G40 -> 124800 | F40: =1950*64 -> 124800 | H40: 0 | I40: =E40-H40 -> 124800
A41: 27th Apr 2017 | B41: Mar 2017 | C41: Tyroo International | D41: TYROO-00157-Mar-2017 | E41: =F41+G41 -> 41600 | F41: =650*64 -> 41600 | H41: 0 | I41: =E41-H41 -> 41600
A42: 26th Apr 2017 | B42: Feb 2017 | C42: DGMATIX | D42: DGMatix-024-Feb-2017 | E42: =F42+G42 -> 77850.4 | F42: 67696 | G42: =F42*15% -> 10154.4 | H42: =F42*2% -> 1353.92 | I42: =E42-H42 -> 76496.48
A43: 26th Apr 2017 | B43: Mar 2017 | C43: DGMATIX | D43: DGMatix-025-Mar-2017 | E43: =F43+G43 -> 36264.1 | F43: 31534 | G43: =F43*15% -> 4730.1 | H43: =F43*2% -> 630.68 | I43: =E43-H43 -> 35633.42
A44: 30th Apr 2017 | B44: Apr 2017 | C44: ADOMANTRA | D44: Adomantra-0202 | E44: =F44+G44 -> 71875 | F44: 62500 | G44: =F44*15% -> 9375 | H44: =F44*2% -> 1250 | I44: =E44-H44 -> 70625
A45: 30th Apr 2017 | B45: Apr 2017 | C45: ADOMANTRA | D45: Adomantra-0203 | E45: =F45+G45 -> 186875 | F45: 162500 | G45: =F45*15% -> 24375 | H45: =F45*2% -> 3250 | I45: =E45-H45 -> 183625
A46: 30th Apr 2017 | B46: Apr 2017 | C46: ADOMANTRA | D46: Adomantra-0204 | E46: =F46+G46 -> 3496 | F46: 3040 | G46: =F46*15% -> 456 | H46: =F46*2% -> 60.8 | I46: =E46-H46 -> 3435.2
...

Sheet GST-Monthwise
A1: Inv Date | B1: Inv Month | C1: Advertiser | D1: GST Nos | E1: Invoice number | F1: Final Amount | G1: Invoice amt | H1: IGST 18% | I1: CGST 9% | J1: SGST 9% | K1: Less 2% | L1: Amt Receivable
F2: =SUM(F3:F427) -> 19116484 | G2: =SUM(G3:G427) -> 16454248 | H2: =SUM(H3:H427) -> 1572733.6 | I2: =SUM(I3:I427) -> 544751.19 | J2: =SUM(J3:J427) -> 544751.19 | K2: =SUM(K3:K427) -> 295804 | L2: =SUM(L3:L427) -> 18820680
A3: 12th July 2017 | B3: April 2017 | C3: Rappier | D3: 36AAHCR6852P1ZK | E3: Rappier-006-Apr-2017 | F3: =SUM(G3:J3) -> 50763.6 | G3: 43020 | H3: =G3*18% -> 7743.6 | I3: 0 | J3: 0 | K3: =G3*2% -> 860.4 | L3: =F3-K3 -> 49903.2
A4: 14th July 2017 | B4: May 2017 | C4: Vertoz | D4: 27AADCV9357M1ZJ | E4: Vertoz-0015-May-2017 | F4: =SUM(G4:J4) -> 4885.2 | G4: 4140 | H4: 0 | I4: =G4*9% -> 372.6 | J4: =G4*9% -> 372.6 | K4: =G4*2% -> 82.8 | L4: =F4-K4 -> 4802.4
A5: 14th July 2017 | B5: June 2017 | C5: Vertoz | D5: 27AADCV9357M1ZJ | E5: Vertoz-0016-June-2017 | F5: =SUM(G5:J5) -> 17642.18 | G5: 14951 | H5: 0 | I5: =G5*9% -> 1345.59 | J5: =G5*9% -> 1345.59 | K5: =G5*2% -> 299.02 | L5: =F5-K5 -> 17343.16
A6: 15th July 2017 | B6: April 2017 | C6: Admitad Media | D6: 06AANCA9435H1ZE | E6: Admitad-002-April-2017 | F6: CANCELLED | G6: CANCELLED | H6: CANCELLED | I6: 0 | J6: 0 | K6: CANCELLED | L6: CANCELLED
A7: 15th July 2017 | B7: May 2017 | C7: Admitad Media | D7: 06AANCA9435H1ZE | E7: Admitad-003-May-2017 | F7: CANCELLED | G7: CANCELLED | H7: CANCELLED | I7: 0 | J7: 0 | K7: CANCELLED | L7: CANCELLED
A8: 15th July 2017 | B8: May 2017 | C8: Aqugen | D8: 07AANCA1642G1ZT | E8: AquGen-025-May-2017 | F8: =SUM(G8:J8) -> 137647 | G8: 116650 | H8: =G8*18% -> 20997 | I8: 0 | J8: 0 | K8: =G8*2% -> 2333 | L8: =F8-K8 -> 135314
A9: 17th July 2017 | B9: May 2017 | C9: Icubes | D9: 06AAECI2121H1Z2 | E9: iCubeswire-033-May-2017 | F9: =SUM(G9:J9) -> 63973.7 | G9: 54215 | H9: =G9*18% -> 9758.7 | I9: 0 | J9: 0 | K9: =G9*2% -> 1084.3 | L9: =F9-K9 -> 62889.4
A10: 17th July 2017 | B10: June 2017 | C10: Fork Media | D10: 27AACCF1524F1Z2 | E10: Fork Media-070-Jun-2017 | F10: =SUM(G10:J10) -> 18691.2 | G10: 15840 | H10: 0 | I10: =G10*9% -> 1425.6 | J10: =G10*9% -> 1425.6 | K10: =G10*2% -> 316.8 | L10: =F10-K10 -> 18374.4
A11: 17th July 2017 | B11: April 2017 | C11: Fork Media | D11: 27AACCF1524F1Z2 | E11: Fork Media-071-Apr-2017 | F11: =SUM(G11:J11) -> 43188 | G11: 36600 | H11: 0 | I11: =G11*9% -> 3294 | J11: =G11*9% -> 3294 | K11: =G11*2% -> 732 | L11: =F11-K11 -> 42456
A12: 17th July 2017 | B12: April 2017 | C12: Fork Media | E12: Fork Media-072-Apr-2017-INTERNATIONAL | F12: =SUM(G12:J12) -> 12620.07 | G12: =195.66*64.5 -> 12620.07 | H12: 0 | I12: 0 | J12: 0 | K12: 0 | L12: =F12-K12 -> 12620.07
A13: 17th July 2017 | B13: April 2017 | C13: Fork Media | E13: Fork Media-073-Apr-2017-INTERNATIONAL | F13: =SUM(G13:J13) -> 109424.25 | G13: =1696.5*64.5 -> 109424.25 | H13: 0 | I13: 0 | J13: 0 | K13: 0 | L13: =F13-K13 -> 109424.25
A14: 17th July 2017 | B14: June 2017 | C14: Fork Media | E14: Fork Media-074-Jun-2017-INTERNATIONAL | F14: =SUM(G14:J14) -> 32043.6 | G14: =496.8*64.5 -> 32043.6 | H14: 0 | I14: 0 | J14: 0 | K14: 0 | L14: =F14-K14 -> 32043.6
A15: 17th July 2017 | B15: May 2017 | C15: Fork Media | D15: 27AACCF1524F1Z2 | E15: Fork Media-075-May-2017 | F15: =SUM(G15:J15) -> 12307.4 | G15: 10430 | H15: 0 | I15: =G15*9% -> 938.7 | J15: =G15*9% -> 938.7 | K15: =G15*2% -> 208.6 | L15: =F15-K15 -> 12098.8
A16: 17th July 2017 | B16: May 2017 | C16: Fork Media | D16: 27AACCF1524F1Z2 | E16: Fork Media-076-May-2017 | F16: =SUM(G16:J16) -> 30444 | G16: 25800 | H16: 0 | I16: =G16*9% -> 2322 | J16: =G16*9% -> 2322 | K16: =G16*2% -> 516 | L16: =F16-K16 -> 29928
A17: 17th July 2017 | B17: May 2017 | C17: Fork Media | D17: 27AACCF1524F1Z2 | E17: Fork Media-077-May-2017 | F17: =SUM(G17:J17) -> 1416 | G17: 1200 | H17: 0 | I17: =G17*9% -> 108 | J17: =G17*9% -> 108 | K17: =G17*2% -> 24 | L17: =F17-K17 -> 1392
A18: 17th July 2017 | B18: May 2017 | C18: Fork Media | D18: 27AACCF1524F1Z2 | E18: Fork Media-078-May-2017 | F18: =SUM(G18:J18) -> 298.54 | G18: 253 | H18: 0 | I18: =G18*9% -> 22.77 | J18: =G18*9% -> 22.77 | K18: =G18*2% -> 5.06 | L18: =F18-K18 -> 293.48
A19: 17th July 2017 | B19: June 2017 | C19: Fork Media | D19: 27AACCF1524F1Z2 | E19: Fork Media-079-June-2017 | F19: =SUM(G19:J19) -> 479764.4 | G19: 406580 | H19: 0 | I19: =G19*9% -> 36592.2 | J19: =G19*9% -> 36592.2 | K19: =G19*2% -> 8131.6 | L19: =F19-K19 -> 471632.8
A20: 17th July 2017 | B20: June 2017 | C20: Fork Media | D20: 27AACCF1524F1Z2 | E20: Fork Media-080-June-2017 | F20: =SUM(G20:J20) -> 2950 | G20: 2500 | H20: 0 | I20: =G20*9% -> 225 | J20: =G20*9% -> 225 | K20: =G20*2% -> 50 | L20: =F20-K20 -> 2900
A21: 17th July 2017 | B21: June 2017 | C21: Fork Media | D21: 27AACCF1524F1Z2 | E21: Fork Media-081-June-2017 | F21: =SUM(G21:J21) -> 2950 | G21: 2500 | H21: 0 | I21: =G21*9% -> 225 | J21: =G21*9% -> 225 | K21: =G21*2% -> 50 | L21: =F21-K21 -> 2900
A22: 17th July 2017 | B22: May 2017 | C22: Fork Media | D22: 27AACCF1524F1Z2 | E22: Fork Media-082-May-2017 | F22: =SUM(G22:J22) -> 566.4 | G22: 480 | H22: 0 | I22: =G22*9% -> 43.2 | J22: =G22*9% -> 43.2 | K22: =G22*2% -> 9.6 | L22: =F22-K22 -> 556.8
A23: 17th July 2017 | B23: June 2017 | C23: Fork Media | D23: 27AACCF1524F1Z2 | E23: Fork Media-083-June-2017 | F23: =SUM(G23:J23) -> 33040 | G23: 28000 | H23: 0 | I23: =G23*9% -> 2520 | J23: =G23*9% -> 2520 | K23: =G23*2% -> 560 | L23: =F23-K23 -> 32480
A24: 18th July 2017 | B24: May 2017 | C24: Optimidea | D24: 06AACCO3070B1Z0 | E24: OptiMidea-010-May-2017 | F24: =SUM(G24:J24) -> 107295.04 | G24: 90928 | H24: =G24*18% -> 16367.04 | I24: 0 | J24: 0 | K24: =G24*2% -> 1818.56 | L24: =F24-K24 -> 105476.48
A25: 31st July 2017 | B25: June 2017 | C25: Adomantra | D25: 07AANCA2340K1ZN | E25: Adomantra-0219 | F25: =SUM(G25:J25) -> 6403.86 | G25: 5427 | H25: =G25*18% -> 976.86 | I25: 0 | J25: 0 | K25: =G25*2% -> 108.54 | L25: =F25-K25 -> 6295.32
A26: 31st July 2017 | B26: June 2017 | C26: Adomantra | D26: 07AANCA2340K1ZN | E26: Adomantra-0220 | F26: =SUM(G26:J26) -> 5137.72 | G26: 4354 | H26: =G26*18% -> 783.72 | I26: 0 | J26: 0 | K26: =G26*2% -> 87.08 | L26: =F26-K26 -> 5050.64
A27: 31st July 2017 | B27: July 2017 | C27: Adomantra | D27: 07AANCA2340K1ZN | E27: Adomantra-0221 | F27: =SUM(G27:J27) -> 15145.3 | G27: 12835 | H27: =G27*18% -> 2310.3 | I27: 0 | J27: 0 | K27: =G27*2% -> 256.7 | L27: =F27-K27 -> 14888.6
A28: 31st July 2017 | B28: July 2017 | C28: Adomantra | D28: 07AANCA2340K1ZN | E28: Adomantra-0222 | F28: =SUM(G28:J28) -> 11422.4 | G28: 9680 | H28: =G28*18% -> 1742.4 | I28: 0 | J28: 0 | K28: =G28*2% -> 193.6 | L28: =F28-K28 -> 11228.8
A29: 31st July 2017 | B29: July 2017 | C29: Adomantra | D29: 07AANCA2340K1ZN | E29: Adomantra-0223 | F29: =SUM(G29:J29) -> 51508.18 | G29: 43651 | H29: =G29*18% -> 7857.18 | I29: 0 | J29: 0 | K29: =G29*2% -> 873.02 | L29: =F29-K29 -> 50635.16 | M29: July
A30: 31st July 2017 | B30: July 2017 | C30: Adomantra | D30: 07AANCA2340K1ZN | E30: Adomantra-0224 | F30: =SUM(G30:J30) -> 22058.92 | G30: 18694 | H30: =G30*18% -> 3364.92 | I30: 0 | J30: 0 | K30: =G30*2% -> 373.88 | L30: =F30-K30 -> 21685.04 | M30: I-GST | N30: =SUM(H3:H34) -> 84797.28
A31: 31st July 2017 | B31: July 2017 | C31: Adomantra | D31: 07AANCA2340K1ZN | E31: Adomantra-0225 | F31: =SUM(G31:J31) -> 30154.9 | G31: 25555 | H31: =G31*18% -> 4599.9 | I31: 0 | J31: 0 | K31: =G31*2% -> 511.1 | L31: =F31-K31 -> 29643.8 | M31: C-GST | N31: =SUM(I3:I34) -> 49434.66
A32: 31st July 2017 | B32: July 2017 | C32: Adomantra | D32: 07AANCA2340K1ZN | E32: Adomantra-0226 | F32: =SUM(G32:J32) -> 35400 | G32: 30000 | H32: =G32*18% -> 5400 | I32: 0 | J32: 0 | K32: =G32*2% -> 600 | L32: =F32-K32 -> 34800 | M32: S-GST | N32: =SUM(J3:J34) -> 49434.66
A33: 31st July 2017 | B33: May 2017 | C33: Kratos Ads | D33: 29AAFCK7453H1Z6 | E33: KRATOS-ADS-001-May-2017 | F33: =SUM(G33:J33) -> 14868 | G33: 12600 | H33: =G33*18% -> 2268 | I33: 0 | J33: 0 | K33: =G33*2% -> 252 | L33: =F33-K33 -> 14616
A34: 31st July 2017 | B34: June 2017 | C34: Kratos Ads | D34: 29AAFCK7453H1Z6 | E34: KRATOS-ADS-002-June-2017 | F34: =SUM(G34:J34) -> 4114.66 | G34: 3487 | H34: =G34*18% -> 627.66 | I34: 0 | J34: 0 | K34: =G34*2% -> 69.74 | L34: =F34-K34 -> 4044.92 | M34: Total | N34: =SUM(N30:N32) -> 183666.6
A35: 42948
A36: 1st Aug 2017 | B36: July 2017 | C36: SPID Info | D36: 07AAVCS7316R1Z9 | E36: Spid-001-Jul-2017 | F36: =SUM(G36:J36) -> 94400 | G36: 80000 | H36: =G36*18% -> 14400 | I36: 0 | J36: 0 | K36: =G36*2% -> 1600 | L36: =F36-K36 -> 92800
A37: 1st Aug 2017 | B37: July 2017 | C37: SPID Info | D37: 07AAVCS7316R1Z9 | E37: Spid-002-Jul-2017 | F37: =SUM(G37:J37) -> 9440 | G37: 8000 | H37: =G37*18% -> 1440 | I37: 0 | J37: 0 | K37: =G37*2% -> 160 | L37: =F37-K37 -> 9280
A38: 1st Aug 2017 | B38: July 2017 | C38: SPID Info | D38: 07AAVCS7316R1Z9 | E38: Spid-003-Jul-2017 | F38: =SUM(G38:J38) -> 82600 | G38: 70000 | H38: =G38*18% -> 12600 | I38: 0 | J38: 0 | K38: =G38*2% -> 1400 | L38: =F38-K38 -> 81200
A39: 1st Aug 2017 | B39: July 2017 | C39: SPID Info | D39: 07AAVCS7316R1Z9 | E39: Spid-004-Jul-2017 | F39: =SUM(G39:J39) -> 29500 | G39: 25000 | H39: =G39*18% -> 4500 | I39: 0 | J39: 0 | K39: =G39*2% -> 500 | L39: =F39-K39 -> 29000
A40: 3rd Aug 2017 | B40: July 2017 | C40: Bizvin | D40: 07AANFB0437D1ZT | E40: Bizwin-090-July-2017 | F40: =SUM(G40:J40) -> 96288 | G40: 81600 | H40: =G40*18% -> 14688 | I40: 0 | J40: 0 | K40: =G40*2% -> 1632 | L40: =F40-K40 -> 94656
...

Sheet HOME
A1: ADVERTISERS | B1: Turnover | C1: Service Tax | D1: Amt Receivable | E1: Amt Received | F1: Amt Pending
K2: AFTER GST | P2: 13268942
A3: AD2CLICK - SGS Global | B3: =AD2Click!F15 -> 0 | C3: =AD2Click!H15 -> 0 | D3: =AD2Click!L15 -> 0 | E3: =AD2Click!M15 -> 0 | F3: =D3-E3 -> 0 | H3: Total Turnover | I3: =SUM(B3:B58) -> 32094348 | K3: Total Turnover | M3: ='GST-Monthwise'!F2 -> 19116484 | P3: =MONTHWISE!E2+HOME!M3 -> 32081146 | R3: =I3-P3 -> 13202.608
A4: Adbird-Media | B4: ='Adbird-Media'!F23 -> 3450 | C4: ='Adbird-Media'!H23 -> 450 | D4: ='Adbird-Media'!L23 -> 3390 | E4: ='Adbird-Media'!M2 -> 3390 | F4: =D4-E4 -> 0
A5: Ad-Click-Zone | B5: =Adclickzone!F13 -> 74116.5 | C5: =Adclickzone!H13 -> 9685.5 | D5: =Adclickzone!L13 -> 72827.88 | E5: =Adclickzone!M13 -> 72828 | F5: =D5-E5 -> -0.12 | H5: Total Service Tax | I5: =SUM(C3:C58) -> 3758959.7 | K5: Total I-GST | M5: ='GST-Monthwise'!H2 -> 1572733.6
A6: Adhunterz | B6: =Adhunterz!F13 -> 49115.35 | C6: =Adhunterz!H13 -> 6406.35 | D6: =Adhunterz!L13 -> 48261.17 | E6: =Adhunterz!M13 -> 14939 | F6: =D6-E6 -> 33322.17
A7: Admitad | B7: =Admitad!F23 -> 51280.44 | C7: =Admitad!H23 -> 7822.44 | D7: =Admitad!L23 -> 50411.28 | E7: =Admitad!M23 -> 50411 | F7: =D7-E7 -> 0.28 | H7: Amt Receivable | I7: =SUM(D3:D58) -> 31575682 | K7: Total C-GST | M7: ='GST-Monthwise'!I2 -> 544751.19
A8: Admobly | B8: =Admobly!F19 -> 511257.42 | C8: =Admobly!H19 -> 77988.42 | D8: =Admobly!L19 -> 502592.04 | E8: =Admobly!M19 -> 502950 | F8: =D8-E8 -> -357.96
A9: Adomantra | B9: =Adomantra!F2 -> 3828984.5 | C9: =Adomantra!H2 -> 526659.25 | D9: =Adomantra!L2 -> 3762938 | E9: =Adomantra!M2 -> 3762939 | F9: =D9-E9 -> -1.0075 | H9: Amt Received | I9: =SUM(E3:E58) -> 29272872 | K9: Total S-GST | M9: ='GST-Monthwise'!J2 -> 544751.19
A10: AdSpar | B10: =AdSpar!F13 -> 0 | C10: =AdSpar!H13 -> 0 | D10: =AdSpar!L13 -> 0 | E10: =AdSpar!M13 -> 0 | F10: =D10-E10 -> 0
A11: AdsPayMedia | B11: =AdsPayMedia!F14 -> 39701.09 | C11: =AdsPayMedia!H14 -> 5346.09 | D11: =AdsPayMedia!L14 -> 39013.99 | E11: =AdsPayMedia!M14 -> 39010 | F11: =D11-E11 -> 3.99 | H11: Amt Pending | I11: =SUM(F3:F58) -> 2302810.1 | K11: Amt Receivable | M11: ='GST-Monthwise'!L2 -> 18820680
A12: ADS-PLAY-MEDIA | B12: ='ADS-PLAY-MEDIA'!F23 -> 94905.99 | C12: ='ADS-PLAY-MEDIA'!H23 -> 14037.99 | D12: ='ADS-PLAY-MEDIA'!L23 -> 93288.63 | E12: ='ADS-PLAY-MEDIA'!M23 -> 93288 | F12: =D12-E12 -> 0.63
A13: Adzjunction | B13: =Adzjunction!F13 -> 0 | C13: =Adzjunction!H13 -> 0 | D13: =Adzjunction!L13 -> 0 | E13: =Adzjunction!M13 -> 0 | F13: =D13-E13 -> 0
A14: Apoxy | B14: =Apoxy!F14 -> 35048.79 | C14: =Apoxy!H14 -> 4805.79 | D14: =Apoxy!L14 -> 34443.93 | E14: =Apoxy!M14 -> 34443 | F14: =D14-E14 -> 0.93 | H14: UPDATED - 26th JAN 2019 | K14: GST-MONTHWISE
A15: AquGen | B15: =Aqugen!F19 -> 1056371.3 | C15: =Aqugen!H19 -> 157251.3 | D15: =Aqugen!L19 -> 1038388.9 | E15: =Aqugen!M19 -> 1038388 | F15: =D15-E15 -> 0.9
A16: Bizwin | B16: =Bizvin!F2 -> 2408801.7 | C16: =Bizvin!H2 -> 345742.68 | D16: =Bizvin!L2 -> 2367540.5 | E16: =Bizvin!M2 -> 2367542 | F16: =D16-E16 -> -1.5
A17: Catalyst | B17: =Catalyst!F17 -> 50014.56 | C17: =Catalyst!H17 -> 6976.56 | D17: =Catalyst!L17 -> 49153.8 | E17: =Catalyst!M17 -> 49153 | F17: =D17-E17 -> 0.8
A18: Click Thru Network | B18: =CTN!F14 -> 0 | C18: =CTN!H14 -> 0 | D18: =CTN!L14 -> 0 | E18: =CTN!M14 -> 0 | F18: =D18-E18 -> 0
A19: Connectingdots | B19: =Connectingdots!F23 -> 48506.54 | C19: =Connectingdots!H23 -> 7248.54 | D19: =Connectingdots!L23 -> 47681.38 | E19: =Connectingdots!M23 -> 47919 | F19: =D19-E19 -> -237.62 | H19: Click on the Advertiser Name
A20: D-creative | B20: =Dcreative!F2 -> 182296.38 | C20: =Dcreative!H2 -> 24304.38 | D20: =Dcreative!L2 -> 179136.54 | E20: =Dcreative!M2 -> 25621 | F20: =D20-E20 -> 153515.54
A21: DialStar Digital | B21: ='Dial-Star'!F1 -> 2181417.6 | C21: ='Dial-Star'!H1 -> 166379.31 | D21: ='Dial-Star'!M1 -> 2144444.4 | E21: ='Dial-Star'!N1 -> 2008450 | F21: =D21-E21 -> 135994.44
A22: Digidesk | B22: =DigiDesk!F22 -> 0 | C22: =DigiDesk!H22 -> 0 | D22: =DigiDesk!L22 -> 0 | E22: =DigiDesk!M22 -> 0 | F22: =D22-E22 -> 0
A23: Esperto | B23: =Esperto!F13 -> 0 | C23: =Esperto!H13 -> 0 | D23: =Esperto!L13 -> 0 | E23: =Esperto!M13 -> 0 | F23: =D23-E23 -> 0
A24: Fork Media | B24: ='Fork Media'!F2 -> 6625711.2 | C24: ='Fork Media'!H2 -> 640209.96 | D24: ='Fork Media'!M2 -> 6512310.1 | E24: ='Fork Media'!N2 -> 6505238 | F24: =D24-E24 -> 7072.09
A25: Fork Media GCC | B25: ='Fork GCC'!F2 -> 721767.84 | C25: 0 | D25: ='Fork GCC'!K2 -> 721767.84 | E25: ='Fork GCC'!L2 -> 726520.57 | F25: =D25-E25 -> -4752.7324
A26: Hauterfly | B26: =Hauterfly!F2 -> 53100 | C26: =Hauterfly!H2 -> 4050 | D26: =Hauterfly!M2 -> 52200 | E26: =Hauterfly!N2 -> 52200 | F26: =D26-E26 -> 0
A27: HTTPOOL | B27: =HTTPOOL!F15 -> 935175.68 | C27: =HTTPOOL!H15 -> 139939.68 | D27: =HTTPOOL!L15 -> 919270.96 | E27: =HTTPOOL!M15 -> 414773 | F27: =D27-E27 -> 504497.96
A28: Icubes | B28: =iCubes!F20 -> 1181769.4 | C28: =iCubes!H20 -> 170405.37 | D28: =iCubes!L20 -> 1161542.1 | E28: =iCubes!M20 -> 1161542 | F28: =D28-E28 -> 0.09
A29: Investment Guru - B.D Digital | B29: ='Investment Guru'!F18 -> 35182.88 | C29: ='Investment Guru'!H18 -> 2683.44 | D29: ='Investment Guru'!M18 -> 34586.56 | E29: ='Investment Guru'!N18 -> 34470 | F29: =D29-E29 -> 116.56
A30: Isobar | B30: =Isobar!F18 -> 887095.68 | C30: =Isobar!H18 -> 135319.68 | D30: =Isobar!L18 -> 872060.16 | E30: =Isobar!M18 -> 872060 | F30: =D30-E30 -> 0.16
A31: Komli Media | B31: =KOMLI!F2 -> 2484074.6 | C31: =KOMLI!H2 -> 289425.87 | D31: =KOMLI!M2 -> 2436812.8 | E31: =KOMLI!N2 -> 2423844.3 | F31: =D31-E31 -> 12968.533
A32: Kratos | B32: =Kratos!F17 -> 18982.66 | C32: =Kratos!H17 -> 2895.66 | D32: =Kratos!L17 -> 18660.92 | E32: =Kratos!M17 -> 0 | F32: =D32-E32 -> 18660.92
A33: Leadsurf Digital | B33: =Leadsurf!F17 -> 2861.5 | C33: =Leadsurf!H17 -> 436.5 | D33: =Leadsurf!L17 -> 2813 | E33: =Leadsurf!M17 -> 2813 | F33: =D33-E33 -> 0
A34: Media-Conv | B34: ='Media-Conversion'!F22 -> 129312.41 | C34: ='Media-Conversion'!H22 -> 18856.41 | D34: ='Media-Conversion'!L22 -> 127103.29 | E34: ='Media-Conversion'!M22 -> 107169 | F34: =D34-E34 -> 19934.29
A35: Mobinet | B35: =Mobinet!F17 -> 409148.15 | C35: =Mobinet!H17 -> 53367.15 | D35: =Mobinet!L17 -> 402032.53 | E35: =Mobinet!M17 -> 314482 | F35: =D35-E35 -> 87550.53
A36: Myinsuranceclub | B36: =Myinsuranceclub!F14 -> 0 | C36: =Myinsuranceclub!H14 -> 0 | D36: =Myinsuranceclub!L14 -> 0 | E36: =Myinsuranceclub!M14 -> 0 | F36: =D36-E36 -> 0
A37: Opicle | B37: =Opicle!F19 -> 1246933.1 | C37: =Opicle!H19 -> 177277.11 | D37: =Opicle!L19 -> 1225540 | E37: =Opicle!M19 -> 1225540 | F37: =D37-E37 -> -0.01
A38: OptiMidea | B38: =OptiMidea!F14 -> 1420772.1 | C38: =OptiMidea!H14 -> 187690.14 | D38: =OptiMidea!L14 -> 1396110.5 | E38: =OptiMidea!M14 -> 1396110 | F38: =D38-E38 -> 0.5
A39: Pracharnama | B39: =Pracharnama!F15 -> 132609.95 | C39: =Pracharnama!H15 -> 17296.95 | D39: =Pracharnama!L15 -> 130303.69 | E39: =Pracharnama!M15 -> 55528 | F39: =D39-E39 -> 74775.69
A40: Rappier | B40: =Rappier!F16 -> 267877.58 | C40: =Rappier!H16 -> 39851.58 | D40: =Rappier!L16 -> 263317.06 | E40: =Rappier!M16 -> 263315.82 | F40: =D40-E40 -> 1.24
...

Sheet KOMLI
A1: Inv Date | B1: RO No | C1: Campaigns | D1: Adunit | E1: Invoice number | F1: Final Amount | G1: Invoice amt | H1: ServiceTax | J1: Cam End date | K1: Due date | L1: Less 2% | M1: Amt Receivable | N1: Amount Received | O1: Amt Received Date | P1: Status | Q1: Cheque No
A2: HOME | B2: GST - Monthwise | E2: Monthwise | F2: =SUM(F3:F52) -> 2484074.6 | G2: =SUM(G3:G52) -> 2145949 | H2: =SUM(H3:H52) -> 289425.87 | L2: =SUM(L3:L52) -> 47261.753 | M2: =SUM(M3:M52) -> 2436812.8 | N2: =SUM(N3:N52) -> 2423844.3
E3: Komli-00197-May-2016 | F3: =SUM(G3:H3) -> 117279.3 | G3: 101982 | H3: =G3*15% -> 15297.3 | L3: =F3*2% -> 2345.586 | M3: =F3-L3 -> 114933.71 | N3: 114933.42 | O3: 18th July 2017 | P3: CLEAR | Q3: NEFT-PNB
E4: Komli-00198-June-2016 | F4: =SUM(G4:H4) -> 295732.85 | G4: 257159 | H4: =G4*15% -> 38573.85 | L4: =F4*2% -> 5914.657 | M4: =F4-L4 -> 289818.19 | N4: 276692.02 | O4: 18th July 2017 | P4: CLEAR | Q4: NEFT-PNB
E5: Komli-00204-Aug-2016 | F5: =SUM(G5:H5) -> 3795 | G5: 3300 | H5: =G5*15% -> 495 | L5: =F5*2% -> 75.9 | M5: =F5-L5 -> 3719.1 | N5: 3719.1 | O5: 18th July 2017 | P5: CLEAR | Q5: NEFT-PNB
E6: Komli-00205-Sep-2016 | F6: =SUM(G6:H6) -> 64648.4 | G6: 56216 | H6: =G6*15% -> 8432.4 | L6: =F6*2% -> 1292.968 | M6: =F6-L6 -> 63355.432 | N6: 63355.04 | O6: 18th July 2017 | P6: CLEAR | Q6: NEFT-PNB
E7: Komli-00206-Oct-2016 | F7: =SUM(G7:H7) -> 3044.05 | G7: 2647 | H7: =G7*15% -> 397.05 | L7: =F7*2% -> 60.881 | M7: =F7-L7 -> 2983.169 | N7: 2983.12 | O7: 18th July 2017 | P7: CLEAR | Q7: NEFT-PNB
E8: Komli-00207-Nov-2016 | F8: =SUM(G8:H8) -> 88555.75 | G8: 77005 | H8: =G8*15% -> 11550.75 | L8: =F8*2% -> 1771.115 | M8: =F8-L8 -> 86784.635 | N8: 86784.88 | O8: 18th July 2017 | P8: CLEAR | Q8: NEFT-PNB
E9: Komli-00208-Dec-2016 | F9: =SUM(G9:H9) -> 180837.5 | G9: 157250 | H9: =G9*15% -> 23587.5 | L9: =G9*2% -> 3145 | M9: =F9-L9 -> 177692.5 | N9: 177692 | O9: 21st Apr 2017 | P9: CLEAR | Q9: NEFT-PNB
E10: Komli-00209-Jan-2017 | F10: =SUM(G10:H10) -> 268299.6 | G10: 233304 | H10: =G10*15% -> 34995.6 | L10: =F10*2% -> 5365.992 | M10: =F10-L10 -> 262933.61 | N10: 262934 | O10: 18th July 2017 | P10: CLEAR | Q10: NEFT-PNB
A11: 4th Apr 2017 | C11: Native-Advertising | E11: Komli-00210-Feb-2017 | F11: =SUM(G11:H11) -> 198444 | G11: 172560 | H11: =G11*15% -> 25884 | L11: =F11*2% -> 3968.88 | M11: =F11-L11 -> 194475.12 | N11: 194475.12 | O11: 18th July 2017 | P11: CLEAR | Q11: NEFT-PNB
A12: 4th Apr 2017 | C12: Accenture-VAAHINI | E12: Komli-00211-Jan-2017 | F12: =SUM(G12:H12) -> 64198.75 | G12: 55825 | H12: =G12*15% -> 8373.75 | L12: =F12*2% -> 1283.975 | M12: =F12-L12 -> 62914.775 | N12: 62915.02 | O12: 18th July 2017 | P12: CLEAR | Q12: NEFT-PNB
A13: 4th Apr 2017 | C13: Accenture-VAAHINI | E13: Komli-00212-Feb-2017 | F13: =SUM(G13:H13) -> 12713.25 | G13: 11055 | H13: =G13*15% -> 1658.25 | L13: =F13*2% -> 254.265 | M13: =F13-L13 -> 12458.985 | N13: 12458.74 | O13: 18th July 2017 | P13: CLEAR | Q13: NEFT-PNB
A14: 4th Apr 2017 | C14: Accenture-IWD | E14: Komli-00213-Mar-2017 | F14: =SUM(G14:H14) -> 59570 | G14: 51800 | H14: =G14*15% -> 7770 | L14: =F14*2% -> 1191.4 | M14: =F14-L14 -> 58378.6 | N14: 58378.6 | O14: 18th July 2017 | P14: CLEAR | Q14: NEFT-PNB
A15: 4th Apr 2017 | C15: Shopclues | E15: Komli-00214-Jan-2017 | F15: =SUM(G15:H15) -> 474487.7 | G15: 412598 | H15: =G15*15% -> 61889.7 | L15: =F15*2% -> 9489.754 | M15: =F15-L15 -> 464997.95 | N15: 464998.24 | O15: 18th July 2017 | P15: CLEAR | Q15: NEFT-PNB
A16: 5th Apr 2017 | C16: Native-Advertising | E16: Komli-00215-Mar-2017 | F16: CANCELLED | G16: CANCELLED | H16: CANCELLED | L16: CANCELLED | M16: CANCELLED
A17: 31st May 2017 | C17: XANADU-Reality | D17: CPL | E17: Komli-00216-Mar-2017 | F17: =SUM(G17:H17) -> 9487.5 | G17: 8250 | H17: =G17*15% -> 1237.5 | L17: =F17*2% -> 189.75 | M17: =F17-L17 -> 9297.75 | N17: 9404 | O17: 8th Sep 2017 | P17: CLEAR | Q17: NEFT-PNB
A18: 31st May 2017 | C18: Dunkin-Donut | D18: CPV | E18: Komli-00217-May-2017 | F18: =SUM(G18:H18) -> 4473.5 | G18: 3890 | H18: =G18*15% -> 583.5 | L18: =F18*2% -> 89.47 | M18: =F18-L18 -> 4384.03 | N18: 4436 | O18: 2nd Aug 2017 | P18: CLEAR | Q18: NEFT-PNB
C19: LeEco-Mobile | E19: Komli-00218-Credit Note
C20: Credit Note | E20: Komli-00219-Credit Note
A22: Inv Date | B22: RO No | C22: Campaigns | D22: Adunit | E22: Invoice number | F22: Final Amount | G22: Invoice amt | H22: CGST 9% | I22: SGST 9% | J22: Cam End date | K22: Due date | L22: Less 2% | M22: Amt Receivable | N22: Amount Received | O22: Amt Received Date | P22: Status | Q22: Cheque No
A23: 25th Oct 2017 | C23: Udacity | D23: CPM | E23: Komli-00220-Sep-2017 | F23: =SUM(G23:I23) -> 50303.4 | G23: 42630 | H23: =G23*9% -> 3836.7 | I23: =G23*9% -> 3836.7 | L23: =G23*2% -> 852.6 | M23: =F23-L23 -> 49450.8 | N23: 458196 | O23: 17th Jan 2018
A24: 7th Dec 2017 | C24: Bloombergquint-Video | D24: CPM | E24: Komli-00221-Oct-2017 | F24: =SUM(G24:I24) -> 9622.9 | G24: 8155 | H24: =G24*9% -> 733.95 | I24: =G24*9% -> 733.95 | L24: =G24*2% -> 163.1 | M24: =F24-L24 -> 9459.8
A25: 7th Dec 2017 | C25: Tata-Motors | D25: CPR | E25: Komli-00222-Nov-2017 | F25: =SUM(G25:I25) -> 32804 | G25: 27800 | H25: =G25*9% -> 2502 | I25: =G25*9% -> 2502 | L25: =G25*2% -> 556 | M25: =F25-L25 -> 32248
C26: Native-Advertising | E26: Komli-00223-Mar-2017 | F26: =SUM(G26:I26) -> 387756.26 | G26: 328607 | H26: =G26*9% -> 29574.63 | I26: =G26*9% -> 29574.63 | L26: =G26*2% -> 6572.14 | M26: =F26-L26 -> 381184.12
A27: 8th Feb 2018 | C27: Voot | D27: CPV | E27: Komli-00224-Jan-2018 | F27: =SUM(G27:I27) -> 98445.04 | G27: 83428 | H27: =G27*9% -> 7508.52 | I27: =G27*9% -> 7508.52 | L27: =G27*2% -> 1668.56 | M27: =F27-L27 -> 96776.48 | N27: 102673 | O27: 21st Mar 2018
A28: 1st Mar 2018 | C28: Bloomer-Quint | D28: Views | E28: Komli-00225-Feb-2018 | F28: =SUM(G28:I28) -> 59575.84 | G28: 50488 | H28: =G28*9% -> 4543.92 | I28: =G28*9% -> 4543.92 | L28: =G28*2% -> 1009.76 | M28: =F28-L28 -> 58566.08 | N28: 58566 | O28: 30th Apr 2018 | P28: CLEAR | Q28: NEFT-PNB
F29: =SUM(G29:I29) -> 0 | H29: =G29*9% -> 0 | I29: =G29*9% -> 0 | L29: =G29*2% -> 0 | M29: =F29-L29 -> 0 | N29: 8250 | O29: 29th May 2018 | P29: CLEAR | Q29: NEFT-PNB
F30: =SUM(G30:I30) -> 0 | H30: =G30*9% -> 0 | I30: =G30*9% -> 0 | L30: =G30*2% -> 0 | M30: =F30-L30 -> 0
F31: =SUM(G31:I31) -> 0 | H31: =G31*9% -> 0 | I31: =G31*9% -> 0 | L31: =G31*2% -> 0 | M31: =F31-L31 -> 0
F32: =SUM(G32:I32) -> 0 | H32: =G32*9% -> 0 | I32: =G32*9% -> 0 | L32: =G32*2% -> 0 | M32: =F32-L32 -> 0
F33: =SUM(G33:I33) -> 0 | H33: =G33*9% -> 0 | I33: =G33*9% -> 0 | L33: =G33*2% -> 0 | M33: =F33-L33 -> 0
F34: =SUM(G34:I34) -> 0 | H34: =G34*9% -> 0 | I34: =G34*9% -> 0 | L34: =G34*2% -> 0 | M34: =F34-L34 -> 0
F35: =SUM(G35:I35) -> 0 | H35: =G35*9% -> 0 | I35: =G35*9% -> 0 | L35: =G35*2% -> 0 | M35: =F35-L35 -> 0
F36: =SUM(G36:I36) -> 0 | H36: =G36*9% -> 0 | I36: =G36*9% -> 0 | L36: =G36*2% -> 0 | M36: =F36-L36 -> 0
F37: =SUM(G37:I37) -> 0 | H37: =G37*9% -> 0 | I37: =G37*9% -> 0 | L37: =G37*2% -> 0 | M37: =F37-L37 -> 0
F38: =SUM(G38:I38) -> 0 | H38: =G38*9% -> 0 | I38: =G38*9% -> 0 | L38: =G38*2% -> 0 | M38: =F38-L38 -> 0
F39: =SUM(G39:I39) -> 0 | H39: =G39*9% -> 0 | I39: =G39*9% -> 0 | L39: =G39*2% -> 0 | M39: =F39-L39 -> 0
F40: =SUM(G40:I40) -> 0 | H40: =G40*9% -> 0 | I40: =G40*9% -> 0 | L40: =G40*2% -> 0 | M40: =F40-L40 -> 0
F41: =SUM(G41:I41) -> 0 | H41: =G41*9% -> 0 | I41: =G41*9% -> 0 | L41: =G41*2% -> 0 | M41: =F41-L41 -> 0
...

Sheet Fork Media
A1: Inv Date | B1: RO No | C1: Campaigns | D1: Adunit | E1: Invoice number | F1: Final Amount | G1: Invoice amt | H1: ServiceTax | J1: Cam End date | K1: Due date | L1: Less 2% | M1: Amt Receivable | N1: Amount Received | O1: Amt Received Date | P1: Status | Q1: Cheque No | R1: Remarks
A2: HOME | B2: Monthwise | C2: GST - Monthwise | F2: =SUM(F3:F186) -> 6625711.2 | G2: =SUM(G3:G186) -> 5670054 | H2: =SUM(H3:H137) -> 640209.96 | L2: =SUM(L3:L186) -> 113401.08 | M2: =SUM(M3:M186) -> 6512310.1 | N2: =SUM(N3:N186) -> 6505238
A3: 20th Apr 2017 | C3: L&T MF | D3: CPL | E3: Fork Media-039-Dec-2016-L&T-MF | F3: =SUM(G3:H3) -> 2898 | G3: 2520 | H3: =G3*15% -> 378 | L3: =G3*2% -> 50.4 | M3: =F3-L3 -> 2847.6 | N3: 2849 | O3: 21st July 2017 | P3: CLEAR | Q3: NEFT-PNB
A4: 20th Apr 2017 | D4: CPL | E4: Fork Media-040-Jan-2017 | F4: =SUM(G4:H4) -> 302608.7 | G4: 263138 | H4: =G4*15% -> 39470.7 | L4: =G4*2% -> 5262.76 | M4: =F4-L4 -> 297345.94 | N4: 216395 | O4: 21st July 2017 | P4: CLEAR | Q4: NEFT-PNB
A5: 20th Apr 2017 | D5: CPL | E5: Fork Media-041-Feb-2017 | F5: =SUM(G5:H5) -> 214951.1 | G5: 186914 | H5: =G5*15% -> 28037.1 | L5: =G5*2% -> 3738.28 | M5: =F5-L5 -> 211212.82 | N5: 211214 | O5: 22nd Dec 2017 | P5: CLEAR | Q5: CLEAR
A6: 20th Apr 2017 | D6: CPL | E6: Fork Media-042-Mar-2017 | F6: =SUM(G6:H6) -> 421262.25 | G6: 366315 | H6: =G6*15% -> 54947.25 | L6: =G6*2% -> 7326.3 | M6: =F6-L6 -> 413935.95 | N6: 413937 | O6: 22nd Dec 2017 | P6: CLEAR | Q6: CLEAR
A7: 12th May 2017 | B7: * | C7: AMFI | D7: CPM | E7: Fork Media-043-Apr-2017-AMFI | F7: =SUM(G7:H7) -> 345000 | G7: 300000 | H7: =G7*15% -> 45000 | L7: =G7*2% -> 6000 | M7: =F7-L7 -> 339000 | N7: 339000 | O7: 23rd Oct 2017 | P7: CLEAR | Q7: NEFT-PNB
A8: 12th May 2017 | C8: OBV | D8: CPV | E8: Fork Media-044-Mar-2017-OBV | F8: =SUM(G8:H8) -> 70197.15 | G8: 61041 | H8: =G8*15% -> 9156.15 | L8: =G8*2% -> 1220.82 | M8: =F8-L8 -> 68976.33 | N8: 149927 | O8: 10th Aug 2017 | P8: CLEAR | Q8: NEFT-PNB
A9: 12th May 2017 | C9: Indian Express | D9: CPV | E9: Fork Media-046-Apr-2017-Indian-Express | F9: =SUM(G9:H9) -> 26278.65 | G9: 22851 | H9: =G9*15% -> 3427.65 | L9: =G9*2% -> 457.02 | M9: =F9-L9 -> 25821.63 | N9: 25822 | O9: 18th Aug 2017 | P9: CLEAR | Q9: NEFT-PNB
A10: 12th May 2017 | C10: News18 | D10: CPV | E10: Fork Media-047-Apr-2017-News18 | F10: =SUM(G10:H10) -> 32088.45 | G10: 27903 | H10: =G10*15% -> 4185.45 | L10: =G10*2% -> 558.06 | M10: =F10-L10 -> 31530.39 | N10: 31530 | O10: 18th Aug 2017 | P10: CLEAR | Q10: NEFT-PNB
A11: 12th May 2017 | C11: Hotstar IPL | D11: CPV | E11: Fork Media-048-Apr-2017-Hotstar-IPL | F11: =SUM(G11:H11) -> 765.9 | G11: 666 | H11: =G11*15% -> 99.9 | L11: =G11*2% -> 13.32 | M11: =F11-L11 -> 752.58 | N11: 752 | O11: 22nd Dec 2017 | P11: CLEAR | Q11: CLEAR
A12: 12th May 2017 | B12: * | C12: ICICI Lombard | D12: CPM | E12: Fork Media-049-Mar-2017-ICICI-Lombard | F12: =SUM(G12:H12) -> 80960 | G12: 70400 | H12: =G12*15% -> 10560 | L12: =G12*2% -> 1408 | M12: =F12-L12 -> 79552 | N12: 79552 | O12: 22nd Dec 2017 | P12: CLEAR | Q12: CLEAR
A13: 15th May 2017 | C13: Monster | D13: CPC | E13: Fork Media-051-Mar-2017-Monster | F13: =SUM(G13:H13) -> 168284.1 | G13: 146334 | H13: =G13*15% -> 21950.1 | L13: =G13*2% -> 2926.68 | M13: =F13-L13 -> 165357.42 | N13: 165358 | O13: 22nd Dec 2017 | P13: CLEAR | Q13: CLEAR
A14: 12th June 2017 | C14: Pureit | D14: CPV | E14: Fork Media-057-Mar-2017-Pureit | F14: =SUM(G14:H14) -> 119295.25 | G14: 103735 | H14: =G14*15% -> 15560.25 | L14: =G14*2% -> 2074.7 | M14: =F14-L14 -> 117220.55 | N14: 117220 | O14: 22nd Dec 2017 | P14: CLEAR | Q14: CLEAR
A15: 12th June 2017 | C15: Pureit | D15: CPV | E15: Fork Media-058-Apr-2017-Pureit | F15: =SUM(G15:H15) -> 160517 | G15: 139580 | H15: =G15*15% -> 20937 | L15: =G15*2% -> 2791.6 | M15: =F15-L15 -> 157725.4 | N15: 150939 | O15: 9th Feb 2018 | P15: CLEAR | Q15: CLEAR
A16: 12th June 2017 | C16: Pureit | D16: CPV | E16: Fork Media-059-May-2017-Pureit | F16: =SUM(G16:H16) -> 153105.25 | G16: 133135 | H16: =G16*15% -> 19970.25 | L16: =G16*2% -> 2662.7 | M16: =F16-L16 -> 150442.55 | N16: 150443 | O16: 9th Feb 2018 | P16: CLEAR | Q16: CLEAR
A17: 12th June 2017 | C17: ABP News | D17: CPV | E17: Fork Media-060-May-2017-ABP-News | F17: =SUM(G17:H17) -> 21342.85 | G17: 18559 | H17: =G17*15% -> 2783.85 | L17: =G17*2% -> 371.18 | M17: =F17-L17 -> 20971.67 | N17: 20972 | O17: 9th Feb 2018 | P17: CLEAR | Q17: CLEAR
A18: 12th June 2017 | C18: OBV | D18: CPV | E18: Fork Media-061-Apr-2017-OBV | F18: =SUM(G18:H18) -> 140168.9 | G18: 121886 | H18: =G18*15% -> 18282.9 | L18: =G18*2% -> 2437.72 | M18: =F18-L18 -> 137731.18 | N18: 137730 | O18: 9th Feb 2018 | P18: CLEAR | Q18: CLEAR
A19: 30th June 2017 | C19: One-Plus-5 | D19: CPV | E19: Fork Media-065-June-2017 | F19: =SUM(G19:H19) -> 8526.1 | G19: 7414 | H19: =G19*15% -> 1112.1 | L19: =G19*2% -> 148.28 | M19: =F19-L19 -> 8377.82 | N19: 8378 | O19: 26th JUNE 2018 | P19: CLEAR | Q19: NEFT-HDFC
A20: 30th June 2017 | C20: OBV | D20: CPUV | E20: Fork Media-066-Apr-2017 | F20: =SUM(G20:H20) -> 140168.9 | G20: 121886 | H20: =G20*15% -> 18282.9 | L20: =G20*2% -> 2437.72 | M20: =F20-L20 -> 137731.18 | N20: 137731 | O20: 26th JUNE 2018 | P20: CLEAR | Q20: NEFT-HDFC
A21: 30th June 2017 | C21: OBV | D21: CPUV | E21: Fork Media-067-May-2017 | F21: =SUM(G21:H21) -> 45193.85 | G21: 39299 | H21: =G21*15% -> 5894.85 | L21: =G21*2% -> 785.98 | M21: =F21-L21 -> 44407.87 | N21: 44408 | O21: 26th JUNE 2018 | P21: CLEAR | Q21: NEFT-HDFC
A22: 30th June 2017 | C22: ABP-News | D22: CPUV | E22: Fork Media-068-May-2017 | F22: =SUM(G22:H22) -> 21342.85 | G22: 18559 | H22: =G22*15% -> 2783.85 | L22: =G22*2% -> 371.18 | M22: =F22-L22 -> 20971.67 | N22: 20972 | O22: 26th JUNE 2018 | P22: CLEAR | Q22: NEFT-HDFC
A23: 30th June 2017 | C23: Roof-Floor | D23: CPL | E23: Fork Media-069-May-2017 | F23: =SUM(G23:H23) -> 14892.5 | G23: 12950 | H23: =G23*15% -> 1942.5 | L23: =G23*2% -> 259 | M23: =F23-L23 -> 14633.5 | N23: 14634 | O23: 26th JUNE 2018 | P23: CLEAR | Q23: NEFT-HDFC
A25: Inv Date | B25: RO No | C25: Campaigns | D25: Adunit | E25: Invoice number | F25: Final Amount | G25: Invoice amt | H25: CGST 9% | I25: SGST 9% | J25: Cam End date | K25: Due date | L25: Less 2% | M25: Amt Receivable | N25: Amount Received | O25: Amt Received Date | P25: Status | Q25: Cheque No
A26: 17th July 2017 | C26: Move-to-America | D26: CPL | E26: Fork Media-070-Jun-2017 | F26: =SUM(G26:I26) -> 18691.2 | G26: 15840 | H26: =G26*9% -> 1425.6 | I26: =G26*9% -> 1425.6 | L26: =G26*2% -> 316.8 | M26: =F26-L26 -> 18374.4 | N26: 18375 | O26: 9th Feb 2018 | P26: CLEAR | Q26: CLEAR
A27: 17th July 2017 | C27: Iwoza-GCC | D27: CPL | E27: Fork Media-071-Apr-2017 | F27: =SUM(G27:I27) -> 43188 | G27: 36600 | H27: =G27*9% -> 3294 | I27: =G27*9% -> 3294 | L27: =G27*2% -> 732 | M27: =F27-L27 -> 42456 | N27: 42456 | O27: 9th Feb 2018 | P27: CLEAR | Q27: CLEAR
A28: 17th July 2017 | C28: Droom-History | D28: CPUV | E28: Fork Media-075-May-2017 | F28: =SUM(G28:I28) -> 12307.4 | G28: 10430 | H28: =G28*9% -> 938.7 | I28: =G28*9% -> 938.7 | L28: =G28*2% -> 208.6 | M28: =F28-L28 -> 12098.8 | N28: 12099 | O28: 9th Feb 2018 | P28: CLEAR | Q28: CLEAR
A29: 17th July 2017 | C29: Iwoza-GCC | D29: CPL | E29: Fork Media-076-May-2017 | F29: =SUM(G29:I29) -> 30444 | G29: 25800 | H29: =G29*9% -> 2322 | I29: =G29*9% -> 2322 | L29: =G29*2% -> 516 | M29: =F29-L29 -> 29928 | N29: 29928 | O29: 9th Feb 2018 | P29: CLEAR | Q29: CLEAR
A30: 17th July 2017 | C30: 70-Trade-Malaysia | D30: CPL | E30: Fork Media-077-May-2017 | F30: =SUM(G30:I30) -> 1416 | G30: 1200 | H30: =G30*9% -> 108 | I30: =G30*9% -> 108 | L30: =G30*2% -> 24 | M30: =F30-L30 -> 1392 | N30: 1392 | O30: 9th Feb 2018 | P30: CLEAR | Q30: CLEAR
A31: 17th July 2017 | C31: India-Rewards | D31: CPL | E31: Fork Media-078-May-2017 | F31: =SUM(G31:I31) -> 298.54 | G31: 253 | H31: =G31*9% -> 22.77 | I31: =G31*9% -> 22.77 | L31: =G31*2% -> 5.06 | M31: =F31-L31 -> 293.48 | N31: 294 | O31: 9th Feb 2018 | P31: CLEAR | Q31: CLEAR
A32: 17th July 2017 | C32: Pureit | D32: CPV | E32: Fork Media-079-June-2017 | F32: =SUM(G32:I32) -> 479764.4 | G32: 406580 | H32: =G32*9% -> 36592.2 | I32: =G32*9% -> 36592.2 | L32: =G32*2% -> 8131.6 | M32: =F32-L32 -> 471632.8 | N32: 471632 | O32: 5th Mar 2018 | P32: CLEAR | Q32: CLEAR
A33: 17th July 2017 | C33: Orion-Code | D33: CPL | E33: Fork Media-080-June-2017 | F33: =SUM(G33:I33) -> 2950 | G33: 2500 | H33: =G33*9% -> 225 | I33: =G33*9% -> 225 | L33: =G33*2% -> 50 | M33: =F33-L33 -> 2900 | N33: 2900 | O33: 5th Mar 2018 | P33: CLEAR | Q33: CLEAR
A34: 17th July 2017 | C34: Quantum-Code | D34: CPL | E34: Fork Media-081-June-2017 | F34: =SUM(G34:I34) -> 2950 | G34: 2500 | H34: =G34*9% -> 225 | I34: =G34*9% -> 225 | L34: =G34*2% -> 50 | M34: =F34-L34 -> 2900 | N34: 2900 | O34: 5th Mar 2018 | P34: CLEAR | Q34: CLEAR
A35: 17th July 2017 | C35: Iphone-7-Australia | D35: CPL | E35: Fork Media-082-May-2017 | F35: =SUM(G35:I35) -> 566.4 | G35: 480 | H35: =G35*9% -> 43.2 | I35: =G35*9% -> 43.2 | L35: =G35*2% -> 9.6 | M35: =F35-L35 -> 556.8 | N35: 556 | O35: 5th Mar 2018 | P35: CLEAR | Q35: CLEAR
A36: 17th July 2017 | C36: 70-Trade-Malaysia | D36: CPL | E36: Fork Media-083-June-2017 | F36: =SUM(G36:I36) -> 33040 | G36: 28000 | H36: =G36*9% -> 2520 | I36: =G36*9% -> 2520 | L36: =G36*2% -> 560 | M36: =F36-L36 -> 32480 | N36: 32480 | O36: 5th Mar 2018 | P36: CLEAR | Q36: CLEAR
A37: 8th Aug 2017 | C37: Pureit | D37: CPV | E37: Fork Media-084-July-2017 | F37: =SUM(G37:I37) -> 44533.2 | G37: 37740 | H37: =G37*9% -> 3396.6 | I37: =G37*9% -> 3396.6 | L37: =G37*2% -> 754.8 | M37: =F37-L37 -> 43778.4 | N37: 43779 | O37: 5th Mar 2018 | P37: CLEAR | Q37: CLEAR
... A46: 9th Oct 2017 | C46: Firstpost | D46: CPUV | E46: Fork Media-097-Sep-2017 | F46: =SUM(G46:I46) -> 149254.66 | G46: 126487 | H46: =G46*9% -> 11383.83 | I46: =G46*9% -> 11383.83 | L46: =G46*2% -> 2529.74 | M46: =F46-L46 -> 146724.92 | N46: 146725 | O46: 5th Mar 2018 | P46: CLEAR | Q46: CLEAR
A47: 9th Oct 2017 | C47: ABP-News-Marathi-Desktop | D47: CPUV | E47: Fork Media-098-Sep-2017 | F47: =SUM(G47:I47) -> 213391.2 | G47: 180840 | H47: =G47*9% -> 16275.6 | I47: =G47*9% -> 16275.6 | L47: =G47*2% -> 3616.8 | M47: =F47-L47 -> 209774.4 | N47: 209775 | P47: CLEAR | Q47: Against Skype INV
A48: 9th Oct 2017 | C48: IFFCO-Bazaar-Quiz | D48: CPR | E48: Fork Media-099-Sep-2017 | F48: =SUM(G48:I48) -> 424.8 | G48: 360 | H48: =G48*9% -> 32.4 | I48: =G48*9% -> 32.4 | L48: =G48*2% -> 7.2 | M48: =F48-L48 -> 417.6 | N48: 417 | O48: 5th Mar 2018 | P48: CLEAR | Q48: CLEAR
A49: 11th Oct 2017 | B49: * | C49: Air-India | D49: CPM | E49: Fork Media-100-Oct-2017 | F49: =SUM(G49:I49) -> 185850 | G49: 157500 | H49: =G49*9% -> 14175 | I49: =G49*9% -> 14175 | L49: =G49*2% -> 3150 | M49: =F49-L49 -> 182700 | N49: 182700 | P49: CLEAR | Q49: Against Skype INV
...

Sheet Fork GCC
A1: Inv Date | B1: RO No | C1: Campaigns | D1: Adunit | E1: Invoice number | F1: Final Amount | G1: Invoice amt | H1: Cam End date | I1: Due date | J1: Less 2% | K1: Amt Receivable | L1: Amount Received | M1: Amt Received Date | N1: Status | O1: Cheque No
A2: HOME | B2: Monthwise | C2: GST - Monthwise | F2: =SUM(F3:F182) -> 721767.84 | G2: =SUM(G3:G182) -> 369609.98 | J2: =SUM(J3:J182) -> 0 | K2: =SUM(K3:K182) -> 721767.84 | L2: =SUM(L3:L182) -> 726520.57
A3: 12th May 2017 | C3: Chevrolet | D3: CPC | E3: Fork Media-045-Apr-2017-Chevrolet | F3: =SUM(G3:G3) -> 103220.48 | G3: =1612.82*64 -> 103220.48 | K3: =F3-J3 -> 103220.48 | L3: 101030 | M3: 16th Aug 2017 | N3: CLEAR | O3: NEFT-PNB
A4: 17th July 2017 | C4: CitiBank-GCC | D4: CPL | E4: Fork Media-072-Apr-2017 | F4: =SUM(G4:G4) -> 12620.07 | G4: =195.66*64.5 -> 12620.07 | J4: 0 | K4: =F4-J4 -> 12620.07 | L4: 117984 | M4: 16th Feb 2018 | N4: CLEAR | O4: NEFT-PNB
A5: 17th July 2017 | C5: Toyota-Dubai-GCC | D5: CPL | E5: Fork Media-073-Apr-2017 | F5: =SUM(G5:G5) -> 109424.25 | G5: =1696.5*64.5 -> 109424.25 | J5: 0 | K5: =F5-J5 -> 109424.25
A6: 17th July 2017 | C6: Nissan-Dubai-GCC | D6: CPL | E6: Fork Media-074-Jun-2017 | F6: =SUM(G6:G6) -> 33534 | G6: =496.8*67.5 -> 33534 | J6: 0 | K6: =F6-J6 -> 33534 | N6: CLEAR | O6: NEFT-PNB
A7: 19th Sep 2017 | C7: Nissan Dubai | D7: CPL | E7: Fork Media-092-Jul-2017 | F7: =SUM(G7:G7) -> 14414.112 | G7: =224.1*64.32 -> 14414.112 | J7: 0 | K7: =F7-J7 -> 14414.112 | M7: 4th Dec 2017 | N7: CLEAR | O7: NEFT-PNB
A8: 19th Sep 2017 | C8: Volvo V40 UAE | D8: CPL | E8: Fork Media-093-Jul-2017 | F8: =SUM(G8:G8) -> 1300.5504 | G8: =20.22*64.32 -> 1300.5504 | J8: 0 | K8: =F8-J8 -> 1300.5504 | M8: 4th Dec 2017 | N8: CLEAR | O8: NEFT-PNB
A9: 19th Sep 2017 | C9: Volvo S90 UAE | D9: CPL | E9: Fork Media-094-Jul-2017 | F9: =SUM(G9:G9) -> 1950.8256 | G9: =30.33*64.32 -> 1950.8256 | J9: 0 | K9: =F9-J9 -> 1950.8256 | M9: 4th Dec 2017 | N9: CLEAR | O9: NEFT-PNB
A10: 19th Sep 2017 | C10: Nissan Dubai | D10: CPL | E10: Fork Media-095-Aug-2017 | F10: =SUM(G10:G10) -> 30429.792 | G10: =473.1*64.32 -> 30429.792 | J10: 0 | K10: =F10-J10 -> 30429.792 | L10: 48144 | M10: 4th Dec 2017 | N10: CLEAR | O10: NEFT-PNB
A11: 9th Nov 2017 | C11: Volvo-V40-UAE-GCC | D11: CPL | E11: Fork Media-104-Aug-2017 | F11: =SUM(G11:G11) -> 17920 | G11: =280*64 -> 17920 | J11: 0 | K11: =F11-J11 -> 17920 | L11: 57905 | M11: 5th Mar 2018 | N11: CLEAR | O11: NEFT-PNB
A12: 9th Nov 2017 | C12: Volvo-S90-UAE-GCC | D12: CPL | E12: Fork Media-105-Aug-2017 | F12: =SUM(G12:G12) -> 9600 | G12: =150*64 -> 9600 | J12: 0 | K12: =F12-J12 -> 9600 | N12: CLEAR | O12: NEFT-PNB
A13: 9th Nov 2017 | C13: Nissan-Dubai-GCC | D13: CPL | E13: Fork Media-108-Oct-2017 | F13: =SUM(G13:G13) -> 29792 | G13: =465.5*64 -> 29792 | J13: 0 | K13: =F13-J13 -> 29792 | N13: CLEAR | O13: NEFT-PNB
A14: 15th Jan 2018 | B14: 9.45 | C14: Bupa-Dubai | D14: CPL | E14: Fork Media-GCC-001-Nov-2017 | F14: =G14*64 -> 16934.4 | G14: =28*B14 -> 264.6 | K14: =F14 -> 16934.4
A15: 15th Jan 2018 | B15: 10.25 | C15: Al-Zahia-UAE | D15: CPL | E15: Fork Media-GCC-002-Nov-2017 | F15: =G15*64 -> 20992 | G15: =32*B15 -> 328 | K15: =F15 -> 20992
A16: 12th Feb 2018 | B16: 3.9 | C16: Central-Park | D16: CPM | E16: Fork Media-GCC-003-Dec-2017 | F16: =G16*64 -> 29373.178 | G16: =117681/1000*B16 -> 458.9559 | K16: =F16 -> 29373.178
A17: 12th Feb 2018 | B17: 12.45 | C17: Nissan-Dubai | D17: CPL | E17: Fork Media-GCC-004-Dec-2017 | F17: =G17*64 -> 28684.8 | G17: =36*B17 -> 448.2 | K17: =F17 -> 28684.8 | L17: 99137.57 | M17: 11th May 2018 | N17: CLEAR | O17: NEFT-PNB
A18: 28th Mar 2018 | B18: 0 | C18: VARIOUS CPL | D18: CPL | E18: Fork Media-GCC-005-Feb-2018 | F18: =G18*67 -> 261577.38 | G18: 3904.14 | K18: =F18 -> 261577.38 | L18: 128986 | M18: 14th June 2018 | N18: CLEAR | O18: NEFT-PNB
B19: 0 | K19: =F19 -> 0 | L19: 173334 | N19: CLEAR | O19: NEFT-PNB

Sheet SPID
A1: Inv Date | B1: RO No | C1: Campaigns | D1: Adunit | E1: Invoice number | F1: Final Amount | G1: Invoice amt | H1: ServiceTax | I1: Cam End date | J1: Due date | K1: Less 2% | L1: Amt Receivable | M1: Amount Received | N1: Amt Received Date | O1: Status | P1: Cheque No | Q1: Remarks
A2: HOME | B2: Monthwise | C2: GST - Monthwise | F2: =SUM(F3:F134) -> 2789778.7 | G2: =SUM(G3:G134) -> 2375423 | H2: =SUM(H3:H85) -> 414355.74 | K2: =SUM(K3:K134) -> 47508.46 | L2: =SUM(L3:L134) -> 2742270.3 | M2: =SUM(M3:M134) -> 1479471
A4: 15th May 2017 | C4: ICICI Lombard | D4: CPM | E4: Fork Media-050-Apr-2017-ICICI-Lombard | F4: =SUM(G4:H4) -> 235031.25 | G4: 204375 | H4: =G4*15% -> 30656.25 | K4: =G4*2% -> 4087.5 | L4: =F4-K4 -> 230943.75 | M4: 230944 | O4: CLEAR | P4: 000240
A5: 12th June 2017 | B5: Spid/565/May17 | C5: BITS Pilani | D5: CPC | E5: Fork Media-052-May-2017-BITS-Pilani | F5: =SUM(G5:H5) -> 23000 | G5: 20000 | H5: =G5*15% -> 3000 | K5: =G5*2% -> 400 | L5: =F5-K5 -> 22600 | M5: 22600 | O5: CLEAR | P5: 000240
A6: 12th June 2017 | B6: Spid/572/May17 | C6: BITS Pilani | D6: CPC | E6: Fork Media-053-May-2017-BITS-Pilani | F6: =SUM(G6:H6) -> 73600 | G6: 64000 | H6: =G6*15% -> 9600 | K6: =G6*2% -> 1280 | L6: =F6-K6 -> 72320 | M6: 72320 | O6: CLEAR | P6: 000240
A7: 12th June 2017 | B7: Spid/573/June17 | C7: BITS Pilani | D7: CPC | E7: Fork Media-054-June-2017-BITS-Pilani | F7: =SUM(G7:H7) -> 18400 | G7: 16000 | H7: =G7*15% -> 2400 | K7: =G7*2% -> 320 | L7: =F7-K7 -> 18080 | M7: 18080 | O7: CLEAR | P7: 000240
A8: 12th June 2017 | B8: Spid/592/June17 | C8: MasterCard | D8: CPC | E8: Fork Media-055-June-2017-MasterCard | F8: =SUM(G8:H8) -> 552 | G8: 480 | H8: =G8*15% -> 72 | K8: =G8*2% -> 9.6 | L8: =F8-K8 -> 542.4 | M8: 541 | O8: CLEAR | P8: 000240
A9: 12th June 2017 | B9: Spid/570/May17 | C9: Airtel International | D9: CPM | E9: Fork Media-056-May-2017-Airtel-International | F9: =SUM(G9:H9) -> 57501.15 | G9: 50001 | H9: =G9*15% -> 7500.15 | K9: =G9*2% -> 1000.02 | L9: =F9-K9 -> 56501.13 | M9: 56501 | N9: 26th Oct 2018 | O9: CLEAR | P9: NEFT-PNB
A10: 30th June 2017 | B10: Spid/576/June17 | C10: Citibank-Geo-Fencing | D10: CPM | E10: Fork Media-062-June-2017 | F10: =SUM(G10:H10) -> 68130.6 | G10: 59244 | H10: =G10*15% -> 8886.6 | K10: =G10*2% -> 1184.88 | L10: =F10-K10 -> 66945.72 | M10: 66945 | N10: 28th Dec 2017 | P10: 000248
A11: 30th June 2017 | B11: Spid/591/June17 | C11: Airtel International | D11: CPM | E11: Fork Media-063-June-2017 | F11: =SUM(G11:H11) -> 28750 | G11: 25000 | H11: =G11*15% -> 3750 | K11: =G11*2% -> 500 | L11: =F11-K11 -> 28250 | M11: 28250 | P11: 000248
A12: 30th June 2017 | B12: Spid/601/June17 | C12: Mastercard | D12: CPC | E12: Fork Media-064-June-2017 | F12: =SUM(G12:H12) -> 1817 | G12: 1580 | H12: =G12*15% -> 237 | K12: =G12*2% -> 31.6 | L12: =F12-K12 -> 1785.4 | M12: 1785 | P12: 000248
A14: Inv Date | B14: RO No | C14: Campaigns | D14: Adunit | E14: Invoice number | F14: Final Amount | G14: Invoice amt | H14: IGST 18% | I14: Cam End date | J14: Due date | K14: Less 2% | L14: Amt Receivable | M14: Amount Received | N14: Amt Received Date | O14: Status | P14: Cheque No
A15: 1st Aug 2017 | B15: Spid/604/July17 | C15: NAC Jewellers | D15: CPM | E15: Spid-001-Jul-2017 | F15: =SUM(G15:H15) -> 94400 | G15: 80000 | H15: =G15*18% -> 14400 | K15: =G15*2% -> 1600 | L15: =F15-K15 -> 92800 | M15: 92800 | N15: 26th Oct 2018 | O15: CLEAR | P15: NEFT-PNB
A16: 1st Aug 2017 | B16: Spid/611/July17 | C16: NAC Jewellers | D16: CPM | E16: Spid-002-Jul-2017 | F16: =SUM(G16:H16) -> 9440 | G16: 8000 | H16: =G16*18% -> 1440 | K16: =G16*2% -> 160 | L16: =F16-K16 -> 9280 | M16: 9280 | N16: 26th Oct 2018 | O16: CLEAR | P16: NEFT-PNB
A17: 1st Aug 2017 | B17: Spid/607/July17 | C17: Airtel | D17: CPM | E17: Spid-003-Jul-2017 | F17: =SUM(G17:H17) -> 82600 | G17: 70000 | H17: =G17*18% -> 12600 | K17: =G17*2% -> 1400 | L17: =F17-K17 -> 81200 | M17: 81200 | N17: 26th Oct 2018 | O17: CLEAR | P17: NEFT-PNB
A18: 1st Aug 2017 | B18: Spid/614/July17 | C18: Giftex | D18: CPC | E18: Spid-004-Jul-2017 | F18: =SUM(G18:H18) -> 29500 | G18: 25000 | H18: =G18*18% -> 4500 | K18: =G18*2% -> 500 | L18: =F18-K18 -> 29000 | M18: 29000 | N18: 26th Oct 2018 | O18: CLEAR | P18: NEFT-PNB
A19: 31st Aug 2017 | B19: Spid/618/Aug17 | C19: Citi Geo Fencing | D19: CPM | E19: Spid-005-Aug-2017 | F19: =SUM(G19:H19) -> 29500 | G19: 25000 | H19: =G19*18% -> 4500 | K19: =G19*2% -> 500 | L19: =F19-K19 -> 29000 | M19: 29000 | P19: 000248
A20: 31st Aug 2017 | B20: Spid/620/Aug17 | C20: Amex | D20: CPM | E20: Spid-006-Aug-2017 | F20: =SUM(G20:H20) -> 53100 | G20: 45000 | H20: =G20*18% -> 8100 | K20: =G20*2% -> 900 | L20: =F20-K20 -> 52200 | M20: 52200 | P20: 000248
A21: 31st Aug 2017 | B21: Spid/619/Aug17 | C21: Coverfox | D21: CPC | E21: Spid-007-Aug-2017 | F21: =SUM(G21:H21) -> 17341.28 | G21: 14696 | H21: =G21*18% -> 2645.28 | K21: =G21*2% -> 293.92 | L21: =F21-K21 -> 17047.36 | M21: 17047 | P21: 000248
A22: 31st Aug 2017 | B22: Spid/625/Aug17 | C22: Panvelkar | D22: CPM | E22: Spid-008-Aug-2017 | F22: =SUM(G22:H22) -> 16284 | G22: 13800 | H22: =G22*18% -> 2484 | K22: =G22*2% -> 276 | L22: =F22-K22 -> 16008 | M22: 16008 | P22: 000248
